BEGIN:VCALENDAR
VERSION:2.0
PRODID:-//St. Bernard&#039;s Health and Safety Institute - ECPv6.15.17.1//NONSGML v1.0//EN
CALSCALE:GREGORIAN
METHOD:PUBLISH
X-WR-CALNAME:St. Bernard&#039;s Health and Safety Institute
X-ORIGINAL-URL:https://healthandsafety.com.mt
X-WR-CALDESC:Events for St. Bernard&#039;s Health and Safety Institute
REFRESH-INTERVAL;VALUE=DURATION:PT1H
X-Robots-Tag:noindex
X-PUBLISHED-TTL:PT1H
BEGIN:VTIMEZONE
TZID:Europe/London
BEGIN:DAYLIGHT
TZOFFSETFROM:+0000
TZOFFSETTO:+0100
TZNAME:BST
DTSTART:20240331T010000
END:DAYLIGHT
BEGIN:STANDARD
TZOFFSETFROM:+0100
TZOFFSETTO:+0000
TZNAME:GMT
DTSTART:20241027T010000
END:STANDARD
BEGIN:DAYLIGHT
TZOFFSETFROM:+0000
TZOFFSETTO:+0100
TZNAME:BST
DTSTART:20250330T010000
END:DAYLIGHT
BEGIN:STANDARD
TZOFFSETFROM:+0100
TZOFFSETTO:+0000
TZNAME:GMT
DTSTART:20251026T010000
END:STANDARD
BEGIN:DAYLIGHT
TZOFFSETFROM:+0000
TZOFFSETTO:+0100
TZNAME:BST
DTSTART:20260329T010000
END:DAYLIGHT
BEGIN:STANDARD
TZOFFSETFROM:+0100
TZOFFSETTO:+0000
TZNAME:GMT
DTSTART:20261025T010000
END:STANDARD
BEGIN:DAYLIGHT
TZOFFSETFROM:+0000
TZOFFSETTO:+0100
TZNAME:BST
DTSTART:20270328T010000
END:DAYLIGHT
BEGIN:STANDARD
TZOFFSETFROM:+0100
TZOFFSETTO:+0000
TZNAME:GMT
DTSTART:20271031T010000
END:STANDARD
END:VTIMEZONE
BEGIN:VEVENT
DTSTART;TZID=Europe/London:20250502T100000
DTEND;TZID=Europe/London:20250502T130000
DTSTAMP:20260424T010041
CREATED:20250207T123248Z
LAST-MODIFIED:20250328T084427Z
UID:40678-1746180000-1746190800@healthandsafety.com.mt
SUMMARY:Basic Fire Safety including Fire Warden Course
DESCRIPTION:Suitability: This course is designed for individuals who want to gain comprehensive knowledge in fire safety and for those responsible for acting as fire wardens in their workplace. It provides participants with the necessary skills to implement proactive fire prevention measures\, ensure occupant safety during a fire\, and manage building evacuation procedures. The course is also suitable for individuals renewing an existing qualification in fire safety or fire warden duties. \nCourse Content:\nParticipants will cover essential fire safety topics\, including: \n\nUnderstanding fire risks and prevention measures at home and in the workplace\nIdentifying potential fire hazards and implementing safety precautions\nUsing fire safety equipment such as fire extinguishers\nResponding to a fire outbreak and taking appropriate actions\nManaging evacuations and ensuring occupant safety during emergencies\nFire warden responsibilities\, including the maintenance of fire safety procedures and assisting in fire drills\n\nValidity: The certification is valid for 3 years. \nCourse Assessment: At the end of the course\, participants will complete a multiple-choice assessment to ensure their understanding of the course material. The tutor will provide feedback to address any gaps in knowledge. \nCertification: Upon successful completion of the course\, participants will receive a Fire Safety & Fire Warden Certificate\, valid for 3 years.
URL:https://healthandsafety.com.mt/schedule/basic-fire-safety-including-fire-warden-course-4/
LOCATION:St Bernard’s Safety Training Centre\, St. Bernard's Health and Safety Centre\, No 11\, Left Entrance\, Triq tal-Hriereb. Msida\, Malta\, Msida\, Malta
CATEGORIES:Fire Safety
ATTACH;FMTTYPE=image/png:https://healthandsafety.com.mt/wp-content/uploads/2022/05/picture-Fire-Safety-Management-e1736670653193.png
ORGANIZER;CN="St Bernard's Safety Training Centre":MAILTO:safetytrainingmalta@gmail.com
END:VEVENT
BEGIN:VEVENT
DTSTART;TZID=Europe/London:20250509T093000
DTEND;TZID=Europe/London:20250509T133000
DTSTAMP:20260424T010041
CREATED:20250115T113849Z
LAST-MODIFIED:20250318T111438Z
UID:39350-1746783000-1746797400@healthandsafety.com.mt
SUMMARY:Basic First Aid Course
DESCRIPTION:Basic First Aid Course\n\n\nSuitability: This course is suitable for anyone who would like to learn some basic first aid techniques in handling accidents or illnesses. It provides clear awareness of what has to be done until professional medical assistance takes over. This course is also suitable to renew an existing qualification in the subject \nValidity of Certificate: 3 years \nCourse Assessment: During the Basic First course\, participants are practically assessed on the various practical aspects (mentioned below). At the end of the course\, participants are assessed by a theory assessment sheet to assess understanding of main topics \nCertification: Upon completing the course\, each participant will be issued with a Basic First Aid certificate \nThe Basic First Aid course includes practice of Primary Survey concluded by CPR on adult manikin\, Secondary Survey concluded by the recovery position\, practice of various wound dressing and sling-making
URL:https://healthandsafety.com.mt/schedule/basic-first-aid-course-18/
LOCATION:St Bernard’s Safety Training Centre\, St. Bernard's Health and Safety Centre\, No 11\, Left Entrance\, Triq tal-Hriereb. Msida\, Malta\, Msida\, Malta
CATEGORIES:First Aid
ATTACH;FMTTYPE=image/jpeg:https://healthandsafety.com.mt/wp-content/uploads/2024/12/c-scaled-1.jpg
ORGANIZER;CN="St Bernard's Safety Training Centre":MAILTO:safetytrainingmalta@gmail.com
END:VEVENT
BEGIN:VEVENT
DTSTART;TZID=Europe/London:20250515T093000
DTEND;TZID=Europe/London:20250515T133000
DTSTAMP:20260424T010041
CREATED:20250421T190320Z
LAST-MODIFIED:20250421T191119Z
UID:48222-1747301400-1747315800@healthandsafety.com.mt
SUMMARY:Basic Fire inc Fire Warden Course
DESCRIPTION:
URL:https://healthandsafety.com.mt/schedule/basic-fire-inc-fire-warden-course/
LOCATION:St Bernard’s Safety Training Centre\, St. Bernard's Health and Safety Centre\, No 11\, Left Entrance\, Triq tal-Hriereb. Msida\, Malta\, Msida\, Malta
CATEGORIES:Fire Safety
ATTACH;FMTTYPE=image/jpeg:https://healthandsafety.com.mt/wp-content/uploads/2025/02/Fire-Drill-scaled.jpg
ORGANIZER;CN="St Bernard's Safety Training Centre":MAILTO:safetytrainingmalta@gmail.com
END:VEVENT
BEGIN:VEVENT
DTSTART;TZID=Europe/London:20250517T093000
DTEND;TZID=Europe/London:20250517T123000
DTSTAMP:20260424T010041
CREATED:20250307T133435Z
LAST-MODIFIED:20250307T133435Z
UID:45085-1747474200-1747485000@healthandsafety.com.mt
SUMMARY:Paediatric First Aid Course
DESCRIPTION:
URL:https://healthandsafety.com.mt/schedule/paediatric-first-aid-course-9/
LOCATION:Mini Me Childcare\, Dingli\, 46\, Triq il-Gnien\, Dingli\, Dingli\, Malta
CATEGORIES:First Aid
ATTACH;FMTTYPE=image/png:https://healthandsafety.com.mt/wp-content/uploads/2022/05/picture-Paediatric-Emergency-First-Aid-online-e1736670601301.png
ORGANIZER;CN="St Bernard's Safety Training Centre":MAILTO:safetytrainingmalta@gmail.com
END:VEVENT
BEGIN:VEVENT
DTSTART;TZID=Europe/London:20250529T093000
DTEND;TZID=Europe/London:20250529T133000
DTSTAMP:20260424T010041
CREATED:20250421T190839Z
LAST-MODIFIED:20250421T190839Z
UID:48228-1748511000-1748525400@healthandsafety.com.mt
SUMMARY:Basic Fire Safety inc Fire Warden Course
DESCRIPTION:
URL:https://healthandsafety.com.mt/schedule/basic-fire-safety-inc-fire-warden-course-2/
LOCATION:St Bernard’s Safety Training Centre\, St. Bernard's Health and Safety Centre\, No 11\, Left Entrance\, Triq tal-Hriereb. Msida\, Malta\, Msida\, Malta
CATEGORIES:Fire Safety
ATTACH;FMTTYPE=image/jpeg:https://healthandsafety.com.mt/wp-content/uploads/2025/02/Fire-Risk-Assessment-scaled.jpg
ORGANIZER;CN="St Bernard's Safety Training Centre":MAILTO:safetytrainingmalta@gmail.com
END:VEVENT
BEGIN:VEVENT
DTSTART;TZID=Europe/London:20250604T093000
DTEND;TZID=Europe/London:20250604T133000
DTSTAMP:20260424T010041
CREATED:20250414T130332Z
LAST-MODIFIED:20250509T170535Z
UID:47708-1749029400-1749043800@healthandsafety.com.mt
SUMMARY:Basic First Aid Course
DESCRIPTION:
URL:https://healthandsafety.com.mt/schedule/basic-first-aid-course-20/
LOCATION:St Bernard’s Safety Training Centre\, St. Bernard's Health and Safety Centre\, No 11\, Left Entrance\, Triq tal-Hriereb. Msida\, Malta\, Msida\, Malta
CATEGORIES:First Aid
ATTACH;FMTTYPE=image/png:https://healthandsafety.com.mt/wp-content/uploads/2025/03/first-aid4.png
ORGANIZER;CN="St Bernard's Safety Training Centre":MAILTO:safetytrainingmalta@gmail.com
END:VEVENT
BEGIN:VEVENT
DTSTART;TZID=Europe/London:20250715T130000
DTEND;TZID=Europe/London:20250715T170000
DTSTAMP:20260424T010041
CREATED:20250523T082610Z
LAST-MODIFIED:20250620T095344Z
UID:50785-1752584400-1752598800@healthandsafety.com.mt
SUMMARY:Basic First Aid
DESCRIPTION:
URL:https://healthandsafety.com.mt/schedule/basic-first-aid-6/
LOCATION:St Bernard’s Safety Training Centre\, St. Bernard's Health and Safety Centre\, No 11\, Left Entrance\, Triq tal-Hriereb. Msida\, Malta\, Msida\, Malta
CATEGORIES:First Aid
ATTACH;FMTTYPE=image/png:https://healthandsafety.com.mt/wp-content/uploads/2025/03/first-aid4.png
ORGANIZER;CN="St Bernard's Safety Training Centre":MAILTO:safetytrainingmalta@gmail.com
END:VEVENT
BEGIN:VEVENT
DTSTART;TZID=Europe/London:20250722T130000
DTEND;TZID=Europe/London:20250722T170000
DTSTAMP:20260424T010041
CREATED:20250523T101204Z
LAST-MODIFIED:20250523T101204Z
UID:50812-1753189200-1753203600@healthandsafety.com.mt
SUMMARY:Basic First Aid
DESCRIPTION:
URL:https://healthandsafety.com.mt/schedule/basic-first-aid-7/
LOCATION:St Bernard’s Safety Training Centre\, St. Bernard's Health and Safety Centre\, No 11\, Left Entrance\, Triq tal-Hriereb. Msida\, Malta\, Msida\, Malta
CATEGORIES:First Aid
ATTACH;FMTTYPE=image/png:https://healthandsafety.com.mt/wp-content/uploads/2025/03/first-aid4.png
ORGANIZER;CN="St Bernard's Safety Training Centre":MAILTO:safetytrainingmalta@gmail.com
END:VEVENT
BEGIN:VEVENT
DTSTART;TZID=Europe/London:20250728T093000
DTEND;TZID=Europe/London:20250728T133000
DTSTAMP:20260424T010041
CREATED:20250710T091807Z
LAST-MODIFIED:20250710T091807Z
UID:55310-1753695000-1753709400@healthandsafety.com.mt
SUMMARY:Basic First Aid
DESCRIPTION:
URL:https://healthandsafety.com.mt/schedule/basic-first-aid-9/
LOCATION:St Bernard’s Safety Training Centre\, St. Bernard's Health and Safety Centre\, No 11\, Left Entrance\, Triq tal-Hriereb. Msida\, Malta\, Msida\, Malta
CATEGORIES:First Aid
ATTACH;FMTTYPE=image/png:https://healthandsafety.com.mt/wp-content/uploads/2025/03/first-aid4.png
ORGANIZER;CN="St Bernard's Safety Training Centre":MAILTO:safetytrainingmalta@gmail.com
END:VEVENT
BEGIN:VEVENT
DTSTART;TZID=Europe/London:20250805T093000
DTEND;TZID=Europe/London:20250805T130000
DTSTAMP:20260424T010041
CREATED:20250605T141648Z
LAST-MODIFIED:20250715T092527Z
UID:51829-1754386200-1754398800@healthandsafety.com.mt
SUMMARY:Basic Fire Safety Inc Warden
DESCRIPTION:
URL:https://healthandsafety.com.mt/schedule/basic-fire-safety-inc-warden/
LOCATION:St Bernard’s Safety Training Centre\, St. Bernard's Health and Safety Centre\, No 11\, Left Entrance\, Triq tal-Hriereb. Msida\, Malta\, Msida\, Malta
CATEGORIES:Fire Safety
ATTACH;FMTTYPE=image/jpeg:https://healthandsafety.com.mt/wp-content/uploads/2025/02/Fire-Drill-scaled.jpg
ORGANIZER;CN="St Bernard's Safety Training Centre":MAILTO:safetytrainingmalta@gmail.com
END:VEVENT
BEGIN:VEVENT
DTSTART;TZID=Europe/London:20250819T093000
DTEND;TZID=Europe/London:20250819T123000
DTSTAMP:20260424T010041
CREATED:20250605T144024Z
LAST-MODIFIED:20250605T144239Z
UID:51837-1755595800-1755606600@healthandsafety.com.mt
SUMMARY:Health & Safety at work
DESCRIPTION:
URL:https://healthandsafety.com.mt/schedule/health-safety-at-work-3/
LOCATION:St Bernard’s Safety Training Centre\, St. Bernard's Health and Safety Centre\, No 11\, Left Entrance\, Triq tal-Hriereb. Msida\, Malta\, Msida\, Malta
CATEGORIES:Health & Safety
ATTACH;FMTTYPE=image/jpeg:https://healthandsafety.com.mt/wp-content/uploads/2025/02/Design-of-Work-Method-Statement-scaled.jpg
ORGANIZER;CN="St Bernard's Safety Training Centre":MAILTO:safetytrainingmalta@gmail.com
END:VEVENT
BEGIN:VEVENT
DTSTART;TZID=Europe/London:20250822T093000
DTEND;TZID=Europe/London:20250822T133000
DTSTAMP:20260424T010041
CREATED:20250710T092501Z
LAST-MODIFIED:20250710T092501Z
UID:55317-1755855000-1755869400@healthandsafety.com.mt
SUMMARY:Basic Fire Safety Inc Warden
DESCRIPTION:
URL:https://healthandsafety.com.mt/schedule/basic-fire-safety-inc-warden-2/
LOCATION:St Bernard’s Safety Training Centre\, St. Bernard's Health and Safety Centre\, No 11\, Left Entrance\, Triq tal-Hriereb. Msida\, Malta\, Msida\, Malta
CATEGORIES:Fire Safety
ATTACH;FMTTYPE=image/jpeg:https://healthandsafety.com.mt/wp-content/uploads/2025/02/Fire-Drill-scaled.jpg
ORGANIZER;CN="St Bernard's Safety Training Centre":MAILTO:safetytrainingmalta@gmail.com
END:VEVENT
BEGIN:VEVENT
DTSTART;TZID=Europe/London:20250827T093000
DTEND;TZID=Europe/London:20250827T133000
DTSTAMP:20260424T010041
CREATED:20250710T092103Z
LAST-MODIFIED:20250710T092103Z
UID:55313-1756287000-1756301400@healthandsafety.com.mt
SUMMARY:Basic First Aid
DESCRIPTION:
URL:https://healthandsafety.com.mt/schedule/basic-first-aid-10/
LOCATION:St Bernard’s Safety Training Centre\, St. Bernard's Health and Safety Centre\, No 11\, Left Entrance\, Triq tal-Hriereb. Msida\, Malta\, Msida\, Malta
CATEGORIES:First Aid
ATTACH;FMTTYPE=image/png:https://healthandsafety.com.mt/wp-content/uploads/2025/03/first-aid4.png
ORGANIZER;CN="St Bernard's Safety Training Centre":MAILTO:safetytrainingmalta@gmail.com
END:VEVENT
BEGIN:VEVENT
DTSTART;TZID=Europe/London:20250829T093000
DTEND;TZID=Europe/London:20250829T133000
DTSTAMP:20260424T010041
CREATED:20250710T092839Z
LAST-MODIFIED:20250710T092839Z
UID:55320-1756459800-1756474200@healthandsafety.com.mt
SUMMARY:Basic Fire Safety Inc Warden
DESCRIPTION:
URL:https://healthandsafety.com.mt/schedule/basic-fire-safety-inc-warden-3/
LOCATION:St Bernard’s Safety Training Centre\, St. Bernard's Health and Safety Centre\, No 11\, Left Entrance\, Triq tal-Hriereb. Msida\, Malta\, Msida\, Malta
CATEGORIES:Fire Safety
ATTACH;FMTTYPE=image/jpeg:https://healthandsafety.com.mt/wp-content/uploads/2025/02/Fire-Drill-scaled.jpg
ORGANIZER;CN="St Bernard's Safety Training Centre":MAILTO:safetytrainingmalta@gmail.com
END:VEVENT
BEGIN:VEVENT
DTSTART;TZID=Europe/London:20250829T133000
DTEND;TZID=Europe/London:20250829T173000
DTSTAMP:20260424T010041
CREATED:20250827T172632Z
LAST-MODIFIED:20250827T172632Z
UID:59300-1756474200-1756488600@healthandsafety.com.mt
SUMMARY:Basic First Aid
DESCRIPTION:
URL:https://healthandsafety.com.mt/schedule/basic-first-aid-12/
LOCATION:St Bernard’s Safety Training Centre\, St. Bernard's Health and Safety Centre\, No 11\, Left Entrance\, Triq tal-Hriereb. Msida\, Malta\, Msida\, Malta
CATEGORIES:First Aid
ATTACH;FMTTYPE=image/png:https://healthandsafety.com.mt/wp-content/uploads/2025/03/first-aid4.png
ORGANIZER;CN="St Bernard's Safety Training Centre":MAILTO:safetytrainingmalta@gmail.com
END:VEVENT
BEGIN:VEVENT
DTSTART;TZID=Europe/London:20250905T093000
DTEND;TZID=Europe/London:20250905T133000
DTSTAMP:20260424T010041
CREATED:20250625T102541Z
LAST-MODIFIED:20250625T102541Z
UID:53779-1757064600-1757079000@healthandsafety.com.mt
SUMMARY:Basic First Aid
DESCRIPTION:
URL:https://healthandsafety.com.mt/schedule/basic-first-aid-8/
LOCATION:St Bernard’s Safety Training Centre\, St. Bernard's Health and Safety Centre\, No 11\, Left Entrance\, Triq tal-Hriereb. Msida\, Malta\, Msida\, Malta
CATEGORIES:First Aid
ATTACH;FMTTYPE=image/png:https://healthandsafety.com.mt/wp-content/uploads/2025/03/first-aid4.png
ORGANIZER;CN="St Bernard's Safety Training Centre":MAILTO:safetytrainingmalta@gmail.com
END:VEVENT
BEGIN:VEVENT
DTSTART;TZID=Europe/London:20250923T143000
DTEND;TZID=Europe/London:20250923T173000
DTSTAMP:20260424T010041
CREATED:20250827T172121Z
LAST-MODIFIED:20250827T172121Z
UID:59297-1758637800-1758648600@healthandsafety.com.mt
SUMMARY:Award in Health and Safety in the Construction Industry
DESCRIPTION:
URL:https://healthandsafety.com.mt/schedule/award-in-health-and-safety-in-the-construction-industry/
LOCATION:St Bernard’s Safety Training Centre\, St. Bernard's Health and Safety Centre\, No 11\, Left Entrance\, Triq tal-Hriereb. Msida\, Malta\, Msida\, Malta
CATEGORIES:Health & Safety
ATTACH;FMTTYPE=image/jpeg:https://healthandsafety.com.mt/wp-content/uploads/2025/02/Health-and-Safety-Consultancy-scaled.jpg
ORGANIZER;CN="St Bernard's Safety Training Centre":MAILTO:safetytrainingmalta@gmail.com
END:VEVENT
BEGIN:VEVENT
DTSTART;TZID=Europe/London:20251024T160000
DTEND;TZID=Europe/London:20251024T200000
DTSTAMP:20260424T010041
CREATED:20251012T183816Z
LAST-MODIFIED:20251012T183816Z
UID:63173-1761321600-1761336000@healthandsafety.com.mt
SUMMARY:Health and Safety for Skill Card
DESCRIPTION:
URL:https://healthandsafety.com.mt/schedule/health-and-safety-for-skill-card/
LOCATION:St Bernard’s Safety Training Centre\, St. Bernard's Health and Safety Centre\, No 11\, Left Entrance\, Triq tal-Hriereb. Msida\, Malta\, Msida\, Malta
CATEGORIES:Health & Safety
ATTACH;FMTTYPE=image/jpeg:https://healthandsafety.com.mt/wp-content/uploads/2025/02/Young-Person-risk-Assessment-scaled.jpg
ORGANIZER;CN="St Bernard's Safety Training Centre":MAILTO:safetytrainingmalta@gmail.com
END:VEVENT
BEGIN:VEVENT
DTSTART;TZID=Europe/London:20251027T093000
DTEND;TZID=Europe/London:20251027T130000
DTSTAMP:20260424T010041
CREATED:20250806T144716Z
LAST-MODIFIED:20250806T144716Z
UID:57919-1761557400-1761570000@healthandsafety.com.mt
SUMMARY:Basic Fire inc Warden
DESCRIPTION:
URL:https://healthandsafety.com.mt/schedule/basic-fire-inc-warden-2/
LOCATION:St Bernard’s Safety Training Centre\, St. Bernard's Health and Safety Centre\, No 11\, Left Entrance\, Triq tal-Hriereb. Msida\, Malta\, Msida\, Malta
CATEGORIES:Fire Safety
ATTACH;FMTTYPE=image/jpeg:https://healthandsafety.com.mt/wp-content/uploads/2025/02/Fire-Drill-scaled.jpg
ORGANIZER;CN="St Bernard's Safety Training Centre":MAILTO:safetytrainingmalta@gmail.com
END:VEVENT
BEGIN:VEVENT
DTSTART;TZID=Europe/London:20251030T093000
DTEND;TZID=Europe/London:20251030T133000
DTSTAMP:20260424T010041
CREATED:20250806T145126Z
LAST-MODIFIED:20250806T145126Z
UID:57922-1761816600-1761831000@healthandsafety.com.mt
SUMMARY:Basic First Aid
DESCRIPTION:
URL:https://healthandsafety.com.mt/schedule/basic-first-aid-11/
LOCATION:St Bernard’s Safety Training Centre\, St. Bernard's Health and Safety Centre\, No 11\, Left Entrance\, Triq tal-Hriereb. Msida\, Malta\, Msida\, Malta
CATEGORIES:First Aid
ATTACH;FMTTYPE=image/png:https://healthandsafety.com.mt/wp-content/uploads/2025/01/IMG_5109.png
ORGANIZER;CN="St Bernard's Safety Training Centre":MAILTO:safetytrainingmalta@gmail.com
END:VEVENT
BEGIN:VEVENT
DTSTART;TZID=Europe/London:20251031T160000
DTEND;TZID=Europe/London:20251031T193000
DTSTAMP:20260424T010041
CREATED:20251027T221133Z
LAST-MODIFIED:20251027T221133Z
UID:64670-1761926400-1761939000@healthandsafety.com.mt
SUMMARY:Health & Safety for the Construction Industry - Maltese
DESCRIPTION:
URL:https://healthandsafety.com.mt/schedule/health-safety-for-the-construction-industry-maltese/
LOCATION:St Bernard’s Safety Training Centre\, St. Bernard's Health and Safety Centre\, No 11\, Left Entrance\, Triq tal-Hriereb. Msida\, Malta\, Msida\, Malta
CATEGORIES:Health & Safety
ATTACH;FMTTYPE=image/png:https://healthandsafety.com.mt/wp-content/uploads/2025/10/Skill-Card.png
ORGANIZER;CN="St Bernard's Safety Training Centre":MAILTO:safetytrainingmalta@gmail.com
END:VEVENT
BEGIN:VEVENT
DTSTART;TZID=Europe/London:20251120T093000
DTEND;TZID=Europe/London:20251120T133000
DTSTAMP:20260424T010041
CREATED:20250917T135052Z
LAST-MODIFIED:20250917T135204Z
UID:61244-1763631000-1763645400@healthandsafety.com.mt
SUMMARY:Basic First Aid
DESCRIPTION:
URL:https://healthandsafety.com.mt/schedule/basic-first-aid-13/
LOCATION:St Bernard’s Safety Training Centre\, St. Bernard's Health and Safety Centre\, No 11\, Left Entrance\, Triq tal-Hriereb. Msida\, Malta\, Msida\, Malta
CATEGORIES:First Aid
ATTACH;FMTTYPE=image/png:https://healthandsafety.com.mt/wp-content/uploads/2025/03/first-aid4.png
ORGANIZER;CN="St Bernard's Safety Training Centre":MAILTO:safetytrainingmalta@gmail.com
END:VEVENT
BEGIN:VEVENT
DTSTART;TZID=Europe/London:20251201T163000
DTEND;TZID=Europe/London:20251201T193000
DTSTAMP:20260424T010041
CREATED:20251128T150323Z
LAST-MODIFIED:20251128T150323Z
UID:67564-1764606600-1764617400@healthandsafety.com.mt
SUMMARY:Health and Safety for Skills Card
DESCRIPTION:
URL:https://healthandsafety.com.mt/schedule/health-and-safety-for-skills-card-2/
LOCATION:St Bernard’s Safety Training Centre\, St. Bernard's Health and Safety Centre\, No 11\, Left Entrance\, Triq tal-Hriereb. Msida\, Malta\, Msida\, Malta
CATEGORIES:Health & Safety
ATTACH;FMTTYPE=image/png:https://healthandsafety.com.mt/wp-content/uploads/2025/10/Skill-Card.png
ORGANIZER;CN="St Bernard's Safety Training Centre":MAILTO:safetytrainingmalta@gmail.com
END:VEVENT
BEGIN:VEVENT
DTSTART;TZID=Europe/London:20251206T093000
DTEND;TZID=Europe/London:20251206T133000
DTSTAMP:20260424T010041
CREATED:20251121T133744Z
LAST-MODIFIED:20251121T133833Z
UID:66965-1765013400-1765027800@healthandsafety.com.mt
SUMMARY:Basic and Paediatric First Aid
DESCRIPTION:
URL:https://healthandsafety.com.mt/schedule/basic-and-paediatric-first-aid-2/
LOCATION:St Bernard’s Safety Training Centre\, St. Bernard's Health and Safety Centre\, No 11\, Left Entrance\, Triq tal-Hriereb. Msida\, Malta\, Msida\, Malta
CATEGORIES:First Aid
ATTACH;FMTTYPE=image/png:https://healthandsafety.com.mt/wp-content/uploads/2025/03/first-aid4.png
ORGANIZER;CN="St Bernard's Safety Training Centre":MAILTO:safetytrainingmalta@gmail.com
END:VEVENT
BEGIN:VEVENT
DTSTART;TZID=Europe/London:20251206T093000
DTEND;TZID=Europe/London:20251206T133000
DTSTAMP:20260424T010041
CREATED:20251121T134116Z
LAST-MODIFIED:20251121T134116Z
UID:66968-1765013400-1765027800@healthandsafety.com.mt
SUMMARY:Paediatric First Aid
DESCRIPTION:
URL:https://healthandsafety.com.mt/schedule/paediatric-first-aid-4/
LOCATION:St Bernard’s Safety Training Centre\, St. Bernard's Health and Safety Centre\, No 11\, Left Entrance\, Triq tal-Hriereb. Msida\, Malta\, Msida\, Malta
CATEGORIES:First Aid
ATTACH;FMTTYPE=image/png:https://healthandsafety.com.mt/wp-content/uploads/2025/01/IMG_5109.png
ORGANIZER;CN="St Bernard's Safety Training Centre":MAILTO:safetytrainingmalta@gmail.com
END:VEVENT
BEGIN:VEVENT
DTSTART;TZID=Europe/London:20251211T100000
DTEND;TZID=Europe/London:20251211T130000
DTSTAMP:20260424T010041
CREATED:20251128T144147Z
LAST-MODIFIED:20251128T150856Z
UID:67553-1765447200-1765458000@healthandsafety.com.mt
SUMMARY:Health and Safety for Skills Card
DESCRIPTION:
URL:https://healthandsafety.com.mt/schedule/health-and-safety-for-skills-card/
LOCATION:St Bernard’s Safety Training Centre\, St. Bernard's Health and Safety Centre\, No 11\, Left Entrance\, Triq tal-Hriereb. Msida\, Malta\, Msida\, Malta
CATEGORIES:Health & Safety
ATTACH;FMTTYPE=image/png:https://healthandsafety.com.mt/wp-content/uploads/2025/10/Skill-Card.png
ORGANIZER;CN="St Bernard's Safety Training Centre":MAILTO:safetytrainingmalta@gmail.com
END:VEVENT
BEGIN:VEVENT
DTSTART;TZID=Europe/London:20251211T150000
DTEND;TZID=Europe/London:20251211T190000
DTSTAMP:20260424T010041
CREATED:20251202T144353Z
LAST-MODIFIED:20251202T144638Z
UID:67791-1765465200-1765479600@healthandsafety.com.mt
SUMMARY:Basic First Aid & Basic Fire Safety Online
DESCRIPTION:
URL:https://healthandsafety.com.mt/schedule/basic-first-aid-basic-fire-safety-online/
LOCATION:online\, Online
CATEGORIES:Fire Safety,First Aid
ATTACH;FMTTYPE=image/png:https://healthandsafety.com.mt/wp-content/uploads/2025/01/IMG_5098.png
ORGANIZER;CN="St Bernard's Safety Training Centre":MAILTO:safetytrainingmalta@gmail.com
END:VEVENT
BEGIN:VEVENT
DTSTART;TZID=Europe/London:20251212T090000
DTEND;TZID=Europe/London:20251212T120000
DTSTAMP:20260424T010041
CREATED:20251105T161651Z
LAST-MODIFIED:20251109T174540Z
UID:65595-1765530000-1765540800@healthandsafety.com.mt
SUMMARY:Basic Fire Fighting and Prevention
DESCRIPTION:Basic Fire Fighting & Prevention – Online Version
URL:https://healthandsafety.com.mt/schedule/basic-fire-fighting-and-prevention-2/
LOCATION:St Bernard’s Safety Training Centre\, St. Bernard's Health and Safety Centre\, No 11\, Left Entrance\, Triq tal-Hriereb. Msida\, Malta\, Msida\, Malta
CATEGORIES:Fire Safety
ATTACH;FMTTYPE=image/jpeg:https://healthandsafety.com.mt/wp-content/uploads/2025/02/Fire-Drill-scaled.jpg
ORGANIZER;CN="St Bernard's Safety Training Centre":MAILTO:safetytrainingmalta@gmail.com
END:VEVENT
BEGIN:VEVENT
DTSTART;TZID=Europe/London:20251212T090000
DTEND;TZID=Europe/London:20251212T120000
DTSTAMP:20260424T010041
CREATED:20251109T174000Z
LAST-MODIFIED:20251109T174343Z
UID:65964-1765530000-1765540800@healthandsafety.com.mt
SUMMARY:Basic Fire Fighting & Prevention inc Fire Warden
DESCRIPTION:Basic Fire Fighting & Prevention including Fire Warden – Online Version
URL:https://healthandsafety.com.mt/schedule/basic-fire-fighting-prevention-inc-fire-warden-2/
LOCATION:St Bernard’s Safety Training Centre\, St. Bernard's Health and Safety Centre\, No 11\, Left Entrance\, Triq tal-Hriereb. Msida\, Malta\, Msida\, Malta
CATEGORIES:Fire Safety
ATTACH;FMTTYPE=image/jpeg:https://healthandsafety.com.mt/wp-content/uploads/2025/01/Fire-Drills-scaled.jpg
ORGANIZER;CN="St Bernard's Safety Training Centre":MAILTO:safetytrainingmalta@gmail.com
END:VEVENT
BEGIN:VEVENT
DTSTART;TZID=Europe/London:20260103T093000
DTEND;TZID=Europe/London:20260103T133000
DTSTAMP:20260424T010041
CREATED:20251128T145848Z
LAST-MODIFIED:20251208T104235Z
UID:67559-1767432600-1767447000@healthandsafety.com.mt
SUMMARY:Basic & Paediatric First Aid
DESCRIPTION:
URL:https://healthandsafety.com.mt/schedule/basic-paediatric-first-aid-5/
LOCATION:Ghajnsielem
CATEGORIES:First Aid
ATTACH;FMTTYPE=image/png:https://healthandsafety.com.mt/wp-content/uploads/2025/03/first-aid4.png
ORGANIZER;CN="St Bernard's Safety Training Centre":MAILTO:safetytrainingmalta@gmail.com
END:VEVENT
END:VCALENDAR