BEGIN:VCALENDAR
VERSION:2.0
PRODID:-//St. Bernard&#039;s Health and Safety Institute - ECPv6.15.17.1//NONSGML v1.0//EN
CALSCALE:GREGORIAN
METHOD:PUBLISH
X-WR-CALNAME:St. Bernard&#039;s Health and Safety Institute
X-ORIGINAL-URL:https://healthandsafety.com.mt
X-WR-CALDESC:Events for St. Bernard&#039;s Health and Safety Institute
REFRESH-INTERVAL;VALUE=DURATION:PT1H
X-Robots-Tag:noindex
X-PUBLISHED-TTL:PT1H
BEGIN:VTIMEZONE
TZID:Europe/London
BEGIN:DAYLIGHT
TZOFFSETFROM:+0000
TZOFFSETTO:+0100
TZNAME:BST
DTSTART:20230326T010000
END:DAYLIGHT
BEGIN:STANDARD
TZOFFSETFROM:+0100
TZOFFSETTO:+0000
TZNAME:GMT
DTSTART:20231029T010000
END:STANDARD
BEGIN:DAYLIGHT
TZOFFSETFROM:+0000
TZOFFSETTO:+0100
TZNAME:BST
DTSTART:20240331T010000
END:DAYLIGHT
BEGIN:STANDARD
TZOFFSETFROM:+0100
TZOFFSETTO:+0000
TZNAME:GMT
DTSTART:20241027T010000
END:STANDARD
BEGIN:DAYLIGHT
TZOFFSETFROM:+0000
TZOFFSETTO:+0100
TZNAME:BST
DTSTART:20250330T010000
END:DAYLIGHT
BEGIN:STANDARD
TZOFFSETFROM:+0100
TZOFFSETTO:+0000
TZNAME:GMT
DTSTART:20251026T010000
END:STANDARD
END:VTIMEZONE
BEGIN:VTIMEZONE
TZID:Europe/Malta
BEGIN:DAYLIGHT
TZOFFSETFROM:+0100
TZOFFSETTO:+0200
TZNAME:CEST
DTSTART:20230326T010000
END:DAYLIGHT
BEGIN:STANDARD
TZOFFSETFROM:+0200
TZOFFSETTO:+0100
TZNAME:CET
DTSTART:20231029T010000
END:STANDARD
BEGIN:DAYLIGHT
TZOFFSETFROM:+0100
TZOFFSETTO:+0200
TZNAME:CEST
DTSTART:20240331T010000
END:DAYLIGHT
BEGIN:STANDARD
TZOFFSETFROM:+0200
TZOFFSETTO:+0100
TZNAME:CET
DTSTART:20241027T010000
END:STANDARD
BEGIN:DAYLIGHT
TZOFFSETFROM:+0100
TZOFFSETTO:+0200
TZNAME:CEST
DTSTART:20250330T010000
END:DAYLIGHT
BEGIN:STANDARD
TZOFFSETFROM:+0200
TZOFFSETTO:+0100
TZNAME:CET
DTSTART:20251026T010000
END:STANDARD
END:VTIMEZONE
BEGIN:VEVENT
DTSTART;TZID=Europe/London:20240605T083000
DTEND;TZID=Europe/London:20240605T140000
DTSTAMP:20260424T005054
CREATED:20240509T111649Z
LAST-MODIFIED:20240509T111649Z
UID:19211-1717576200-1717596000@healthandsafety.com.mt
SUMMARY:Basic First Aid including AED course
DESCRIPTION:For Bookings and further information\n\n 99248968\n\n info@healthandsafety.com.mt\n\nTraining can also be held at client’s Premises on request
URL:https://healthandsafety.com.mt/schedule/basic-first-aid-including-aed-course/
LOCATION:St Bernard’s Safety Training Centre\, St. Bernard's Health and Safety Centre\, No 11\, Left Entrance\, Triq tal-Hriereb. Msida\, Malta\, Msida\, Malta
ORGANIZER;CN="St Bernard's Safety Training Centre":MAILTO:safetytrainingmalta@gmail.com
END:VEVENT
BEGIN:VEVENT
DTSTART;TZID=Europe/London:20240604T130000
DTEND;TZID=Europe/London:20240604T160000
DTSTAMP:20260424T005054
CREATED:20240509T111243Z
LAST-MODIFIED:20240509T111243Z
UID:19206-1717506000-1717516800@healthandsafety.com.mt
SUMMARY:Basic Fire Fighting/Fire Warden Course
DESCRIPTION:For Bookings and further information\n\n 99248968\n\n info@healthandsafety.com.mt\n\nTraining can also be held at client’s Premises on request
URL:https://healthandsafety.com.mt/schedule/basic-fire-fighting-fire-warden-course-2/
LOCATION:St Bernard’s Safety Training Centre\, St. Bernard's Health and Safety Centre\, No 11\, Left Entrance\, Triq tal-Hriereb. Msida\, Malta\, Msida\, Malta
ORGANIZER;CN="St Bernard's Safety Training Centre":MAILTO:safetytrainingmalta@gmail.com
END:VEVENT
BEGIN:VEVENT
DTSTART;TZID=Europe/London:20240601T143000
DTEND;TZID=Europe/London:20240601T173000
DTSTAMP:20260424T005054
CREATED:20240525T154022Z
LAST-MODIFIED:20240525T154022Z
UID:19437-1717252200-1717263000@healthandsafety.com.mt
SUMMARY:Food Handling Course
DESCRIPTION:For Bookings and further information\n\n 99248968\n\n info@healthandsafety.com.mt\n\nTraining can also be held at client’s Premises on request
URL:https://healthandsafety.com.mt/schedule/food-handling-course-57/
LOCATION:St Bernard’s Safety Training Centre\, St. Bernard's Health and Safety Centre\, No 11\, Left Entrance\, Triq tal-Hriereb. Msida\, Malta\, Msida\, Malta
ORGANIZER;CN="St Bernard's Safety Training Centre":MAILTO:safetytrainingmalta@gmail.com
END:VEVENT
BEGIN:VEVENT
DTSTART;TZID=Europe/London:20240601T093000
DTEND;TZID=Europe/London:20240601T140000
DTSTAMP:20260424T005054
CREATED:20240503T131305Z
LAST-MODIFIED:20240503T131305Z
UID:19116-1717234200-1717250400@healthandsafety.com.mt
SUMMARY:Paediatric First Aid Course
DESCRIPTION:For Bookings and further information\n\n 99248968\n\n info@healthandsafety.com.mt\n\nTraining can also be held at client’s Premises on request
URL:https://healthandsafety.com.mt/schedule/paediatric-first-aid-course-2/
LOCATION:St Bernard’s Safety Training Centre\, St. Bernard's Health and Safety Centre\, No 11\, Left Entrance\, Triq tal-Hriereb. Msida\, Malta\, Msida\, Malta
ORGANIZER;CN="St Bernard's Safety Training Centre":MAILTO:safetytrainingmalta@gmail.com
END:VEVENT
BEGIN:VEVENT
DTSTART;TZID=Europe/London:20240531T130000
DTEND;TZID=Europe/London:20240531T160000
DTSTAMP:20260424T005054
CREATED:20240509T111142Z
LAST-MODIFIED:20240509T111142Z
UID:19203-1717160400-1717171200@healthandsafety.com.mt
SUMMARY:Basic Fire Fighting / Fire Warden Course
DESCRIPTION:For Bookings and further information\n\n 99248968\n\n info@healthandsafety.com.mt\n\nTraining can also be held at client’s Premises on request
URL:https://healthandsafety.com.mt/schedule/basic-fire-fighting-fire-warden-course/
LOCATION:St Bernard’s Safety Training Centre\, St. Bernard's Health and Safety Centre\, No 11\, Left Entrance\, Triq tal-Hriereb. Msida\, Malta\, Msida\, Malta
ORGANIZER;CN="St Bernard's Safety Training Centre":MAILTO:safetytrainingmalta@gmail.com
END:VEVENT
BEGIN:VEVENT
DTSTART;TZID=Europe/London:20240520T100000
DTEND;TZID=Europe/London:20240520T140000
DTSTAMP:20260424T005054
CREATED:20240423T073258Z
LAST-MODIFIED:20240423T073258Z
UID:18988-1716199200-1716213600@healthandsafety.com.mt
SUMMARY:Basic First Aid Course
DESCRIPTION:For Bookings and further information\n\n 99248968\n\n info@healthandsafety.com.mt\n\nTraining can also be held at client’s Premises on request
URL:https://healthandsafety.com.mt/schedule/basic-first-aid-course-7/
LOCATION:St Bernard’s Safety Training Centre\, St. Bernard's Health and Safety Centre\, No 11\, Left Entrance\, Triq tal-Hriereb. Msida\, Malta\, Msida\, Malta
ORGANIZER;CN="St Bernard's Safety Training Centre":MAILTO:safetytrainingmalta@gmail.com
END:VEVENT
BEGIN:VEVENT
DTSTART;TZID=Europe/Malta:20240514T130000
DTEND;TZID=Europe/Malta:20240514T163000
DTSTAMP:20260424T005054
CREATED:20240327T084229Z
LAST-MODIFIED:20240327T084255Z
UID:18631-1715691600-1715704200@healthandsafety.com.mt
SUMMARY:Basic Fire Fighting including Fire Warden Course
DESCRIPTION:For Bookings and further information\n\n 99248968\n\n info@healthandsafety.com.mt\n\nUpon request training can also be held at clients requested premises.
URL:https://healthandsafety.com.mt/schedule/basic-fire-fighting-including-fire-warden-course/
LOCATION:St Bernard’s Safety Training Centre\, St. Bernard's Health and Safety Centre\, No 11\, Left Entrance\, Triq tal-Hriereb. Msida\, Malta\, Msida\, Malta
ORGANIZER;CN="St Bernard's Safety Training Centre":MAILTO:safetytrainingmalta@gmail.com
END:VEVENT
BEGIN:VEVENT
DTSTART;TZID=Europe/London:20240513T150000
DTEND;TZID=Europe/London:20240513T180000
DTSTAMP:20260424T005054
CREATED:20240319T114657Z
LAST-MODIFIED:20240319T114728Z
UID:18544-1715612400-1715623200@healthandsafety.com.mt
SUMMARY:Basic Fire Fighting and Prevention Course
DESCRIPTION:For Bookings and further information\n\n 99248968  info@healthandsafety.com.mt\n\nTraining can also be held privately at clients requested premises
URL:https://healthandsafety.com.mt/schedule/basic-fire-fighting-and-prevention-course/
LOCATION:23\, triq Ta Cordina\, Malta
ORGANIZER;CN="St Bernard's Safety Training Centre":MAILTO:safetytrainingmalta@gmail.com
END:VEVENT
BEGIN:VEVENT
DTSTART;TZID=Europe/London:20240511T140000
DTEND;TZID=Europe/London:20240511T180000
DTSTAMP:20260424T005054
CREATED:20240425T075848Z
LAST-MODIFIED:20240425T075848Z
UID:19016-1715436000-1715450400@healthandsafety.com.mt
SUMMARY:Food Handling Course B
DESCRIPTION:NEXT CLASS BASED FOOD HANDLING COURSE IN MSIDA \nSaturday…… \nCannot attend? \nFOOD HANDLING CERTIFICATION OFFICE \n‼️Open Monday to Friday at our premises in Central Msida. \n👉Study do exam at our office. Same day certification! \n👉 Study online with no fixed time schedules\nhttps://healthandsafety.com.mt/…/online-food-handling…/ \n👉 Private on-site training also available. \n📞 ⁨9924 8968⁩ to book your appointment. \n📧 info@healthandsafety.com.mt
URL:https://healthandsafety.com.mt/schedule/food-handling-course-b/
LOCATION:St Bernard’s Safety Training Centre\, St. Bernard's Health and Safety Centre\, No 11\, Left Entrance\, Triq tal-Hriereb. Msida\, Malta\, Msida\, Malta
ORGANIZER;CN="St Bernard's Safety Training Centre":MAILTO:safetytrainingmalta@gmail.com
END:VEVENT
BEGIN:VEVENT
DTSTART;TZID=Europe/London:20240504T093000
DTEND;TZID=Europe/London:20240504T123000
DTSTAMP:20260424T005054
CREATED:20240425T072105Z
LAST-MODIFIED:20240425T072105Z
UID:19014-1714815000-1714825800@healthandsafety.com.mt
SUMMARY:Paediatric First Aid Course
DESCRIPTION:For Bookings and further information\n\n 99248968\n\n info@healthandsafety.com.mt\n\nTraining can also be held at client’s Premises on request
URL:https://healthandsafety.com.mt/schedule/paediatric-first-aid-course/
LOCATION:St Bernard’s Safety Training Centre\, St. Bernard's Health and Safety Centre\, No 11\, Left Entrance\, Triq tal-Hriereb. Msida\, Malta\, Msida\, Malta
ORGANIZER;CN="St Bernard's Safety Training Centre":MAILTO:safetytrainingmalta@gmail.com
END:VEVENT
BEGIN:VEVENT
DTSTART;TZID=Europe/London:20240503T100000
DTEND;TZID=Europe/London:20240503T140000
DTSTAMP:20260424T005054
CREATED:20240328T075209Z
LAST-MODIFIED:20240328T075209Z
UID:18655-1714730400-1714744800@healthandsafety.com.mt
SUMMARY:Basic First Aid - Msida
DESCRIPTION:For Bookings and further information. \nKindly call 99248968 or email us at info@healthandsafety.com.mt. \nTraining can also be held privately at clients requested premises.
URL:https://healthandsafety.com.mt/schedule/basic-first-aid-msida-4/
LOCATION:St Bernard’s Safety Training Centre\, St. Bernard's Health and Safety Centre\, No 11\, Left Entrance\, Triq tal-Hriereb. Msida\, Malta\, Msida\, Malta
ORGANIZER;CN="St Bernard's Safety Training Centre":MAILTO:safetytrainingmalta@gmail.com
END:VEVENT
BEGIN:VEVENT
DTSTART;TZID=Europe/London:20240427T130000
DTEND;TZID=Europe/London:20240427T170000
DTSTAMP:20260424T005054
CREATED:20240411T091933Z
LAST-MODIFIED:20240411T091933Z
UID:18839-1714222800-1714237200@healthandsafety.com.mt
SUMMARY:Food Handling Course
DESCRIPTION:For Bookings and further information\n\n 99248968\n\n info@healthandsafety.com.mt\n\nTraining can also be held at client’s Premises on request
URL:https://healthandsafety.com.mt/schedule/food-handling-course-54/
LOCATION:St Bernard’s Safety Training Centre\, St. Bernard's Health and Safety Centre\, No 11\, Left Entrance\, Triq tal-Hriereb. Msida\, Malta\, Msida\, Malta
ORGANIZER;CN="St Bernard's Safety Training Centre":MAILTO:safetytrainingmalta@gmail.com
END:VEVENT
BEGIN:VEVENT
DTSTART;TZID=Europe/London:20240420T140000
DTEND;TZID=Europe/London:20240420T170000
DTSTAMP:20260424T005054
CREATED:20240415T074641Z
LAST-MODIFIED:20240415T123307Z
UID:18878-1713621600-1713632400@healthandsafety.com.mt
SUMMARY:Food Handling Course
DESCRIPTION:For Bookings and further information\n\n 99248968\n\n info@healthandsafety.com.mt\n\nTraining can also be held at client’s Premises on request
URL:https://healthandsafety.com.mt/schedule/food-handling-course-56/
LOCATION:St Bernard’s Safety Training Centre\, St. Bernard's Health and Safety Centre\, No 11\, Left Entrance\, Triq tal-Hriereb. Msida\, Malta\, Msida\, Malta
ORGANIZER;CN="St Bernard's Safety Training Centre":MAILTO:safetytrainingmalta@gmail.com
END:VEVENT
BEGIN:VEVENT
DTSTART;TZID=Europe/London:20240418T100000
DTEND;TZID=Europe/London:20240418T130000
DTSTAMP:20260424T005054
CREATED:20240410T132210Z
LAST-MODIFIED:20240410T132210Z
UID:18825-1713434400-1713445200@healthandsafety.com.mt
SUMMARY:Basic First Aid Course
DESCRIPTION:For Bookings and further information\n\n 99248968\n\n info@healthandsafety.com.mt\n\nTraining can also be held at client’s Premises on request
URL:https://healthandsafety.com.mt/schedule/basic-first-aid-course-6/
END:VEVENT
BEGIN:VEVENT
DTSTART;TZID=Europe/London:20240413T093000
DTEND;TZID=Europe/London:20240413T130000
DTSTAMP:20260424T005054
CREATED:20240411T093232Z
LAST-MODIFIED:20240411T093232Z
UID:18842-1713000600-1713013200@healthandsafety.com.mt
SUMMARY:Food Handling Course
DESCRIPTION:For Bookings and further information \n📞 99248968 \n📧 info@healthandsafety.com.mt \nTraining can also be held at client’s Premises on request.
URL:https://healthandsafety.com.mt/schedule/food-handling-course-55/
LOCATION:St Bernard’s Safety Training Centre\, St. Bernard's Health and Safety Centre\, No 11\, Left Entrance\, Triq tal-Hriereb. Msida\, Malta\, Msida\, Malta
ORGANIZER;CN="St Bernard's Safety Training Centre":MAILTO:safetytrainingmalta@gmail.com
END:VEVENT
BEGIN:VEVENT
DTSTART;TZID=Europe/London:20240411T150000
DTEND;TZID=Europe/London:20240411T180000
DTSTAMP:20260424T005054
CREATED:20240214T114755Z
LAST-MODIFIED:20240214T114755Z
UID:18116-1712847600-1712858400@healthandsafety.com.mt
SUMMARY:Food Handling Course
DESCRIPTION:For Bookings and further information\n 99248968\n\n info@healthandsafety.com.mt\n\nTraining can also be held at client’s Premises on request
URL:https://healthandsafety.com.mt/schedule/food-handling-course-50/
LOCATION:St Bernard’s Safety Training Centre\, St. Bernard's Health and Safety Centre\, No 11\, Left Entrance\, Triq tal-Hriereb. Msida\, Malta\, Msida\, Malta
ORGANIZER;CN="St Bernard's Safety Training Centre":MAILTO:safetytrainingmalta@gmail.com
END:VEVENT
BEGIN:VEVENT
DTSTART;TZID=Europe/London:20240410T080000
DTEND;TZID=Europe/London:20240410T080000
DTSTAMP:20260424T005054
CREATED:20240130T125156Z
LAST-MODIFIED:20240130T130023Z
UID:17944-1712736000-1712736000@healthandsafety.com.mt
SUMMARY:Basic First Aid Course
DESCRIPTION:For Bookings and further information \nKindly call 99248968 or email us at info@healthandsafety.com.mt. \nTraining can also be held privately at clients requested premises.
URL:https://healthandsafety.com.mt/schedule/basic-first-aid-course-5/
LOCATION:St Bernard’s Safety Training Centre\, St. Bernard's Health and Safety Centre\, No 11\, Left Entrance\, Triq tal-Hriereb. Msida\, Malta\, Msida\, Malta
ORGANIZER;CN="St Bernard's Safety Training Centre":MAILTO:safetytrainingmalta@gmail.com
END:VEVENT
BEGIN:VEVENT
DTSTART;TZID=Europe/London:20240406T100000
DTEND;TZID=Europe/London:20240406T130000
DTSTAMP:20260424T005054
CREATED:20240229T111209Z
LAST-MODIFIED:20240229T111209Z
UID:18304-1712397600-1712408400@healthandsafety.com.mt
SUMMARY:Basic & Paediatric First Aid Course
DESCRIPTION:For Bookings and further information\n\n 99248968\n\n info@healthandsafety.com.mt\n\nTraining can also be held at client’s Premises on request
URL:https://healthandsafety.com.mt/schedule/basic-paediatric-first-aid-course/
LOCATION:St Bernard’s Safety Training Centre\, St. Bernard's Health and Safety Centre\, No 11\, Left Entrance\, Triq tal-Hriereb. Msida\, Malta\, Msida\, Malta
ORGANIZER;CN="St Bernard's Safety Training Centre":MAILTO:safetytrainingmalta@gmail.com
END:VEVENT
BEGIN:VEVENT
DTSTART;TZID=Europe/London:20240404T160000
DTEND;TZID=Europe/London:20240404T190000
DTSTAMP:20260424T005054
CREATED:20240229T105106Z
LAST-MODIFIED:20240229T105106Z
UID:18302-1712246400-1712257200@healthandsafety.com.mt
SUMMARY:Food Handling Course
DESCRIPTION:For Bookings and further information \n📞 99248968 \n📧 info@healthandsafety.com.mt \nTraining can also be held at client’s Premises on request
URL:https://healthandsafety.com.mt/schedule/food-handling-course-53/
LOCATION:St Bernard’s Safety Training Centre\, St. Bernard's Health and Safety Centre\, No 11\, Left Entrance\, Triq tal-Hriereb. Msida\, Malta\, Msida\, Malta
ORGANIZER;CN="St Bernard's Safety Training Centre":MAILTO:safetytrainingmalta@gmail.com
END:VEVENT
BEGIN:VEVENT
DTSTART;TZID=Europe/London:20240403T080000
DTEND;TZID=Europe/London:20240403T080000
DTSTAMP:20260424T005054
CREATED:20240130T125058Z
LAST-MODIFIED:20240130T125943Z
UID:17942-1712131200-1712131200@healthandsafety.com.mt
SUMMARY:Basic First Aid Course
DESCRIPTION:For Bookings and further information \nKindly call 99248968 or email us at info@healthandsafety.com.mt. \nTraining can also be held privately at clients requested premises.
URL:https://healthandsafety.com.mt/schedule/basic-first-aid-course-4/
LOCATION:St Bernard’s Safety Training Centre\, St. Bernard's Health and Safety Centre\, No 11\, Left Entrance\, Triq tal-Hriereb. Msida\, Malta\, Msida\, Malta
ORGANIZER;CN="St Bernard's Safety Training Centre":MAILTO:safetytrainingmalta@gmail.com
END:VEVENT
BEGIN:VEVENT
DTSTART;TZID=Europe/London:20240327T133000
DTEND;TZID=Europe/London:20240327T170000
DTSTAMP:20260424T005054
CREATED:20240305T154318Z
LAST-MODIFIED:20240305T154318Z
UID:18389-1711546200-1711558800@healthandsafety.com.mt
SUMMARY:Fire Safety Course
DESCRIPTION:For Bookings and further information \nKindly call 99248968 or email us at info@healthandsafety.com.mt. \nTraining can also be held privately at clients requested premises.
URL:https://healthandsafety.com.mt/schedule/fire-safety-course/
LOCATION:St Bernard’s Safety Training Centre\, St. Bernard's Health and Safety Centre\, No 11\, Left Entrance\, Triq tal-Hriereb. Msida\, Malta\, Msida\, Malta
ORGANIZER;CN="St Bernard's Safety Training Centre":MAILTO:safetytrainingmalta@gmail.com
END:VEVENT
BEGIN:VEVENT
DTSTART;TZID=Europe/London:20240327T080000
DTEND;TZID=Europe/London:20240327T080000
DTSTAMP:20260424T005054
CREATED:20240130T125004Z
LAST-MODIFIED:20240130T125853Z
UID:17940-1711526400-1711526400@healthandsafety.com.mt
SUMMARY:Basic First Aid Course
DESCRIPTION:For Bookings and further information \nKindly call 99248968 or email us at info@healthandsafety.com.mt. \nTraining can also be held privately at clients requested premises.
URL:https://healthandsafety.com.mt/schedule/basic-first-aid-course-3/
LOCATION:St Bernard’s Safety Training Centre\, St. Bernard's Health and Safety Centre\, No 11\, Left Entrance\, Triq tal-Hriereb. Msida\, Malta\, Msida\, Malta
ORGANIZER;CN="St Bernard's Safety Training Centre":MAILTO:safetytrainingmalta@gmail.com
END:VEVENT
BEGIN:VEVENT
DTSTART;TZID=Europe/London:20240323T090000
DTEND;TZID=Europe/London:20240323T120000
DTSTAMP:20260424T005054
CREATED:20240229T104039Z
LAST-MODIFIED:20240229T104216Z
UID:18298-1711184400-1711195200@healthandsafety.com.mt
SUMMARY:Food Handling Course
DESCRIPTION:For Bookings and further information \n📞 99248968 \n📧 info@healthandsafety.com.mt \nTraining can also be held at client’s Premises on request
URL:https://healthandsafety.com.mt/schedule/food-handling-course-51/
LOCATION:St Bernard’s Safety Training Centre\, St. Bernard's Health and Safety Centre\, No 11\, Left Entrance\, Triq tal-Hriereb. Msida\, Malta\, Msida\, Malta
ORGANIZER;CN="St Bernard's Safety Training Centre":MAILTO:safetytrainingmalta@gmail.com
END:VEVENT
BEGIN:VEVENT
DTSTART;TZID=Europe/London:20240320T080000
DTEND;TZID=Europe/London:20240320T080000
DTSTAMP:20260424T005054
CREATED:20240130T124857Z
LAST-MODIFIED:20240130T125345Z
UID:17938-1710921600-1710921600@healthandsafety.com.mt
SUMMARY:Basic First Aid Course
DESCRIPTION:For Bookings and further information \nKindly call 99248968 or email us at info@healthandsafety.com.mt. \nTraining can also be held privately at clients requested premises.
URL:https://healthandsafety.com.mt/schedule/basic-first-aid-course-2/
LOCATION:St Bernard’s Safety Training Centre\, St. Bernard's Health and Safety Centre\, No 11\, Left Entrance\, Triq tal-Hriereb. Msida\, Malta\, Msida\, Malta
ORGANIZER;CN="St Bernard's Safety Training Centre":MAILTO:safetytrainingmalta@gmail.com
END:VEVENT
BEGIN:VEVENT
DTSTART;TZID=Europe/London:20240318T160000
DTEND;TZID=Europe/London:20240318T190000
DTSTAMP:20260424T005054
CREATED:20240229T104356Z
LAST-MODIFIED:20240229T104356Z
UID:18300-1710777600-1710788400@healthandsafety.com.mt
SUMMARY:Food Handling Course
DESCRIPTION:For Bookings and further information\n\n 99248968\n\n info@healthandsafety.com.mt\n\nTraining can also be held at client’s Premises on request
URL:https://healthandsafety.com.mt/schedule/food-handling-course-52/
LOCATION:St Bernard’s Safety Training Centre\, St. Bernard's Health and Safety Centre\, No 11\, Left Entrance\, Triq tal-Hriereb. Msida\, Malta\, Msida\, Malta
ORGANIZER;CN="St Bernard's Safety Training Centre":MAILTO:safetytrainingmalta@gmail.com
END:VEVENT
BEGIN:VEVENT
DTSTART;TZID=Europe/London:20240315T130000
DTEND;TZID=Europe/London:20240315T163000
DTSTAMP:20260424T005054
CREATED:20240305T154038Z
LAST-MODIFIED:20240319T113142Z
UID:18387-1710507600-1710520200@healthandsafety.com.mt
SUMMARY:Fire Warden Course
DESCRIPTION:For Bookings and further information \nKindly call 99248968 or email us at info@healthandsafety.com.mt. \nTraining can also be held privately at clients requested premises.
URL:https://healthandsafety.com.mt/schedule/fire-warden-course/
LOCATION:St Bernard’s Safety Training Centre\, St. Bernard's Health and Safety Centre\, No 11\, Left Entrance\, Triq tal-Hriereb. Msida\, Malta\, Msida\, Malta
ORGANIZER;CN="St Bernard's Safety Training Centre":MAILTO:safetytrainingmalta@gmail.com
END:VEVENT
BEGIN:VEVENT
DTSTART;TZID=Europe/London:20240315T081838
DTEND;TZID=Europe/London:20240315T081838
DTSTAMP:20260424T005054
CREATED:20240126T132046Z
LAST-MODIFIED:20240126T132046Z
UID:17864-1710490718-1710490718@healthandsafety.com.mt
SUMMARY:Basic First Aid
DESCRIPTION:
URL:https://healthandsafety.com.mt/schedule/basic-first-aid-5/
END:VEVENT
BEGIN:VEVENT
DTSTART;TZID=Europe/London:20240313T080000
DTEND;TZID=Europe/London:20240313T080000
DTSTAMP:20260424T005054
CREATED:20240130T124347Z
LAST-MODIFIED:20240130T125500Z
UID:17935-1710316800-1710316800@healthandsafety.com.mt
SUMMARY:Basic First Aid Course
DESCRIPTION:For Bookings and further information \nKindly call 99248968 or email us at info@healthandsafety.com.mt. \nTraining can also be held privately at clients requested premises.
URL:https://healthandsafety.com.mt/schedule/basic-first-aid-course/
LOCATION:St Bernard’s Safety Training Centre\, St. Bernard's Health and Safety Centre\, No 11\, Left Entrance\, Triq tal-Hriereb. Msida\, Malta\, Msida\, Malta
ORGANIZER;CN="St Bernard's Safety Training Centre":MAILTO:safetytrainingmalta@gmail.com
END:VEVENT
BEGIN:VEVENT
DTSTART;TZID=Europe/London:20240223T150000
DTEND;TZID=Europe/London:20240223T180000
DTSTAMP:20260424T005054
CREATED:20240111T140348Z
LAST-MODIFIED:20240111T140348Z
UID:17683-1708700400-1708711200@healthandsafety.com.mt
SUMMARY:Food Handling Course
DESCRIPTION:
URL:https://healthandsafety.com.mt/schedule/food-handling-course-48/
LOCATION:St Bernard’s Safety Training Centre\, St. Bernard's Health and Safety Centre\, No 11\, Left Entrance\, Triq tal-Hriereb. Msida\, Malta\, Msida\, Malta
END:VEVENT
BEGIN:VEVENT
DTSTART;TZID=Europe/London:20240216T153000
DTEND;TZID=Europe/London:20240216T183000
DTSTAMP:20260424T005054
CREATED:20240205T142707Z
LAST-MODIFIED:20240205T142707Z
UID:18020-1708097400-1708108200@healthandsafety.com.mt
SUMMARY:Food Handling Course
DESCRIPTION:For Bookings and further information call us at  99248968 or email us at info@healthandsafety.com.mt.\n\nTraining can also be held at client’s Premises on request
URL:https://healthandsafety.com.mt/schedule/food-handling-course-49/
LOCATION:St Bernard’s Safety Training Centre\, St. Bernard's Health and Safety Centre\, No 11\, Left Entrance\, Triq tal-Hriereb. Msida\, Malta\, Msida\, Malta
ORGANIZER;CN="St Bernard's Safety Training Centre":MAILTO:safetytrainingmalta@gmail.com
END:VEVENT
END:VCALENDAR