BEGIN:VCALENDAR
VERSION:2.0
PRODID:-//St. Bernard&#039;s Health and Safety Institute - ECPv6.15.17.1//NONSGML v1.0//EN
CALSCALE:GREGORIAN
METHOD:PUBLISH
X-WR-CALNAME:St. Bernard&#039;s Health and Safety Institute
X-ORIGINAL-URL:https://healthandsafety.com.mt
X-WR-CALDESC:Events for St. Bernard&#039;s Health and Safety Institute
REFRESH-INTERVAL;VALUE=DURATION:PT1H
X-Robots-Tag:noindex
X-PUBLISHED-TTL:PT1H
BEGIN:VTIMEZONE
TZID:Europe/London
BEGIN:DAYLIGHT
TZOFFSETFROM:+0000
TZOFFSETTO:+0100
TZNAME:BST
DTSTART:20180325T010000
END:DAYLIGHT
BEGIN:STANDARD
TZOFFSETFROM:+0100
TZOFFSETTO:+0000
TZNAME:GMT
DTSTART:20181028T010000
END:STANDARD
BEGIN:DAYLIGHT
TZOFFSETFROM:+0000
TZOFFSETTO:+0100
TZNAME:BST
DTSTART:20190331T010000
END:DAYLIGHT
BEGIN:STANDARD
TZOFFSETFROM:+0100
TZOFFSETTO:+0000
TZNAME:GMT
DTSTART:20191027T010000
END:STANDARD
BEGIN:DAYLIGHT
TZOFFSETFROM:+0000
TZOFFSETTO:+0100
TZNAME:BST
DTSTART:20200329T010000
END:DAYLIGHT
BEGIN:STANDARD
TZOFFSETFROM:+0100
TZOFFSETTO:+0000
TZNAME:GMT
DTSTART:20201025T010000
END:STANDARD
BEGIN:DAYLIGHT
TZOFFSETFROM:+0000
TZOFFSETTO:+0100
TZNAME:BST
DTSTART:20210328T010000
END:DAYLIGHT
BEGIN:STANDARD
TZOFFSETFROM:+0100
TZOFFSETTO:+0000
TZNAME:GMT
DTSTART:20211031T010000
END:STANDARD
END:VTIMEZONE
BEGIN:VEVENT
DTSTART;TZID=Europe/London:20200502T093000
DTEND;TZID=Europe/London:20200502T140000
DTSTAMP:20260424T150453
CREATED:20200303T065533Z
LAST-MODIFIED:20200303T065533Z
UID:4550-1588411800-1588428000@healthandsafety.com.mt
SUMMARY:First Aid Course - Paediatric Included
DESCRIPTION:https://forms.gle/dkk99sZfq2iif8Ne7\n\nFirst Aid Booking Form
URL:https://healthandsafety.com.mt/schedule/first-aid-course-paediatric-included-5/
LOCATION:St Bernard’s Safety Training Centre\, St. Bernard's Health and Safety Centre\, No 11\, Left Entrance\, Triq tal-Hriereb. Msida\, Malta\, Msida\, Malta
END:VEVENT
BEGIN:VEVENT
DTSTART;VALUE=DATE:20200425
DTEND;VALUE=DATE:20200426
DTSTAMP:20260424T150453
CREATED:20191217T094650Z
LAST-MODIFIED:20191217T094650Z
UID:3331-1587772800-1587859199@healthandsafety.com.mt
SUMMARY:Food Handling Course
DESCRIPTION:Register your place here: https://forms.gle/L3Q3PeF4PXWrEk2D6 \nFull course information and schedule included. \nCannot attend? Do it Online. Go to the following link to purchase https://healthandsafety.com.mt/product/online-food-handling-course-b/
URL:https://healthandsafety.com.mt/schedule/food-handling-course-42/
LOCATION:St Bernard’s Safety Training Centre\, St. Bernard's Health and Safety Centre\, No 11\, Left Entrance\, Triq tal-Hriereb. Msida\, Malta\, Msida\, Malta
ORGANIZER;CN="St Bernard's Safety Training Centre":MAILTO:safetytrainingmalta@gmail.com
END:VEVENT
BEGIN:VEVENT
DTSTART;VALUE=DATE:20200408
DTEND;VALUE=DATE:20200409
DTSTAMP:20260424T150453
CREATED:20191217T094058Z
LAST-MODIFIED:20191217T094335Z
UID:3329-1586304000-1586390399@healthandsafety.com.mt
SUMMARY:Food Handling Course
DESCRIPTION:Register your place here: https://forms.gle/L3Q3PeF4PXWrEk2D6 \nFull course information and schedule included. \nCannot attend? Do it Online. Go to the following link to purchase https://healthandsafety.com.mt/product/online-food-handling-course-b/
URL:https://healthandsafety.com.mt/schedule/food-handling-course-41/
LOCATION:St Bernard’s Safety Training Centre\, St. Bernard's Health and Safety Centre\, No 11\, Left Entrance\, Triq tal-Hriereb. Msida\, Malta\, Msida\, Malta
END:VEVENT
BEGIN:VEVENT
DTSTART;TZID=Europe/London:20200404T093000
DTEND;TZID=Europe/London:20200404T140000
DTSTAMP:20260424T150453
CREATED:20200303T065255Z
LAST-MODIFIED:20200303T065256Z
UID:4548-1585992600-1586008800@healthandsafety.com.mt
SUMMARY:First Aid Course - Paediatric Included
DESCRIPTION:https://forms.gle/dkk99sZfq2iif8Ne7\n\nFirst Aid Booking Form
URL:https://healthandsafety.com.mt/schedule/first-aid-course-paediatric-included-4/
END:VEVENT
BEGIN:VEVENT
DTSTART;TZID=Europe/London:20200330T093000
DTEND;TZID=Europe/London:20200330T133000
DTSTAMP:20260424T150453
CREATED:20200128T111913Z
LAST-MODIFIED:20200128T111913Z
UID:4002-1585560600-1585575000@healthandsafety.com.mt
SUMMARY:Fire Fighting and Prevention
DESCRIPTION:For Bookings call 99248968 or email:info@healthandsafety.com.mt \nOn-site training also available.
URL:https://healthandsafety.com.mt/schedule/fire-fighting-and-prevention/
END:VEVENT
BEGIN:VEVENT
DTSTART;VALUE=DATE:20200328
DTEND;VALUE=DATE:20200329
DTSTAMP:20260424T150453
CREATED:20191217T093936Z
LAST-MODIFIED:20191217T093936Z
UID:3327-1585353600-1585439999@healthandsafety.com.mt
SUMMARY:Food Handling Course
DESCRIPTION:Register your place here: https://forms.gle/L3Q3PeF4PXWrEk2D6 \nFull course information and schedule included. \nCannot attend? Do it Online. Go to the following link to purchase https://healthandsafety.com.mt/product/online-food-handling-course-b/
URL:https://healthandsafety.com.mt/schedule/food-handling-course-40/
END:VEVENT
BEGIN:VEVENT
DTSTART;VALUE=DATE:20200314
DTEND;VALUE=DATE:20200315
DTSTAMP:20260424T150453
CREATED:20191217T093653Z
LAST-MODIFIED:20191217T093707Z
UID:3324-1584144000-1584230399@healthandsafety.com.mt
SUMMARY:Food Handling Course
DESCRIPTION:Register your place here: https://forms.gle/L3Q3PeF4PXWrEk2D6 \nFull course information and schedule included. \nCannot attend? Do it Online. Go to the following link to purchase https://healthandsafety.com.mt/product/online-food-handling-course-b/
URL:https://healthandsafety.com.mt/schedule/food-handling-2/
LOCATION:St Bernard’s Safety Training Centre\, St. Bernard's Health and Safety Centre\, No 11\, Left Entrance\, Triq tal-Hriereb. Msida\, Malta\, Msida\, Malta
ORGANIZER;CN="St Bernard's Safety Training Centre":MAILTO:safetytrainingmalta@gmail.com
END:VEVENT
BEGIN:VEVENT
DTSTART;TZID=Europe/London:20200307T093000
DTEND;TZID=Europe/London:20200307T140000
DTSTAMP:20260424T150453
CREATED:20200303T064836Z
LAST-MODIFIED:20200303T064837Z
UID:4546-1583573400-1583589600@healthandsafety.com.mt
SUMMARY:First Aid Course - Paediatric Included
DESCRIPTION:
URL:https://healthandsafety.com.mt/schedule/first-aid-course-paediatric-included-3/
LOCATION:St Bernard’s Safety Training Centre\, St. Bernard's Health and Safety Centre\, No 11\, Left Entrance\, Triq tal-Hriereb. Msida\, Malta\, Msida\, Malta
END:VEVENT
BEGIN:VEVENT
DTSTART;TZID=Europe/London:20200306T133000
DTEND;TZID=Europe/London:20200306T170000
DTSTAMP:20260424T150453
CREATED:20200128T111713Z
LAST-MODIFIED:20200128T111713Z
UID:4000-1583501400-1583514000@healthandsafety.com.mt
SUMMARY:Basic Fire Fighting and Prevention
DESCRIPTION:For Bookings call 99248968 or email:info@healthandsafety.com.mt \nOn-site training also available.
URL:https://healthandsafety.com.mt/schedule/basic-fire-fighting-and-prevention/
LOCATION:St Bernard’s Safety Training Centre\, St. Bernard's Health and Safety Centre\, No 11\, Left Entrance\, Triq tal-Hriereb. Msida\, Malta\, Msida\, Malta
END:VEVENT
BEGIN:VEVENT
DTSTART;VALUE=DATE:20200229
DTEND;VALUE=DATE:20200301
DTSTAMP:20260424T150453
CREATED:20191217T093521Z
LAST-MODIFIED:20191217T093521Z
UID:3322-1582934400-1583020799@healthandsafety.com.mt
SUMMARY:Food Handling Course
DESCRIPTION:Register your place here: https://forms.gle/L3Q3PeF4PXWrEk2D6 \nFull course information and schedule included. \nCannot attend? Do it Online. Go to the following link to purchase https://healthandsafety.com.mt/product/online-food-handling-course-b/
URL:https://healthandsafety.com.mt/schedule/food-handling-course-39/
END:VEVENT
BEGIN:VEVENT
DTSTART;VALUE=DATE:20200218
DTEND;VALUE=DATE:20200219
DTSTAMP:20260424T150453
CREATED:20191217T093140Z
LAST-MODIFIED:20191217T093140Z
UID:3320-1581984000-1582070399@healthandsafety.com.mt
SUMMARY:Food Handling Course
DESCRIPTION:Register your place here: https://forms.gle/L3Q3PeF4PXWrEk2D6 \nFull course information and schedule included. \nCannot attend? Do it Online. Go to the following link to purchase https://healthandsafety.com.mt/product/online-food-handling-course-b/
URL:https://healthandsafety.com.mt/schedule/food-handling-course-38/
LOCATION:St Bernard’s Safety Training Centre\, St. Bernard's Health and Safety Centre\, No 11\, Left Entrance\, Triq tal-Hriereb. Msida\, Malta\, Msida\, Malta
END:VEVENT
BEGIN:VEVENT
DTSTART;VALUE=DATE:20200208
DTEND;VALUE=DATE:20200209
DTSTAMP:20260424T150453
CREATED:20191217T092855Z
LAST-MODIFIED:20191217T092855Z
UID:3318-1581120000-1581206399@healthandsafety.com.mt
SUMMARY:Food Handling Course
DESCRIPTION:Register your place here: https://forms.gle/L3Q3PeF4PXWrEk2D6 \nFull course information and schedule included. \nCannot attend? Do it Online. Go to the following link to purchase https://healthandsafety.com.mt/product/online-food-handling-course-b/
URL:https://healthandsafety.com.mt/schedule/food-handling-course-37/
LOCATION:St Bernard’s Safety Training Centre\, St. Bernard's Health and Safety Centre\, No 11\, Left Entrance\, Triq tal-Hriereb. Msida\, Malta\, Msida\, Malta
ORGANIZER;CN="St Bernard's Safety Training Centre":MAILTO:safetytrainingmalta@gmail.com
END:VEVENT
BEGIN:VEVENT
DTSTART;TZID=Europe/London:20200207T113000
DTEND;TZID=Europe/London:20200207T143000
DTSTAMP:20260424T150453
CREATED:20200128T111550Z
LAST-MODIFIED:20200128T111550Z
UID:3998-1581075000-1581085800@healthandsafety.com.mt
SUMMARY:Basic Fire Fighting inc Warden Course
DESCRIPTION:For Bookings call 99248968 or email:info@healthandsafety.com.mt \nOn-site training also available.
URL:https://healthandsafety.com.mt/schedule/basic-fire-fighting-inc-warden-course/
LOCATION:St Bernard’s Safety Training Centre\, St. Bernard's Health and Safety Centre\, No 11\, Left Entrance\, Triq tal-Hriereb. Msida\, Malta\, Msida\, Malta
END:VEVENT
BEGIN:VEVENT
DTSTART;VALUE=DATE:20200125
DTEND;VALUE=DATE:20200126
DTSTAMP:20260424T150453
CREATED:20191217T092527Z
LAST-MODIFIED:20191217T092527Z
UID:3313-1579910400-1579996799@healthandsafety.com.mt
SUMMARY:Food Handling Course
DESCRIPTION:Register your place here: https://forms.gle/L3Q3PeF4PXWrEk2D6 \nFull course information and schedule included. \nCannot attend? Do it Online. Go to the following link to purchase https://healthandsafety.com.mt/product/online-food-handling-course-b/
URL:https://healthandsafety.com.mt/schedule/food-handling-course-36/
ATTACH;FMTTYPE=image/jpeg:https://healthandsafety.com.mt/wp-content/uploads/2019/12/8.jpg
ORGANIZER;CN="St Bernard's Safety Training Centre":MAILTO:safetytrainingmalta@gmail.com
END:VEVENT
BEGIN:VEVENT
DTSTART;TZID=Europe/London:20200118T093000
DTEND;TZID=Europe/London:20200118T140000
DTSTAMP:20260424T150453
CREATED:20191217T092657Z
LAST-MODIFIED:20191217T092657Z
UID:3316-1579339800-1579356000@healthandsafety.com.mt
SUMMARY:First Aid Course - Paediatric Included
DESCRIPTION:
URL:https://healthandsafety.com.mt/schedule/first-aid-course-paediatric-included-2/
LOCATION:St Bernard’s Safety Training Centre\, St. Bernard's Health and Safety Centre\, No 11\, Left Entrance\, Triq tal-Hriereb. Msida\, Malta\, Msida\, Malta
ORGANIZER;CN="St Bernard's Safety Training Centre":MAILTO:safetytrainingmalta@gmail.com
END:VEVENT
BEGIN:VEVENT
DTSTART;VALUE=DATE:20200111
DTEND;VALUE=DATE:20200112
DTSTAMP:20260424T150453
CREATED:20191217T092021Z
LAST-MODIFIED:20191217T095937Z
UID:3311-1578700800-1578787199@healthandsafety.com.mt
SUMMARY:Food Handling Course
DESCRIPTION:Register your place here: https://forms.gle/L3Q3PeF4PXWrEk2D6 \nFull course information and schedule included. \nCannot attend? Do it Online. Go to the following link to purchase https://healthandsafety.com.mt/product/online-food-handling-course-b/
URL:https://healthandsafety.com.mt/schedule/food-handling-course-35/
LOCATION:St Bernard’s Safety Training Centre\, St. Bernard's Health and Safety Centre\, No 11\, Left Entrance\, Triq tal-Hriereb. Msida\, Malta\, Msida\, Malta
ORGANIZER;CN="St Bernard's Safety Training Centre":MAILTO:safetytrainingmalta@gmail.com
END:VEVENT
BEGIN:VEVENT
DTSTART;VALUE=DATE:20191227
DTEND;VALUE=DATE:20191228
DTSTAMP:20260424T150453
CREATED:20191205T144353Z
LAST-MODIFIED:20191205T144353Z
UID:3171-1577404800-1577491199@healthandsafety.com.mt
SUMMARY:Food Handling Course
DESCRIPTION:
URL:https://healthandsafety.com.mt/schedule/food-handling-course-34/
LOCATION:St Bernard’s Safety Training Centre\, St. Bernard's Health and Safety Centre\, No 11\, Left Entrance\, Triq tal-Hriereb. Msida\, Malta\, Msida\, Malta
END:VEVENT
BEGIN:VEVENT
DTSTART;VALUE=DATE:20191217
DTEND;VALUE=DATE:20191218
DTSTAMP:20260424T150453
CREATED:20191008T071017Z
LAST-MODIFIED:20191008T071214Z
UID:2692-1576540800-1576627199@healthandsafety.com.mt
SUMMARY:Food Handling Course
DESCRIPTION:https://forms.gle/NyLHxzpNhxfifFAD9  \nClick on the link for full details and register your place. \nCannot attend on this date? All courses are available ONLINE. \nGo to: https://healthandsafety.com.mt/product-category/online/ \nto purchase. \n 
URL:https://healthandsafety.com.mt/schedule/food-handling-course-32/
LOCATION:St Bernard’s Safety Training Centre\, St. Bernard's Health and Safety Centre\, No 11\, Left Entrance\, Triq tal-Hriereb. Msida\, Malta\, Msida\, Malta
END:VEVENT
BEGIN:VEVENT
DTSTART;VALUE=DATE:20191214
DTEND;VALUE=DATE:20191215
DTSTAMP:20260424T150453
CREATED:20191205T143745Z
LAST-MODIFIED:20191205T143745Z
UID:3168-1576281600-1576367999@healthandsafety.com.mt
SUMMARY:Food Handling Course
DESCRIPTION:
URL:https://healthandsafety.com.mt/schedule/food-handling-course-33/
LOCATION:St Bernard’s Safety Training Centre\, St. Bernard's Health and Safety Centre\, No 11\, Left Entrance\, Triq tal-Hriereb. Msida\, Malta\, Msida\, Malta
ORGANIZER;CN="St Bernard's Safety Training Centre":MAILTO:safetytrainingmalta@gmail.com
END:VEVENT
BEGIN:VEVENT
DTSTART;TZID=Europe/London:20191201T090000
DTEND;TZID=Europe/London:20191201T140000
DTSTAMP:20260424T150453
CREATED:20191029T144414Z
LAST-MODIFIED:20191029T144414Z
UID:2757-1575190800-1575208800@healthandsafety.com.mt
SUMMARY:Basic First Aid including Paediatric - Kors bil-Malti
DESCRIPTION:
URL:https://healthandsafety.com.mt/schedule/basic-first-aid-including-paediatric-kors-bil-malti/
LOCATION:St Bernard’s Safety Training Centre\, St. Bernard's Health and Safety Centre\, No 11\, Left Entrance\, Triq tal-Hriereb. Msida\, Malta\, Msida\, Malta
END:VEVENT
BEGIN:VEVENT
DTSTART;TZID=Europe/London:20191129T090000
DTEND;TZID=Europe/London:20191129T140000
DTSTAMP:20260424T150453
CREATED:20191118T105212Z
LAST-MODIFIED:20191118T105320Z
UID:2898-1575018000-1575036000@healthandsafety.com.mt
SUMMARY:Basic First Aid - Use of AED included
DESCRIPTION:
URL:https://healthandsafety.com.mt/schedule/emergency-first-aid-course-paediatric-included-2/
LOCATION:St Bernard’s Safety Training Centre\, St. Bernard's Health and Safety Centre\, No 11\, Left Entrance\, Triq tal-Hriereb. Msida\, Malta\, Msida\, Malta
ORGANIZER;CN="St Bernard's Safety Training Centre":MAILTO:safetytrainingmalta@gmail.com
END:VEVENT
BEGIN:VEVENT
DTSTART;VALUE=DATE:20191128
DTEND;VALUE=DATE:20191129
DTSTAMP:20260424T150453
CREATED:20191008T070616Z
LAST-MODIFIED:20191008T071302Z
UID:2690-1574899200-1574985599@healthandsafety.com.mt
SUMMARY:Food Handling Course
DESCRIPTION:https://forms.gle/NyLHxzpNhxfifFAD9  \nClick on the link for full details and register your place. \nCannot attend on this date? All courses are available ONLINE. \nGo to: https://healthandsafety.com.mt/product-category/online/ \nto purchase.
URL:https://healthandsafety.com.mt/schedule/food-handling-course-31/
LOCATION:St Bernard’s Safety Training Centre\, St. Bernard's Health and Safety Centre\, No 11\, Left Entrance\, Triq tal-Hriereb. Msida\, Malta\, Msida\, Malta
END:VEVENT
BEGIN:VEVENT
DTSTART;TZID=Europe/London:20191116T093000
DTEND;TZID=Europe/London:20191116T140000
DTSTAMP:20260424T150453
CREATED:20191029T143520Z
LAST-MODIFIED:20191029T143521Z
UID:2752-1573896600-1573912800@healthandsafety.com.mt
SUMMARY:Basic First Aid including Paediatric
DESCRIPTION:
URL:https://healthandsafety.com.mt/schedule/basic-first-aid-including-paediatric/
LOCATION:St Bernard’s Safety Training Centre\, St. Bernard's Health and Safety Centre\, No 11\, Left Entrance\, Triq tal-Hriereb. Msida\, Malta\, Msida\, Malta
ORGANIZER;CN="St Bernard's Safety Training Centre":MAILTO:safetytrainingmalta@gmail.com
END:VEVENT
BEGIN:VEVENT
DTSTART;TZID=Europe/London:20191115T090000
DTEND;TZID=Europe/London:20191115T140000
DTSTAMP:20260424T150453
CREATED:20191008T065622Z
LAST-MODIFIED:20191009T130809Z
UID:2681-1573808400-1573826400@healthandsafety.com.mt
SUMMARY:Emergency First Aid at Work
DESCRIPTION:
URL:https://healthandsafety.com.mt/schedule/emergency-first-aid-at-work-2/
LOCATION:St Bernard’s Safety Training Centre\, St. Bernard's Health and Safety Centre\, No 11\, Left Entrance\, Triq tal-Hriereb. Msida\, Malta\, Msida\, Malta
ORGANIZER;CN="St Bernard's Safety Training Centre":MAILTO:safetytrainingmalta@gmail.com
END:VEVENT
BEGIN:VEVENT
DTSTART;VALUE=DATE:20191114
DTEND;VALUE=DATE:20191115
DTSTAMP:20260424T150453
CREATED:20191008T070451Z
LAST-MODIFIED:20191008T070521Z
UID:2688-1573689600-1573775999@healthandsafety.com.mt
SUMMARY:Food Handling Course
DESCRIPTION:https://forms.gle/NyLHxzpNhxfifFAD9  \nClick on the link for full details and register your place.
URL:https://healthandsafety.com.mt/schedule/food-handling-course-30/
LOCATION:St Bernard’s Safety Training Centre\, St. Bernard's Health and Safety Centre\, No 11\, Left Entrance\, Triq tal-Hriereb. Msida\, Malta\, Msida\, Malta
ORGANIZER;CN="St Bernard's Safety Training Centre":MAILTO:safetytrainingmalta@gmail.com
END:VEVENT
BEGIN:VEVENT
DTSTART;TZID=Europe/London:20191108T130000
DTEND;TZID=Europe/London:20191108T170000
DTSTAMP:20260424T150453
CREATED:20191008T063907Z
LAST-MODIFIED:20191008T063907Z
UID:2677-1573218000-1573232400@healthandsafety.com.mt
SUMMARY:Basic Fire Fighting & Prevention inc Fire Warden
DESCRIPTION:
URL:https://healthandsafety.com.mt/schedule/basic-fire-fighting-prevention-inc-fire-warden/
LOCATION:St Bernard’s Safety Training Centre\, St. Bernard's Health and Safety Centre\, No 11\, Left Entrance\, Triq tal-Hriereb. Msida\, Malta\, Msida\, Malta
ORGANIZER;CN="St Bernard's Safety Training Centre":MAILTO:safetytrainingmalta@gmail.com
END:VEVENT
BEGIN:VEVENT
DTSTART;VALUE=DATE:20191102
DTEND;VALUE=DATE:20191103
DTSTAMP:20260424T150453
CREATED:20191008T070309Z
LAST-MODIFIED:20191008T071351Z
UID:2685-1572652800-1572739199@healthandsafety.com.mt
SUMMARY:Food Handling Course
DESCRIPTION:https://forms.gle/NyLHxzpNhxfifFAD9  \nClick on the link for full details and register your place. \nCannot attend on this date? All courses are available ONLINE. \nGo to: https://healthandsafety.com.mt/product-category/online/ \nto purchase. \n 
URL:https://healthandsafety.com.mt/schedule/food-handling-course-26/
LOCATION:St Bernard’s Safety Training Centre\, St. Bernard's Health and Safety Centre\, No 11\, Left Entrance\, Triq tal-Hriereb. Msida\, Malta\, Msida\, Malta
ORGANIZER;CN="St Bernard's Safety Training Centre":MAILTO:safetytrainingmalta@gmail.com
END:VEVENT
BEGIN:VEVENT
DTSTART;TZID=Europe/London:20191029T080000
DTEND;TZID=Europe/London:20191029T170000
DTSTAMP:20260424T150453
CREATED:20191029T143745Z
LAST-MODIFIED:20191029T143745Z
UID:2754-1572336000-1572368400@healthandsafety.com.mt
SUMMARY:Basic First Aid including Paediatric
DESCRIPTION:
URL:https://healthandsafety.com.mt/schedule/basic-first-aid-including-paediatric-2/
LOCATION:Ghajnsielem Parish Centre
END:VEVENT
BEGIN:VEVENT
DTSTART;TZID=Europe/London:20191025T090000
DTEND;TZID=Europe/London:20191025T140000
DTSTAMP:20260424T150453
CREATED:20191008T065439Z
LAST-MODIFIED:20191008T065439Z
UID:2679-1571994000-1572012000@healthandsafety.com.mt
SUMMARY:Emergency First Aid at Work
DESCRIPTION:
URL:https://healthandsafety.com.mt/schedule/emergency-first-aid-at-work/
LOCATION:St Bernard’s Safety Training Centre\, St. Bernard's Health and Safety Centre\, No 11\, Left Entrance\, Triq tal-Hriereb. Msida\, Malta\, Msida\, Malta
ORGANIZER;CN="St Bernard's Safety Training Centre":MAILTO:safetytrainingmalta@gmail.com
END:VEVENT
BEGIN:VEVENT
DTSTART;VALUE=DATE:20191017
DTEND;VALUE=DATE:20191018
DTSTAMP:20260424T150453
CREATED:20191008T065932Z
LAST-MODIFIED:20191008T070337Z
UID:2683-1571270400-1571356799@healthandsafety.com.mt
SUMMARY:Food Handling Course
DESCRIPTION:https://forms.gle/NyLHxzpNhxfifFAD9  \nClick on the link for full details and register your place.
URL:https://healthandsafety.com.mt/schedule/food-handling-course-24/
LOCATION:St Bernard’s Safety Training Centre\, St. Bernard's Health and Safety Centre\, No 11\, Left Entrance\, Triq tal-Hriereb. Msida\, Malta\, Msida\, Malta
ORGANIZER;CN="St Bernard's Safety Training Centre":MAILTO:safetytrainingmalta@gmail.com
END:VEVENT
END:VCALENDAR