BEGIN:VCALENDAR
VERSION:2.0
PRODID:-//St. Bernard&#039;s Health and Safety Institute - ECPv6.15.17.1//NONSGML v1.0//EN
CALSCALE:GREGORIAN
METHOD:PUBLISH
X-WR-CALNAME:St. Bernard&#039;s Health and Safety Institute
X-ORIGINAL-URL:https://healthandsafety.com.mt
X-WR-CALDESC:Events for St. Bernard&#039;s Health and Safety Institute
REFRESH-INTERVAL;VALUE=DURATION:PT1H
X-Robots-Tag:noindex
X-PUBLISHED-TTL:PT1H
BEGIN:VTIMEZONE
TZID:Europe/London
BEGIN:DAYLIGHT
TZOFFSETFROM:+0000
TZOFFSETTO:+0100
TZNAME:BST
DTSTART:20180325T010000
END:DAYLIGHT
BEGIN:STANDARD
TZOFFSETFROM:+0100
TZOFFSETTO:+0000
TZNAME:GMT
DTSTART:20181028T010000
END:STANDARD
BEGIN:DAYLIGHT
TZOFFSETFROM:+0000
TZOFFSETTO:+0100
TZNAME:BST
DTSTART:20190331T010000
END:DAYLIGHT
BEGIN:STANDARD
TZOFFSETFROM:+0100
TZOFFSETTO:+0000
TZNAME:GMT
DTSTART:20191027T010000
END:STANDARD
BEGIN:DAYLIGHT
TZOFFSETFROM:+0000
TZOFFSETTO:+0100
TZNAME:BST
DTSTART:20200329T010000
END:DAYLIGHT
BEGIN:STANDARD
TZOFFSETFROM:+0100
TZOFFSETTO:+0000
TZNAME:GMT
DTSTART:20201025T010000
END:STANDARD
END:VTIMEZONE
BEGIN:VEVENT
DTSTART;VALUE=DATE:20191217
DTEND;VALUE=DATE:20191218
DTSTAMP:20260424T163529
CREATED:20191008T071017Z
LAST-MODIFIED:20191008T071214Z
UID:2692-1576540800-1576627199@healthandsafety.com.mt
SUMMARY:Food Handling Course
DESCRIPTION:https://forms.gle/NyLHxzpNhxfifFAD9  \nClick on the link for full details and register your place. \nCannot attend on this date? All courses are available ONLINE. \nGo to: https://healthandsafety.com.mt/product-category/online/ \nto purchase. \n 
URL:https://healthandsafety.com.mt/schedule/food-handling-course-32/
LOCATION:St Bernard’s Safety Training Centre\, St. Bernard's Health and Safety Centre\, No 11\, Left Entrance\, Triq tal-Hriereb. Msida\, Malta\, Msida\, Malta
END:VEVENT
BEGIN:VEVENT
DTSTART;VALUE=DATE:20191214
DTEND;VALUE=DATE:20191215
DTSTAMP:20260424T163529
CREATED:20191205T143745Z
LAST-MODIFIED:20191205T143745Z
UID:3168-1576281600-1576367999@healthandsafety.com.mt
SUMMARY:Food Handling Course
DESCRIPTION:
URL:https://healthandsafety.com.mt/schedule/food-handling-course-33/
LOCATION:St Bernard’s Safety Training Centre\, St. Bernard's Health and Safety Centre\, No 11\, Left Entrance\, Triq tal-Hriereb. Msida\, Malta\, Msida\, Malta
ORGANIZER;CN="St Bernard's Safety Training Centre":MAILTO:safetytrainingmalta@gmail.com
END:VEVENT
BEGIN:VEVENT
DTSTART;TZID=Europe/London:20191201T090000
DTEND;TZID=Europe/London:20191201T140000
DTSTAMP:20260424T163529
CREATED:20191029T144414Z
LAST-MODIFIED:20191029T144414Z
UID:2757-1575190800-1575208800@healthandsafety.com.mt
SUMMARY:Basic First Aid including Paediatric - Kors bil-Malti
DESCRIPTION:
URL:https://healthandsafety.com.mt/schedule/basic-first-aid-including-paediatric-kors-bil-malti/
LOCATION:St Bernard’s Safety Training Centre\, St. Bernard's Health and Safety Centre\, No 11\, Left Entrance\, Triq tal-Hriereb. Msida\, Malta\, Msida\, Malta
END:VEVENT
BEGIN:VEVENT
DTSTART;TZID=Europe/London:20191129T090000
DTEND;TZID=Europe/London:20191129T140000
DTSTAMP:20260424T163529
CREATED:20191118T105212Z
LAST-MODIFIED:20191118T105320Z
UID:2898-1575018000-1575036000@healthandsafety.com.mt
SUMMARY:Basic First Aid - Use of AED included
DESCRIPTION:
URL:https://healthandsafety.com.mt/schedule/emergency-first-aid-course-paediatric-included-2/
LOCATION:St Bernard’s Safety Training Centre\, St. Bernard's Health and Safety Centre\, No 11\, Left Entrance\, Triq tal-Hriereb. Msida\, Malta\, Msida\, Malta
ORGANIZER;CN="St Bernard's Safety Training Centre":MAILTO:safetytrainingmalta@gmail.com
END:VEVENT
BEGIN:VEVENT
DTSTART;VALUE=DATE:20191128
DTEND;VALUE=DATE:20191129
DTSTAMP:20260424T163529
CREATED:20191008T070616Z
LAST-MODIFIED:20191008T071302Z
UID:2690-1574899200-1574985599@healthandsafety.com.mt
SUMMARY:Food Handling Course
DESCRIPTION:https://forms.gle/NyLHxzpNhxfifFAD9  \nClick on the link for full details and register your place. \nCannot attend on this date? All courses are available ONLINE. \nGo to: https://healthandsafety.com.mt/product-category/online/ \nto purchase.
URL:https://healthandsafety.com.mt/schedule/food-handling-course-31/
LOCATION:St Bernard’s Safety Training Centre\, St. Bernard's Health and Safety Centre\, No 11\, Left Entrance\, Triq tal-Hriereb. Msida\, Malta\, Msida\, Malta
END:VEVENT
BEGIN:VEVENT
DTSTART;TZID=Europe/London:20191116T093000
DTEND;TZID=Europe/London:20191116T140000
DTSTAMP:20260424T163529
CREATED:20191029T143520Z
LAST-MODIFIED:20191029T143521Z
UID:2752-1573896600-1573912800@healthandsafety.com.mt
SUMMARY:Basic First Aid including Paediatric
DESCRIPTION:
URL:https://healthandsafety.com.mt/schedule/basic-first-aid-including-paediatric/
LOCATION:St Bernard’s Safety Training Centre\, St. Bernard's Health and Safety Centre\, No 11\, Left Entrance\, Triq tal-Hriereb. Msida\, Malta\, Msida\, Malta
ORGANIZER;CN="St Bernard's Safety Training Centre":MAILTO:safetytrainingmalta@gmail.com
END:VEVENT
BEGIN:VEVENT
DTSTART;TZID=Europe/London:20191115T090000
DTEND;TZID=Europe/London:20191115T140000
DTSTAMP:20260424T163529
CREATED:20191008T065622Z
LAST-MODIFIED:20191009T130809Z
UID:2681-1573808400-1573826400@healthandsafety.com.mt
SUMMARY:Emergency First Aid at Work
DESCRIPTION:
URL:https://healthandsafety.com.mt/schedule/emergency-first-aid-at-work-2/
LOCATION:St Bernard’s Safety Training Centre\, St. Bernard's Health and Safety Centre\, No 11\, Left Entrance\, Triq tal-Hriereb. Msida\, Malta\, Msida\, Malta
ORGANIZER;CN="St Bernard's Safety Training Centre":MAILTO:safetytrainingmalta@gmail.com
END:VEVENT
BEGIN:VEVENT
DTSTART;VALUE=DATE:20191114
DTEND;VALUE=DATE:20191115
DTSTAMP:20260424T163529
CREATED:20191008T070451Z
LAST-MODIFIED:20191008T070521Z
UID:2688-1573689600-1573775999@healthandsafety.com.mt
SUMMARY:Food Handling Course
DESCRIPTION:https://forms.gle/NyLHxzpNhxfifFAD9  \nClick on the link for full details and register your place.
URL:https://healthandsafety.com.mt/schedule/food-handling-course-30/
LOCATION:St Bernard’s Safety Training Centre\, St. Bernard's Health and Safety Centre\, No 11\, Left Entrance\, Triq tal-Hriereb. Msida\, Malta\, Msida\, Malta
ORGANIZER;CN="St Bernard's Safety Training Centre":MAILTO:safetytrainingmalta@gmail.com
END:VEVENT
BEGIN:VEVENT
DTSTART;TZID=Europe/London:20191108T130000
DTEND;TZID=Europe/London:20191108T170000
DTSTAMP:20260424T163529
CREATED:20191008T063907Z
LAST-MODIFIED:20191008T063907Z
UID:2677-1573218000-1573232400@healthandsafety.com.mt
SUMMARY:Basic Fire Fighting & Prevention inc Fire Warden
DESCRIPTION:
URL:https://healthandsafety.com.mt/schedule/basic-fire-fighting-prevention-inc-fire-warden/
LOCATION:St Bernard’s Safety Training Centre\, St. Bernard's Health and Safety Centre\, No 11\, Left Entrance\, Triq tal-Hriereb. Msida\, Malta\, Msida\, Malta
ORGANIZER;CN="St Bernard's Safety Training Centre":MAILTO:safetytrainingmalta@gmail.com
END:VEVENT
BEGIN:VEVENT
DTSTART;VALUE=DATE:20191102
DTEND;VALUE=DATE:20191103
DTSTAMP:20260424T163529
CREATED:20191008T070309Z
LAST-MODIFIED:20191008T071351Z
UID:2685-1572652800-1572739199@healthandsafety.com.mt
SUMMARY:Food Handling Course
DESCRIPTION:https://forms.gle/NyLHxzpNhxfifFAD9  \nClick on the link for full details and register your place. \nCannot attend on this date? All courses are available ONLINE. \nGo to: https://healthandsafety.com.mt/product-category/online/ \nto purchase. \n 
URL:https://healthandsafety.com.mt/schedule/food-handling-course-26/
LOCATION:St Bernard’s Safety Training Centre\, St. Bernard's Health and Safety Centre\, No 11\, Left Entrance\, Triq tal-Hriereb. Msida\, Malta\, Msida\, Malta
ORGANIZER;CN="St Bernard's Safety Training Centre":MAILTO:safetytrainingmalta@gmail.com
END:VEVENT
BEGIN:VEVENT
DTSTART;TZID=Europe/London:20191029T080000
DTEND;TZID=Europe/London:20191029T170000
DTSTAMP:20260424T163529
CREATED:20191029T143745Z
LAST-MODIFIED:20191029T143745Z
UID:2754-1572336000-1572368400@healthandsafety.com.mt
SUMMARY:Basic First Aid including Paediatric
DESCRIPTION:
URL:https://healthandsafety.com.mt/schedule/basic-first-aid-including-paediatric-2/
LOCATION:Ghajnsielem Parish Centre
END:VEVENT
BEGIN:VEVENT
DTSTART;TZID=Europe/London:20191025T090000
DTEND;TZID=Europe/London:20191025T140000
DTSTAMP:20260424T163529
CREATED:20191008T065439Z
LAST-MODIFIED:20191008T065439Z
UID:2679-1571994000-1572012000@healthandsafety.com.mt
SUMMARY:Emergency First Aid at Work
DESCRIPTION:
URL:https://healthandsafety.com.mt/schedule/emergency-first-aid-at-work/
LOCATION:St Bernard’s Safety Training Centre\, St. Bernard's Health and Safety Centre\, No 11\, Left Entrance\, Triq tal-Hriereb. Msida\, Malta\, Msida\, Malta
ORGANIZER;CN="St Bernard's Safety Training Centre":MAILTO:safetytrainingmalta@gmail.com
END:VEVENT
BEGIN:VEVENT
DTSTART;VALUE=DATE:20191017
DTEND;VALUE=DATE:20191018
DTSTAMP:20260424T163529
CREATED:20191008T065932Z
LAST-MODIFIED:20191008T070337Z
UID:2683-1571270400-1571356799@healthandsafety.com.mt
SUMMARY:Food Handling Course
DESCRIPTION:https://forms.gle/NyLHxzpNhxfifFAD9  \nClick on the link for full details and register your place.
URL:https://healthandsafety.com.mt/schedule/food-handling-course-24/
LOCATION:St Bernard’s Safety Training Centre\, St. Bernard's Health and Safety Centre\, No 11\, Left Entrance\, Triq tal-Hriereb. Msida\, Malta\, Msida\, Malta
ORGANIZER;CN="St Bernard's Safety Training Centre":MAILTO:safetytrainingmalta@gmail.com
END:VEVENT
BEGIN:VEVENT
DTSTART;TZID=Europe/London:20191009T133000
DTEND;TZID=Europe/London:20191009T173000
DTSTAMP:20260424T163529
CREATED:20191008T063702Z
LAST-MODIFIED:20191008T063702Z
UID:2675-1570627800-1570642200@healthandsafety.com.mt
SUMMARY:Basic Fire Fighting & Prevention including Fire Warden
DESCRIPTION:
URL:https://healthandsafety.com.mt/schedule/basic-fire-fighting-prevention-including-fire-warden-2/
LOCATION:St Bernard’s Safety Training Centre\, St. Bernard's Health and Safety Centre\, No 11\, Left Entrance\, Triq tal-Hriereb. Msida\, Malta\, Msida\, Malta
ORGANIZER;CN="St Bernard's Safety Training Centre":MAILTO:safetytrainingmalta@gmail.com
END:VEVENT
BEGIN:VEVENT
DTSTART;VALUE=DATE:20191003
DTEND;VALUE=DATE:20191004
DTSTAMP:20260424T163529
CREATED:20190926T134633Z
LAST-MODIFIED:20190926T134633Z
UID:2648-1570060800-1570147199@healthandsafety.com.mt
SUMMARY:Food Handling Course
DESCRIPTION:
URL:https://healthandsafety.com.mt/schedule/food-handling-course-22/
LOCATION:St Bernard’s Safety Training Centre\, St. Bernard's Health and Safety Centre\, No 11\, Left Entrance\, Triq tal-Hriereb. Msida\, Malta\, Msida\, Malta
ORGANIZER;CN="St Bernard's Safety Training Centre":MAILTO:safetytrainingmalta@gmail.com
END:VEVENT
BEGIN:VEVENT
DTSTART;VALUE=DATE:20190921
DTEND;VALUE=DATE:20190922
DTSTAMP:20260424T163529
CREATED:20190416T091409Z
LAST-MODIFIED:20190626T095448Z
UID:2089-1569024000-1569110399@healthandsafety.com.mt
SUMMARY:Food Handling Course
DESCRIPTION:It is a legal requirement for employees who work directly or indirectly with food to have a valid Food Handing Course/License. These include chefs\, cleaners\, bartenders\, childcarers and teachers applying for breakfast club. \nA valid food handling course/license is one of the requirements needed to take with you when apply for such Visa or Working Permit. \nOur Food Handling Courses are also available and approved to be done online. https://healthandsafety.com.mt/product-category/food-handling/ \nSTUDY AT YOUR OWN PACE. Payments accepted via Paypal\, Visa\, Revolut (99248968) or contact us to send via Cheque\, Bank Transfer or Postal Money Order.
URL:https://healthandsafety.com.mt/schedule/food-handling-course-28/
LOCATION:Food Handling Courses Malta\, Old Terminal Building\, St Thomas Street\, Luqa\, Malta
ATTACH;FMTTYPE=image/png:https://healthandsafety.com.mt/wp-content/uploads/2017/07/Picture6.png
ORGANIZER;CN="St Bernard's Safety Training Centre":MAILTO:safetytrainingmalta@gmail.com
END:VEVENT
BEGIN:VEVENT
DTSTART;TZID=Europe/London:20190918T133000
DTEND;TZID=Europe/London:20190918T173000
DTSTAMP:20260424T163529
CREATED:20190821T101911Z
LAST-MODIFIED:20190821T101911Z
UID:2566-1568813400-1568827800@healthandsafety.com.mt
SUMMARY:Basic Fire Fighting & Prevention including Fire Warden
DESCRIPTION:Suitability: This course is suitable for anyone who would like learn what to do in the event of a fire. It also provides information for people who are assigned with fire safety duties of what needs to be done in controlling fire hazards\, in fulfilling their fire safety duties and in ensuring the safety of all people in the building. \nCourses can also be held at clients premises. Contact us for further information.
URL:https://healthandsafety.com.mt/schedule/basic-fire-fighting-prevention-including-fire-warden/
LOCATION:St Bernard’s Safety Training Centre\, St. Bernard's Health and Safety Centre\, No 11\, Left Entrance\, Triq tal-Hriereb. Msida\, Malta\, Msida\, Malta
END:VEVENT
BEGIN:VEVENT
DTSTART;TZID=Europe/London:20190914T093000
DTEND;TZID=Europe/London:20190914T133000
DTSTAMP:20260424T163529
CREATED:20190416T091148Z
LAST-MODIFIED:20190626T095202Z
UID:2084-1568453400-1568467800@healthandsafety.com.mt
SUMMARY:Paediatric First Aid
DESCRIPTION:
URL:https://healthandsafety.com.mt/schedule/paediatric/
LOCATION:St Bernard’s Safety Training Centre\, St. Bernard's Health and Safety Centre\, No 11\, Left Entrance\, Triq tal-Hriereb. Msida\, Malta\, Msida\, Malta
ATTACH;FMTTYPE=image/jpeg:https://healthandsafety.com.mt/wp-content/uploads/2017/06/8E9074A4-D6EF-4B0F-90FB-06A7E7DF2983-2734-0000032EDC366BB4.jpeg
END:VEVENT
BEGIN:VEVENT
DTSTART;VALUE=DATE:20190907
DTEND;VALUE=DATE:20190908
DTSTAMP:20260424T163529
CREATED:20190416T091015Z
LAST-MODIFIED:20190626T094615Z
UID:2082-1567814400-1567900799@healthandsafety.com.mt
SUMMARY:Food Handling Course
DESCRIPTION:It is a legal requirement for employees who work directly or indirectly with food to have a valid Food Handing Course/License. These include chefs\, cleaners\, bartenders\, childcarers and teachers applying for breakfast club. \nA valid food handling course/license is one of the requirements needed to take with you when apply for such Visa or Working Permit. \nOur Food Handling Courses are also available and approved to be done online. https://healthandsafety.com.mt/product-category/food-handling/ \nSTUDY AT YOUR OWN PACE. Payments accepted via Paypal\, Visa\, Revolut (99248968) or contact us to send via Cheque\, Bank Transfer or Postal Money Order.
URL:https://healthandsafety.com.mt/schedule/food-handling-course-25/
LOCATION:Food Handling Courses Malta\, Old Terminal Building\, St Thomas Street\, Luqa\, Malta
ATTACH;FMTTYPE=image/png:https://healthandsafety.com.mt/wp-content/uploads/2017/07/Picture7.png
ORGANIZER;CN="St Bernard's Safety Training Centre":MAILTO:safetytrainingmalta@gmail.com
END:VEVENT
BEGIN:VEVENT
DTSTART;TZID=Europe/London:20190905T090000
DTEND;TZID=Europe/London:20190905T140000
DTSTAMP:20260424T163529
CREATED:20190821T101328Z
LAST-MODIFIED:20190821T101328Z
UID:2564-1567674000-1567692000@healthandsafety.com.mt
SUMMARY:Emergency First Aid Course
DESCRIPTION:This course is valid for those working in low risk areas including offices and restaurants. It is also a requirement for teachers working with children\, childcares\, LSA’s and the General Public for one’s own knowledge. \nCourse can also be held at clients premises.
URL:https://healthandsafety.com.mt/schedule/emergency-first-aid-course/
LOCATION:St Bernard’s Safety Training Centre\, St. Bernard's Health and Safety Centre\, No 11\, Left Entrance\, Triq tal-Hriereb. Msida\, Malta\, Msida\, Malta
END:VEVENT
BEGIN:VEVENT
DTSTART;VALUE=DATE:20190824
DTEND;VALUE=DATE:20190825
DTSTAMP:20260424T163529
CREATED:20190416T090813Z
LAST-MODIFIED:20190626T094713Z
UID:2080-1566604800-1566691199@healthandsafety.com.mt
SUMMARY:Food Handling Courses
DESCRIPTION:It is a legal requirement for employees who work directly or indirectly with food to have a valid Food Handing Course/License. These include chefs\, cleaners\, bartenders\, childcarers and teachers applying for breakfast club. \nA valid food handling course/license is one of the requirements needed to take with you when apply for such Visa or Working Permit. \nOur Food Handling Courses are also available and approved to be done online. https://healthandsafety.com.mt/product-category/food-handling/ \nSTUDY AT YOUR OWN PACE. Payments accepted via Paypal\, Visa\, Revolut (99248968) or contact us to send via Cheque\, Bank Transfer or Postal Money Order.
URL:https://healthandsafety.com.mt/schedule/food-handling-courses-2/
LOCATION:Food Handling Courses Malta\, Old Terminal Building\, St Thomas Street\, Luqa\, Malta
ATTACH;FMTTYPE=image/png:https://healthandsafety.com.mt/wp-content/uploads/2017/07/Picture6.png
ORGANIZER;CN="St Bernard's Safety Training Centre":MAILTO:safetytrainingmalta@gmail.com
END:VEVENT
BEGIN:VEVENT
DTSTART;VALUE=DATE:20190807
DTEND;VALUE=DATE:20190808
DTSTAMP:20260424T163529
CREATED:20190416T090454Z
LAST-MODIFIED:20190626T094331Z
UID:2075-1565136000-1565222399@healthandsafety.com.mt
SUMMARY:Food Handling Course
DESCRIPTION:It is a legal requirement for employees who work directly or indirectly with food to have a valid Food Handing Course/License. These include chefs\, cleaners\, bartenders\, childcarers and teachers applying for breakfast club. \nA valid food handling course/license is one of the requirements needed to take with you when apply for such Visa or Working Permit. \nOur Food Handling Courses are also available and approved to be done online. https://healthandsafety.com.mt/product-category/food-handling/ \nSTUDY AT YOUR OWN PACE. Payments accepted via Paypal\, Visa\, Revolut (99248968) or contact us to send via Cheque\, Bank Transfer or Postal Money Order.
URL:https://healthandsafety.com.mt/schedule/food-handling-course-23/
LOCATION:Food Handling Courses Malta\, Old Terminal Building\, St Thomas Street\, Luqa\, Malta
ATTACH;FMTTYPE=image/jpeg:https://healthandsafety.com.mt/wp-content/uploads/2017/07/Picture1-4.jpg
ORGANIZER;CN="St Bernard's Safety Training Centre":MAILTO:safetytrainingmalta@gmail.com
END:VEVENT
BEGIN:VEVENT
DTSTART;VALUE=DATE:20190727
DTEND;VALUE=DATE:20190728
DTSTAMP:20260424T163529
CREATED:20190626T094230Z
LAST-MODIFIED:20190626T094230Z
UID:2378-1564185600-1564271999@healthandsafety.com.mt
SUMMARY:Food Handling Course
DESCRIPTION:
URL:https://healthandsafety.com.mt/schedule/food-handling-course-18/
LOCATION:St Bernard’s Safety Training Centre\, St. Bernard's Health and Safety Centre\, No 11\, Left Entrance\, Triq tal-Hriereb. Msida\, Malta\, Msida\, Malta
ORGANIZER;CN="St Bernard's Safety Training Centre":MAILTO:safetytrainingmalta@gmail.com
END:VEVENT
BEGIN:VEVENT
DTSTART;VALUE=DATE:20190720
DTEND;VALUE=DATE:20190721
DTSTAMP:20260424T163529
CREATED:20190416T090222Z
LAST-MODIFIED:20190416T090223Z
UID:2071-1563580800-1563667199@healthandsafety.com.mt
SUMMARY:Food Handling Course
DESCRIPTION:It is a legal requirement for employees who work directly or indirectly with food to have a valid Food Handing Course/License. These include chefs\, cleaners\, bartenders\, childcarers and teachers applying for breakfast club.  \nA valid food handling course/license is one of the requirements needed to take with you when apply for such Visa or Working Permit. \nOur Food Handling Courses are also available and approved to be done online. https://healthandsafety.com.mt/product-category/food-handling/ \nSTUDY AT YOUR OWN PACE. Payments accepted via Paypal\, Visa\, Revolut (99248968) or contact us to send via Cheque\, Bank Transfer or Postal Money Order.
URL:https://healthandsafety.com.mt/schedule/food-handling-course-21/
LOCATION:Food Handling Courses Malta\, Old Terminal Building\, St Thomas Street\, Luqa\, Malta
ATTACH;FMTTYPE=image/jpeg:https://healthandsafety.com.mt/wp-content/uploads/2017/11/waiter_tray_food_restaurant_77445_3840x2160-scaled.jpg
ORGANIZER;CN="St Bernard's Safety Training Centre":MAILTO:safetytrainingmalta@gmail.com
END:VEVENT
BEGIN:VEVENT
DTSTART;VALUE=DATE:20190713
DTEND;VALUE=DATE:20190714
DTSTAMP:20260424T163529
CREATED:20190416T085955Z
LAST-MODIFIED:20190416T085956Z
UID:2067-1562976000-1563062399@healthandsafety.com.mt
SUMMARY:Food Handling Course
DESCRIPTION:It is a legal requirement for employees who work directly or indirectly with food to have a valid Food Handing Course/License. These include chefs\, cleaners\, bartenders\, childcarers and teachers applying for breakfast club.  \nA valid food handling course/license is one of the requirements needed to take with you when apply for such Visa or Working Permit. \nOur Food Handling Courses are also available and approved to be done online. https://healthandsafety.com.mt/product-category/courses/food-handling/ \nSTUDY AT YOUR OWN PACE. Payments accepted via Paypal\, Visa\, Revolut (99248968) or contact us to send via Cheque\, Bank Transfer or Postal Money Order.  \nUPON REQUEST ALSO HELD PRIVATELY AT CLIENTS REQUESTED PREMISES IN ENGLISH\, MALTESE OR ITALIAN! DISCOUNTS APPLY FOR GROUPS OF PEOPLE.
URL:https://healthandsafety.com.mt/schedule/food-handling-course-19/
LOCATION:Food Handling Courses Malta\, Old Terminal Building\, St Thomas Street\, Luqa\, Malta
ATTACH;FMTTYPE=image/png:https://healthandsafety.com.mt/wp-content/uploads/2017/07/Picture17-1.png
END:VEVENT
BEGIN:VEVENT
DTSTART;VALUE=DATE:20190704
DTEND;VALUE=DATE:20190705
DTSTAMP:20260424T163529
CREATED:20190416T085416Z
LAST-MODIFIED:20190626T093823Z
UID:2059-1562198400-1562284799@healthandsafety.com.mt
SUMMARY:Food Handling Course
DESCRIPTION:It is a legal requirement for employees who work directly or indirectly with food to have a valid Food Handing Course/License. These include chefs\, cleaners\, bartenders\, childcarers and teachers applying for breakfast club. \nA valid food handling course/license is one of the requirements needed to take with you when apply for such Visa or Working Permit. \nOur Food Handling Courses are also available and approved to be done online. https://healthandsafety.com.mt/product-category/courses/food-handling/ \nSTUDY AT YOUR OWN PACE. Payments accepted via Paypal\, Visa\, Revolut (99248968) or contact us to send via Cheque\, Bank Transfer or Postal Money Order. \nUPON REQUEST ALSO HELD PRIVATELY AT CLIENTS REQUESTED PREMISES IN ENGLISH\, MALTESE OR ITALIAN! DISCOUNTS APPLY FOR GROUPS OF PEOPLE.
URL:https://healthandsafety.com.mt/schedule/food-handling-course-17/
LOCATION:Food Handling Courses Malta\, Old Terminal Building\, St Thomas Street\, Luqa\, Malta
ATTACH;FMTTYPE=image/png:https://healthandsafety.com.mt/wp-content/uploads/2017/07/Picture11.png
ORGANIZER;CN="St Bernard's Safety Training Centre":MAILTO:safetytrainingmalta@gmail.com
END:VEVENT
BEGIN:VEVENT
DTSTART;TZID=Europe/London:20190625T090000
DTEND;TZID=Europe/London:20190625T150000
DTSTAMP:20260424T163529
CREATED:20190524T133747Z
LAST-MODIFIED:20190524T133747Z
UID:2236-1561453200-1561474800@healthandsafety.com.mt
SUMMARY:Emergency First Aid Course - Paediatric Included
DESCRIPTION:
URL:https://healthandsafety.com.mt/schedule/emergency-first-aid-course-paediatric-included/
LOCATION:St Bernard’s Safety Training Centre\, St. Bernard's Health and Safety Centre\, No 11\, Left Entrance\, Triq tal-Hriereb. Msida\, Malta\, Msida\, Malta
ORGANIZER;CN="St Bernard's Safety Training Centre":MAILTO:safetytrainingmalta@gmail.com
END:VEVENT
BEGIN:VEVENT
DTSTART;VALUE=DATE:20190618
DTEND;VALUE=DATE:20190619
DTSTAMP:20260424T163529
CREATED:20190416T091629Z
LAST-MODIFIED:20190416T091629Z
UID:2092-1560816000-1560902399@healthandsafety.com.mt
SUMMARY:Food Handling Course
DESCRIPTION:Food Handling Courses are a legal requirement for people who work in the catering industry. Our courses are also available ONLINE for local and foreigners.
URL:https://healthandsafety.com.mt/schedule/food-handling-course-29/
LOCATION:Food Handling Courses Malta\, Old Terminal Building\, St Thomas Street\, Luqa\, Malta
ATTACH;FMTTYPE=image/png:https://healthandsafety.com.mt/wp-content/uploads/2017/07/Picture4.png
ORGANIZER;CN="St Bernard's Safety Training Centre":MAILTO:safetytrainingmalta@gmail.com
END:VEVENT
BEGIN:VEVENT
DTSTART;VALUE=DATE:20190604
DTEND;VALUE=DATE:20190605
DTSTAMP:20260424T163529
CREATED:20190416T085051Z
LAST-MODIFIED:20190416T085143Z
UID:2055-1559606400-1559692799@healthandsafety.com.mt
SUMMARY:Food Handling Course
DESCRIPTION:It is a legal requirement for employees who work directly or indirectly with food to have a valid Food Handing Course/License. These include chefs\, cleaners\, bartenders\, childcarers and teachers applying for breakfast club.  \nA valid food handling course/license is one of the requirements needed to take with you when apply for such Visa or Working Permit. \nOur Food Handling Courses are also available and approved to be done online. https://healthandsafety.com.mt/product-category/food-handling/ \nSTUDY AT YOUR OWN PACE. Payments accepted via Paypal\, Visa\, Revolut (99248968) or contact us to send via Cheque\, Bank Transfer or Postal Money Order.
URL:https://healthandsafety.com.mt/schedule/food-handling-course-16/
LOCATION:Food Handling Courses Malta\, Old Terminal Building\, St Thomas Street\, Luqa\, Malta
ATTACH;FMTTYPE=image/jpeg:https://healthandsafety.com.mt/wp-content/uploads/2017/08/HACCP-SERVICE.jpg
ORGANIZER;CN="St Bernard's Safety Training Centre":MAILTO:safetytrainingmalta@gmail.com
END:VEVENT
BEGIN:VEVENT
DTSTART;TZID=Europe/London:20190602T090000
DTEND;TZID=Europe/London:20190602T133000
DTSTAMP:20260424T163529
CREATED:20190418T113222Z
LAST-MODIFIED:20190517T070307Z
UID:2110-1559466000-1559482200@healthandsafety.com.mt
SUMMARY:Paediatric First Aid - Basic Included
DESCRIPTION:Discounts apply for Parents or Groups of People
URL:https://healthandsafety.com.mt/schedule/paediatric-first-aid-basic-included-3/
LOCATION:Fgura United FC\, Triq A.M. Valperga\, Fgura FGR 1131\, Malta
ORGANIZER;CN="St Bernard's Safety Training Centre":MAILTO:safetytrainingmalta@gmail.com
END:VEVENT
END:VCALENDAR