BEGIN:VCALENDAR
VERSION:2.0
PRODID:-//St. Bernard&#039;s Health and Safety Institute - ECPv6.15.17.1//NONSGML v1.0//EN
CALSCALE:GREGORIAN
METHOD:PUBLISH
X-WR-CALNAME:St. Bernard&#039;s Health and Safety Institute
X-ORIGINAL-URL:https://healthandsafety.com.mt
X-WR-CALDESC:Events for St. Bernard&#039;s Health and Safety Institute
REFRESH-INTERVAL;VALUE=DURATION:PT1H
X-Robots-Tag:noindex
X-PUBLISHED-TTL:PT1H
BEGIN:VTIMEZONE
TZID:Europe/London
BEGIN:DAYLIGHT
TZOFFSETFROM:+0000
TZOFFSETTO:+0100
TZNAME:BST
DTSTART:20170326T010000
END:DAYLIGHT
BEGIN:STANDARD
TZOFFSETFROM:+0100
TZOFFSETTO:+0000
TZNAME:GMT
DTSTART:20171029T010000
END:STANDARD
BEGIN:DAYLIGHT
TZOFFSETFROM:+0000
TZOFFSETTO:+0100
TZNAME:BST
DTSTART:20180325T010000
END:DAYLIGHT
BEGIN:STANDARD
TZOFFSETFROM:+0100
TZOFFSETTO:+0000
TZNAME:GMT
DTSTART:20181028T010000
END:STANDARD
BEGIN:DAYLIGHT
TZOFFSETFROM:+0000
TZOFFSETTO:+0100
TZNAME:BST
DTSTART:20190331T010000
END:DAYLIGHT
BEGIN:STANDARD
TZOFFSETFROM:+0100
TZOFFSETTO:+0000
TZNAME:GMT
DTSTART:20191027T010000
END:STANDARD
BEGIN:DAYLIGHT
TZOFFSETFROM:+0000
TZOFFSETTO:+0100
TZNAME:BST
DTSTART:20200329T010000
END:DAYLIGHT
BEGIN:STANDARD
TZOFFSETFROM:+0100
TZOFFSETTO:+0000
TZNAME:GMT
DTSTART:20201025T010000
END:STANDARD
END:VTIMEZONE
BEGIN:VEVENT
DTSTART;VALUE=DATE:20190601
DTEND;VALUE=DATE:20190602
DTSTAMP:20260424T202929
CREATED:20190416T084946Z
LAST-MODIFIED:20190416T084946Z
UID:2053-1559347200-1559433599@healthandsafety.com.mt
SUMMARY:Food Handling Course
DESCRIPTION:It is a legal requirement for employees who work directly or indirectly with food to have a valid Food Handing Course/License. These include chefs\, cleaners\, bartenders\, childcarers and teachers applying for breakfast club.  \nA valid food handling course/license is one of the requirements needed to take with you when apply for such Visa or Working Permit. \nOur Food Handling Courses are also available and approved to be done online. https://healthandsafety.com.mt/product-category/food-handling/ \nSTUDY AT YOUR OWN PACE. Payments accepted via Paypal\, Visa\, Revolut (99248968) or contact us to send via Cheque\, Bank Transfer or Postal Money Order.
URL:https://healthandsafety.com.mt/schedule/food-handling-course-15/
LOCATION:Food Handling Courses Msida\, Triq il-Punent\, Msida\, Malta
ORGANIZER;CN="St Bernard's Safety Training Centre":MAILTO:safetytrainingmalta@gmail.com
END:VEVENT
BEGIN:VEVENT
DTSTART;TZID=Europe/London:20190525T130000
DTEND;TZID=Europe/London:20190525T170000
DTSTAMP:20260424T202929
CREATED:20190418T112346Z
LAST-MODIFIED:20190418T112347Z
UID:2099-1558789200-1558803600@healthandsafety.com.mt
SUMMARY:Basic Fire Fighting & Prevention - Warden Included
DESCRIPTION:
URL:https://healthandsafety.com.mt/schedule/basic-fire-fighting-prevention-warden-included/
LOCATION:St Bernard’s Safety Training Centre\, St. Bernard's Health and Safety Centre\, No 11\, Left Entrance\, Triq tal-Hriereb. Msida\, Malta\, Msida\, Malta
END:VEVENT
BEGIN:VEVENT
DTSTART;VALUE=DATE:20190523
DTEND;VALUE=DATE:20190524
DTSTAMP:20260424T202929
CREATED:20190416T084107Z
LAST-MODIFIED:20190416T084201Z
UID:2046-1558569600-1558655999@healthandsafety.com.mt
SUMMARY:Food Handling Course
DESCRIPTION:It is a legal requirement for employees who work directly or indirectly with food to have a valid Food Handing Course/License. These include chefs\, cleaners\, bartenders\, childcarers and teachers applying for breakfast club.  \nA valid food handling course/license is one of the requirements needed to take with you when apply for such Visa or Working Permit. \nOur Food Handling Courses are also available and approved to be done online. https://healthandsafety.com.mt/product-category/food-handling-courses/ \nSTUDY AT YOUR OWN PACE. Payments accepted via Paypal\, Visa\, Revolut (99248968) or contact us to send via Cheque\, Bank Transfer or Postal Money Order.
URL:https://healthandsafety.com.mt/schedule/food-handling-course-14/
LOCATION:Food Handling Courses Msida\, Triq il-Punent\, Msida\, Malta
ATTACH;FMTTYPE=image/jpeg:https://healthandsafety.com.mt/wp-content/uploads/2017/10/foodgeneric1.jpg
ORGANIZER;CN="St Bernard's Safety Training Centre":MAILTO:safetytrainingmalta@gmail.com
END:VEVENT
BEGIN:VEVENT
DTSTART;TZID=Europe/London:20190522T090000
DTEND;TZID=Europe/London:20190522T150000
DTSTAMP:20260424T202929
CREATED:20190418T112854Z
LAST-MODIFIED:20190418T112854Z
UID:2105-1558515600-1558537200@healthandsafety.com.mt
SUMMARY:Basic First Aid
DESCRIPTION:
URL:https://healthandsafety.com.mt/schedule/basic-first-aid-2/
LOCATION:St Bernard’s Safety Training Centre\, St. Bernard's Health and Safety Centre\, No 11\, Left Entrance\, Triq tal-Hriereb. Msida\, Malta\, Msida\, Malta
ORGANIZER;CN="St Bernard's Safety Training Centre":MAILTO:safetytrainingmalta@gmail.com
END:VEVENT
BEGIN:VEVENT
DTSTART;TZID=Europe/London:20190518T093000
DTEND;TZID=Europe/London:20190518T133000
DTSTAMP:20260424T202929
CREATED:20190418T113112Z
LAST-MODIFIED:20190418T113113Z
UID:2107-1558171800-1558186200@healthandsafety.com.mt
SUMMARY:Paediatric First Aid - Basic Included
DESCRIPTION:Discounts for Parents.
URL:https://healthandsafety.com.mt/schedule/paediatric-first-aid-basic-included-2/
LOCATION:The Lodge\, Triq San Bartolomew\, Qormi\, Malta
ATTACH;FMTTYPE=image/jpeg:https://healthandsafety.com.mt/wp-content/uploads/2017/06/8E9074A4-D6EF-4B0F-90FB-06A7E7DF2983-2734-0000032EDC366BB4.jpeg
ORGANIZER;CN="St Bernard's Safety Training Centre":MAILTO:safetytrainingmalta@gmail.com
END:VEVENT
BEGIN:VEVENT
DTSTART;VALUE=DATE:20190514
DTEND;VALUE=DATE:20190515
DTSTAMP:20260424T202929
CREATED:20190416T083139Z
LAST-MODIFIED:20190509T200231Z
UID:2044-1557792000-1557878399@healthandsafety.com.mt
SUMMARY:Food Handling Course
DESCRIPTION:It is a legal requirement for employees who work directly or indirectly with food to have a valid Food Handing Course/License. These include chefs\, cleaners\, bartenders\, childcarers and teachers applying for breakfast club.  \nA valid food handling course/license is one of the requirements needed to take with you when apply for such Visa or Working Permit. \nOur Food Handling Courses are also available and approved to be done online. https://healthandsafety.com.mt/product-category/food-handling-courses/ \nSTUDY AT YOUR OWN PACE. Payments accepted via Paypal\, Visa\, Revolut (99248968) or contact us to send via Cheque\, Bank Transfer or Postal Money Order.
URL:https://healthandsafety.com.mt/schedule/food-handling-course-13/
LOCATION:St Bernard’s Safety Training Centre\, St. Bernard's Health and Safety Centre\, No 11\, Left Entrance\, Triq tal-Hriereb. Msida\, Malta\, Msida\, Malta
ATTACH;FMTTYPE=image/jpeg:https://healthandsafety.com.mt/wp-content/uploads/2017/08/500_F_122413701_1VcLlm7ILj35oGP6JNz2r7FldL8u1vms.jpg
END:VEVENT
BEGIN:VEVENT
DTSTART;TZID=Europe/London:20190508T130000
DTEND;TZID=Europe/London:20190508T170000
DTSTAMP:20260424T202929
CREATED:20190418T112452Z
LAST-MODIFIED:20190418T112452Z
UID:2101-1557320400-1557334800@healthandsafety.com.mt
SUMMARY:Basic Fire Fighting & Prevention - Warden Included
DESCRIPTION:
URL:https://healthandsafety.com.mt/schedule/basic-fire-fighting-prevention-warden-included-2/
LOCATION:St Bernard’s Safety Training Centre\, St. Bernard's Health and Safety Centre\, No 11\, Left Entrance\, Triq tal-Hriereb. Msida\, Malta\, Msida\, Malta
END:VEVENT
BEGIN:VEVENT
DTSTART;VALUE=DATE:20190504
DTEND;VALUE=DATE:20190505
DTSTAMP:20260424T202929
CREATED:20190416T082639Z
LAST-MODIFIED:20190416T084630Z
UID:2042-1556928000-1557014399@healthandsafety.com.mt
SUMMARY:Food Handling Course
DESCRIPTION:It is a legal requirement for employees who work directly or indirectly with food to have a valid Food Handing Course/License. These include chefs\, cleaners\, bartenders\, childcarers and teachers applying for breakfast club.  \nA valid food handling course/license is one of the requirements needed to take with you when apply for such Visa or Working Permit. \nOur Food Handling Courses are also available and approved to be done online. https://healthandsafety.com.mt/product-category/courses/food-handling/ \nSTUDY AT YOUR OWN PACE. Payments accepted via Paypal\, Visa\, Revolut (99248968) or contact us to send via Cheque\, Bank Transfer or Postal Money Order.
URL:https://healthandsafety.com.mt/schedule/food-handling-course-12/
LOCATION:St Bernard’s Safety Training Centre\, St. Bernard's Health and Safety Centre\, No 11\, Left Entrance\, Triq tal-Hriereb. Msida\, Malta\, Msida\, Malta
ATTACH;FMTTYPE=image/png:https://healthandsafety.com.mt/wp-content/uploads/2017/10/FOOD-SAFETY.png
ORGANIZER;CN="St Bernard's Safety Training Centre":MAILTO:safetytrainingmalta@gmail.com
END:VEVENT
BEGIN:VEVENT
DTSTART;TZID=Europe/London:20190429T090000
DTEND;TZID=Europe/London:20190429T150000
DTSTAMP:20260424T202929
CREATED:20190418T112719Z
LAST-MODIFIED:20190418T112736Z
UID:2103-1556528400-1556550000@healthandsafety.com.mt
SUMMARY:Basic First Aid
DESCRIPTION:
URL:https://healthandsafety.com.mt/schedule/basic-first-aid/
LOCATION:St Bernard’s Safety Training Centre\, St. Bernard's Health and Safety Centre\, No 11\, Left Entrance\, Triq tal-Hriereb. Msida\, Malta\, Msida\, Malta
ORGANIZER;CN="St Bernard's Safety Training Centre":MAILTO:safetytrainingmalta@gmail.com
END:VEVENT
BEGIN:VEVENT
DTSTART;VALUE=DATE:20190424
DTEND;VALUE=DATE:20190425
DTSTAMP:20260424T202929
CREATED:20190401T134215Z
LAST-MODIFIED:20190416T082841Z
UID:1936-1556064000-1556150399@healthandsafety.com.mt
SUMMARY:Food Handling Course
DESCRIPTION:It is a legal requirement for employees who work directly or indirectly with food to have a valid Food Handing Course/License. These include chefs\, cleaners\, bartenders\, childcarers and teachers applying for breakfast club.  \nA valid food handling course/license is one of the requirements needed to take with you when apply for such Visa or Working Permit. \nOur Food Handling Courses are also available and approved to be done online. https://healthandsafety.com.mt/product-category/food-handling-courses/ \nSTUDY AT YOUR OWN PACE. Payments accepted via Paypal\, Visa\, Revolut (99248968) or contact us to send via Cheque\, Bank Transfer or Postal Money Order.
URL:https://healthandsafety.com.mt/schedule/food-handling-course-11/
LOCATION:St Bernard’s Safety Training Centre\, St. Bernard's Health and Safety Centre\, No 11\, Left Entrance\, Triq tal-Hriereb. Msida\, Malta\, Msida\, Malta
ATTACH;FMTTYPE=image/jpeg:https://healthandsafety.com.mt/wp-content/uploads/2017/12/staffing-foodserv.jpg
ORGANIZER;CN="St Bernard's Safety Training Centre":MAILTO:safetytrainingmalta@gmail.com
END:VEVENT
BEGIN:VEVENT
DTSTART;TZID=Europe/London:20190416T080000
DTEND;TZID=Europe/London:20190416T170000
DTSTAMP:20260424T202929
CREATED:20190416T091235Z
LAST-MODIFIED:20190416T091250Z
UID:2086-1555401600-1555434000@healthandsafety.com.mt
SUMMARY:Food Handling Course
DESCRIPTION:It is a legal requirement for employees who work directly or indirectly with food to have a valid Food Handing Course/License. These include chefs\, cleaners\, bartenders\, childcarers and teachers applying for breakfast club.  \nA valid food handling course/license is one of the requirements needed to take with you when apply for such Visa or Working Permit. \nOur Food Handling Courses are also available and approved to be done online. https://healthandsafety.com.mt/product-category/food-handling/ \nSTUDY AT YOUR OWN PACE. Payments accepted via Paypal\, Visa\, Revolut (99248968) or contact us to send via Cheque\, Bank Transfer or Postal Money Order.
URL:https://healthandsafety.com.mt/schedule/food-handling-course-27/
LOCATION:Food Handling Courses Malta\, Old Terminal Building\, St Thomas Street\, Luqa\, Malta
ATTACH;FMTTYPE=image/png:https://healthandsafety.com.mt/wp-content/uploads/2017/07/Picture14-1.png
ORGANIZER;CN="St Bernard's Safety Training Centre":MAILTO:safetytrainingmalta@gmail.com
END:VEVENT
BEGIN:VEVENT
DTSTART;TZID=Europe/London:20190416T080000
DTEND;TZID=Europe/London:20190416T170000
DTSTAMP:20260424T202929
CREATED:20190416T090130Z
LAST-MODIFIED:20190416T090131Z
UID:2069-1555401600-1555434000@healthandsafety.com.mt
SUMMARY:Food Handling Course
DESCRIPTION:It is a legal requirement for employees who work directly or indirectly with food to have a valid Food Handing Course/License. These include chefs\, cleaners\, bartenders\, childcarers and teachers applying for breakfast club.  \nA valid food handling course/license is one of the requirements needed to take with you when apply for such Visa or Working Permit. \nOur Food Handling Courses are also available and approved to be done online. https://healthandsafety.com.mt/product-category/food-handling/ \nSTUDY AT YOUR OWN PACE. Payments accepted via Paypal\, Visa\, Revolut (99248968) or contact us to send via Cheque\, Bank Transfer or Postal Money Order.
URL:https://healthandsafety.com.mt/schedule/food-handling-course-20/
LOCATION:Food Handling Courses Malta\, Old Terminal Building\, St Thomas Street\, Luqa\, Malta
ATTACH;FMTTYPE=image/jpeg:https://healthandsafety.com.mt/wp-content/uploads/2017/07/Picture4-1.jpg
ORGANIZER;CN="St Bernard's Safety Training Centre":MAILTO:safetytrainingmalta@gmail.com
END:VEVENT
BEGIN:VEVENT
DTSTART;TZID=Europe/London:20190412T160000
DTEND;TZID=Europe/London:20190412T203000
DTSTAMP:20260424T202929
CREATED:20190401T135048Z
LAST-MODIFIED:20190401T135207Z
UID:1938-1555084800-1555101000@healthandsafety.com.mt
SUMMARY:Basic First Aid- Paediatric Included.
DESCRIPTION:This course is suitable for people working with children such as child carers\, kinder-garden\, primary & secondary teachers & LSA’s\, parents and for all those who would like to broaden their knowledge in Paediatric First Aid. \nCertification of attendance or MQF Level 4 included. Send us an email on safetytrainingmalta@gmail.com for bookings and further details. Courses can be held at clients requested premises for groups of 5+ people.
URL:https://healthandsafety.com.mt/schedule/basic-first-aid-paediatric-included-2/
LOCATION:Alexandra Hotel\, Schreiber Street\, St Julians\, Malta
ATTACH;FMTTYPE=image/jpeg:https://healthandsafety.com.mt/wp-content/uploads/2017/10/basic-first-aid.jpg
ORGANIZER;CN="St Bernard's Safety Training Centre":MAILTO:safetytrainingmalta@gmail.com
END:VEVENT
BEGIN:VEVENT
DTSTART;TZID=Europe/London:20190401T080000
DTEND;TZID=Europe/London:20190401T170000
DTSTAMP:20260424T202929
CREATED:20190401T135528Z
LAST-MODIFIED:20190401T135600Z
UID:1942-1554105600-1554138000@healthandsafety.com.mt
SUMMARY:Paediatric First Aid - Basic Included
DESCRIPTION:This course is suitable for people working with children such as child carers\, kinder-garden\, primary & secondary teachers & LSA’s\, parents and for all those who would like to broaden their knowledge in Paediatric First Aid. \nCertification of attendance or MQF Level 4 included. Send us an email on safetytrainingmalta@gmail.com for bookings and further details. Courses can be held at clients requested premises for groups of 5+ people.
URL:https://healthandsafety.com.mt/schedule/paediatric-first-aid-basic-included/
ATTACH;FMTTYPE=image/jpeg:https://healthandsafety.com.mt/wp-content/uploads/2019/04/Paediatric-First-Aid-scaled.jpg
ORGANIZER;CN="St Bernard's Safety Training Centre":MAILTO:safetytrainingmalta@gmail.com
END:VEVENT
BEGIN:VEVENT
DTSTART;TZID=Europe/London:20190308T100000
DTEND;TZID=Europe/London:20190308T150000
DTSTAMP:20260424T202929
CREATED:20190212T160458Z
LAST-MODIFIED:20190212T160458Z
UID:1701-1552039200-1552057200@healthandsafety.com.mt
SUMMARY:Emergency First Aid at Work - Paediatric First Aid Included
DESCRIPTION:Suitability: \nThe Emergency First Aid at Work course is suitable for anyone who would like to learn and broaden knowledge about basic life saving skills. It provides clear information of what has to be done immediately in case of minor and major injuries\, until professional medicals takes over. It could also be undertaken as a refresher course in order to renew an already existing First Aid qualification\nCourse Assessment:\nAt the end of the Emergency First Aid at Work course\, participants are assessed by a multiple choice assessment sheet to assess understanding of main topics and any weaknesses are addressed to by the tutor\nSt Bernard’s First Aid & Safety Training Institute is licensed by the National Commission for Further and Higher Education to conduct First Aid Courses to the general public. Our license number is 2014-FHI-002\nWe are accredited by the Safety Training Awards (STA) of UK\, to conduct First Aid Courses. Our First Aid certificates are worldwide recognized
URL:https://healthandsafety.com.mt/schedule/emergency-first-aid-at-work-paediatric-first-aid-included/
ORGANIZER;CN="St Bernard's Safety Training Centre":MAILTO:safetytrainingmalta@gmail.com
END:VEVENT
BEGIN:VEVENT
DTSTART;TZID=Europe/London:20190227T130000
DTEND;TZID=Europe/London:20190227T170000
DTSTAMP:20260424T202929
CREATED:20190220T154853Z
LAST-MODIFIED:20190220T154853Z
UID:1729-1551272400-1551286800@healthandsafety.com.mt
SUMMARY:Fire Fighting & Prevention / Fire Warden Included
DESCRIPTION:
URL:https://healthandsafety.com.mt/schedule/fire-fighting-prevention-fire-warden-included-2/
LOCATION:St Bernard’s Safety Training Centre\, St. Bernard's Health and Safety Centre\, No 11\, Left Entrance\, Triq tal-Hriereb. Msida\, Malta\, Msida\, Malta
ORGANIZER;CN="St Bernard's Safety Training Centre":MAILTO:safetytrainingmalta@gmail.com
END:VEVENT
BEGIN:VEVENT
DTSTART;TZID=Europe/London:20190221T140000
DTEND;TZID=Europe/London:20190221T173000
DTSTAMP:20260424T202929
CREATED:20181212T143426Z
LAST-MODIFIED:20190212T160827Z
UID:1616-1550757600-1550770200@healthandsafety.com.mt
SUMMARY:Food Handling Course
DESCRIPTION:Food handling course – This food handling course is a requirement for those who are directly and indirectly involved in the preparation of food. Those needing to apply for their working permit. Now also available online.
URL:https://healthandsafety.com.mt/schedule/food-handing-course/
LOCATION:St Bernard’s Safety Training Centre\, St. Bernard's Health and Safety Centre\, No 11\, Left Entrance\, Triq tal-Hriereb. Msida\, Malta\, Msida\, Malta
ORGANIZER;CN="St Bernard's Safety Training Centre":MAILTO:safetytrainingmalta@gmail.com
END:VEVENT
BEGIN:VEVENT
DTSTART;TZID=Europe/London:20190217T090000
DTEND;TZID=Europe/London:20190217T133000
DTSTAMP:20260424T202929
CREATED:20181218T112337Z
LAST-MODIFIED:20181218T112337Z
UID:1622-1550394000-1550410200@healthandsafety.com.mt
SUMMARY:Paediatric First Aid - (Bil-Malti)
DESCRIPTION:
URL:https://healthandsafety.com.mt/schedule/paediatric-first-aid-bil-malti/
LOCATION:Alexandra Hotel\, Schreiber Street\, St Julians\, Malta
ORGANIZER;CN="St Bernard's Safety Training Centre":MAILTO:safetytrainingmalta@gmail.com
END:VEVENT
BEGIN:VEVENT
DTSTART;TZID=Europe/London:20190216T093000
DTEND;TZID=Europe/London:20190216T140000
DTSTAMP:20260424T202929
CREATED:20181212T141605Z
LAST-MODIFIED:20181212T141605Z
UID:1602-1550309400-1550325600@healthandsafety.com.mt
SUMMARY:Paediatric First Aid
DESCRIPTION:
URL:https://healthandsafety.com.mt/schedule/paediatric-first-aid-2/
LOCATION:Alexandra Hotel\, Schreiber Street\, St Julians\, Malta
ORGANIZER;CN="St Bernard's Safety Training Centre":MAILTO:safetytrainingmalta@gmail.com
END:VEVENT
BEGIN:VEVENT
DTSTART;TZID=Europe/London:20190126T093000
DTEND;TZID=Europe/London:20190126T140000
DTSTAMP:20260424T202929
CREATED:20181210T130537Z
LAST-MODIFIED:20181210T130555Z
UID:1583-1548495000-1548511200@healthandsafety.com.mt
SUMMARY:Paediatric First Aid - (English)
DESCRIPTION:
URL:https://healthandsafety.com.mt/schedule/paediatric-first-aid/
LOCATION:Alexandra Hotel\, Schreiber Street\, St Julians\, Malta
ORGANIZER;CN="St Bernard's Safety Training Centre":MAILTO:safetytrainingmalta@gmail.com
END:VEVENT
BEGIN:VEVENT
DTSTART;VALUE=DATE:20190123
DTEND;VALUE=DATE:20190124
DTSTAMP:20260424T202929
CREATED:20181210T130332Z
LAST-MODIFIED:20181210T130333Z
UID:1581-1548201600-1548287999@healthandsafety.com.mt
SUMMARY:First Aid - AED included
DESCRIPTION:
URL:https://healthandsafety.com.mt/schedule/first-aid-aed-included/
LOCATION:St Bernard’s Safety Training Centre\, St. Bernard's Health and Safety Centre\, No 11\, Left Entrance\, Triq tal-Hriereb. Msida\, Malta\, Msida\, Malta
ORGANIZER;CN="St Bernard's Safety Training Centre":MAILTO:safetytrainingmalta@gmail.com
END:VEVENT
BEGIN:VEVENT
DTSTART;VALUE=DATE:20181211
DTEND;VALUE=DATE:20181212
DTSTAMP:20260424T202929
CREATED:20181018T131018Z
LAST-MODIFIED:20181121T100433Z
UID:1512-1544486400-1544572799@healthandsafety.com.mt
SUMMARY:Food Handling
DESCRIPTION:
URL:https://healthandsafety.com.mt/schedule/food-handling/
LOCATION:St Bernard’s Safety Training Centre\, St. Bernard's Health and Safety Centre\, No 11\, Left Entrance\, Triq tal-Hriereb. Msida\, Malta\, Msida\, Malta
END:VEVENT
BEGIN:VEVENT
DTSTART;TZID=Europe/London:20181210T133000
DTEND;TZID=Europe/London:20181210T163000
DTSTAMP:20260424T202929
CREATED:20181210T130237Z
LAST-MODIFIED:20181210T130237Z
UID:1579-1544448600-1544459400@healthandsafety.com.mt
SUMMARY:Health and Safety
DESCRIPTION:
URL:https://healthandsafety.com.mt/schedule/health-and-safety/
LOCATION:St Bernard’s Safety Training Centre\, St. Bernard's Health and Safety Centre\, No 11\, Left Entrance\, Triq tal-Hriereb. Msida\, Malta\, Msida\, Malta
ORGANIZER;CN="St Bernard's Safety Training Centre":MAILTO:safetytrainingmalta@gmail.com
END:VEVENT
BEGIN:VEVENT
DTSTART;TZID=Europe/London:20181114T090000
DTEND;TZID=Europe/London:20181114T130000
DTSTAMP:20260424T202929
CREATED:20180928T151225Z
LAST-MODIFIED:20180928T151225Z
UID:1480-1542186000-1542200400@healthandsafety.com.mt
SUMMARY:Basic Fire Fighting & Prevention
DESCRIPTION:
URL:https://healthandsafety.com.mt/schedule/basic-fire-fighting-prevention-2/
LOCATION:St Bernard’s Safety Training Centre\, St. Bernard's Health and Safety Centre\, No 11\, Left Entrance\, Triq tal-Hriereb. Msida\, Malta\, Msida\, Malta
ATTACH;FMTTYPE=image/jpeg:https://healthandsafety.com.mt/wp-content/uploads/2018/02/FireTraining.jpeg
ORGANIZER;CN="St Bernard's Safety Training Centre":MAILTO:safetytrainingmalta@gmail.com
END:VEVENT
BEGIN:VEVENT
DTSTART;TZID=Europe/London:20181113T080000
DTEND;TZID=Europe/London:20181113T140000
DTSTAMP:20260424T202929
CREATED:20180928T150959Z
LAST-MODIFIED:20180928T150959Z
UID:1478-1542096000-1542117600@healthandsafety.com.mt
SUMMARY:Emergency First Aid - Paediatric included
DESCRIPTION:Emergency First Aid – Paediatric First Aid Included\n  \n\nSuitability: The Emergency First Aid course is suitable for anyone could come across any type of accident and injuries that might happen at home\, at the workplace or in any other environment. This course provides clear information of what has to be done until professional medical assistance takes over. This course is also suitable to renew an existing First Aid qualification \nValidity of Certificate: 3 years \nCourse Duration: Approx 5 – 6 hours depending on class size \nCourse Assessment: At the end of the Emergency First Aid course\, participants are assessed by a multiple choice assessment sheet to assess understanding of main topics and any weaknesses are addressed to by the tutor \n  \nThe Emergency First Aid Course is made up of 5 sections\, which are: \nSection 1: Introduction to First Aid \nSection 2: Minor First Aid Treatments \nSection 3: Major First Aid Treatments \nSection 4: Recognition of Various Illnesses and First Aid Treatment \nSection 5: Body Injuries and First Aid Treatment \nThe Emergency First Aid includes practice of CPR on adult\, child and baby manikin\, recovery position and practice of wound dressing and slings-making. \nIntroduction to First Aid \n1. Aims of First Aid \n2. Hygienic Aspects when delivering First Aid \n3. Legal Aspects that concern First Aiders \n4. Contents of a First Aid Box \n5. Arriving at the Scene \n6. Contacting the Emergency Services \nMinor First Aid Treatments \n7. Nose Bleeding \n8. Panic Attack \n9. Eye Injuries \n10. Splinters \n11. Bruises \n12. Grazes \nMajor First Aid Treatments  \n13. Being able to conduct a Primary Survey for an unresponsive\, not breathing casualty – CPR \n14. Being able to conduct a Secondary Survey for an unresponsive\, breathing casualty – Secondary Survey \n15. Choking \n16. Asthma \n17. Poisons \n18. Head Injury \nRecognition of Various Illnesses and First Aid Treatment  \n19. Seizures & Epilepsy \n20. Diabetes \n21. Angina & Heart Attack \n22. Fainting \nBody Injuries and First Aid Treatment  \n23. Bleeding \n24. Sprains and Strains \n25. Bone Fractures & Dislocations \n26. Body Burns and Scalds
URL:https://healthandsafety.com.mt/schedule/first-aid-paediatric-included-5/
LOCATION:St Bernard’s Safety Training Centre\, St. Bernard's Health and Safety Centre\, No 11\, Left Entrance\, Triq tal-Hriereb. Msida\, Malta\, Msida\, Malta
ATTACH;FMTTYPE=image/jpeg:https://healthandsafety.com.mt/wp-content/uploads/2017/10/basic-first-aid.jpg
ORGANIZER;CN="St Bernard's Safety Training Centre":MAILTO:safetytrainingmalta@gmail.com
END:VEVENT
BEGIN:VEVENT
DTSTART;TZID=Europe/London:20181027T093000
DTEND;TZID=Europe/London:20181027T143000
DTSTAMP:20260424T202929
CREATED:20180903T102534Z
LAST-MODIFIED:20180903T102534Z
UID:1438-1540632600-1540650600@healthandsafety.com.mt
SUMMARY:Food Handling Course
DESCRIPTION:All courses are also available Online.
URL:https://healthandsafety.com.mt/schedule/food-handling-course-10/
LOCATION:St Bernard’s Safety Training Centre\, St. Bernard's Health and Safety Centre\, No 11\, Left Entrance\, Triq tal-Hriereb. Msida\, Malta\, Msida\, Malta
ATTACH;FMTTYPE=image/jpeg:https://healthandsafety.com.mt/wp-content/uploads/2017/11/waiter_tray_food_restaurant_77445_3840x2160-scaled.jpg
ORGANIZER;CN="St Bernard's Safety Training Centre":MAILTO:safetytrainingmalta@gmail.com
END:VEVENT
BEGIN:VEVENT
DTSTART;TZID=Europe/London:20181020T093000
DTEND;TZID=Europe/London:20181020T150000
DTSTAMP:20260424T202929
CREATED:20180903T103401Z
LAST-MODIFIED:20180903T103401Z
UID:1446-1540027800-1540047600@healthandsafety.com.mt
SUMMARY:First Aid Course - Paediatric Included
DESCRIPTION:
URL:https://healthandsafety.com.mt/schedule/first-aid-course-paediatric-included/
LOCATION:St Bernard’s Safety Training Centre\, St. Bernard's Health and Safety Centre\, No 11\, Left Entrance\, Triq tal-Hriereb. Msida\, Malta\, Msida\, Malta
ATTACH;FMTTYPE=image/jpeg:https://healthandsafety.com.mt/wp-content/uploads/2017/10/basic-first-aid.jpg
ORGANIZER;CN="St Bernard's Safety Training Centre":MAILTO:safetytrainingmalta@gmail.com
END:VEVENT
BEGIN:VEVENT
DTSTART;TZID=Europe/London:20180915T153000
DTEND;TZID=Europe/London:20180915T193000
DTSTAMP:20260424T202929
CREATED:20180806T101008Z
LAST-MODIFIED:20180806T101008Z
UID:1379-1537025400-1537039800@healthandsafety.com.mt
SUMMARY:Food Handling Courses
DESCRIPTION:FOOD HANDLING COURSES \nFor people who are directly involved in the preparation and production of food such as chefs\, pastry chefs\, butchers\, bakers etc \nIt is also suitable for people who are indirectly involved in the preparation and production of food such as waiting and bar staff\, cleaners and cashiers. Foreigners applying for their working permit. Teachers for schools Breakfast Club.
URL:https://healthandsafety.com.mt/schedule/food-handling-courses/
LOCATION:St Bernard’s Safety Training Centre\, St. Bernard's Health and Safety Centre\, No 11\, Left Entrance\, Triq tal-Hriereb. Msida\, Malta\, Msida\, Malta
ATTACH;FMTTYPE=image/jpeg:https://healthandsafety.com.mt/wp-content/uploads/2017/10/foodgeneric1.jpg
END:VEVENT
BEGIN:VEVENT
DTSTART;TZID=Europe/London:20180915T093000
DTEND;TZID=Europe/London:20180915T153000
DTSTAMP:20260424T202929
CREATED:20180806T101122Z
LAST-MODIFIED:20180806T102204Z
UID:1381-1537003800-1537025400@healthandsafety.com.mt
SUMMARY:First Aid Courses - (Paediatric Included)
DESCRIPTION:Course valid for the General Public\, Mcast Students\, Teachers and LSE’s
URL:https://healthandsafety.com.mt/schedule/first-aid-courses-paediatric-included/
LOCATION:St Bernard’s Safety Training Centre\, St. Bernard's Health and Safety Centre\, No 11\, Left Entrance\, Triq tal-Hriereb. Msida\, Malta\, Msida\, Malta
END:VEVENT
BEGIN:VEVENT
DTSTART;TZID=Europe/London:20180912T140000
DTEND;TZID=Europe/London:20180912T170000
DTSTAMP:20260424T202929
CREATED:20180828T093811Z
LAST-MODIFIED:20180828T093811Z
UID:1422-1536760800-1536771600@healthandsafety.com.mt
SUMMARY:Fire Fighting & Prevention
DESCRIPTION:
URL:https://healthandsafety.com.mt/schedule/fire-fighting-prevention-3/
LOCATION:St Bernard’s Safety Training Centre\, St. Bernard's Health and Safety Centre\, No 11\, Left Entrance\, Triq tal-Hriereb. Msida\, Malta\, Msida\, Malta
ATTACH;FMTTYPE=image/jpeg:https://healthandsafety.com.mt/wp-content/uploads/2017/06/Fire-Management-scaled.jpg
END:VEVENT
END:VCALENDAR