BEGIN:VCALENDAR
VERSION:2.0
PRODID:-//St. Bernard&#039;s Health and Safety Institute - ECPv6.15.17.1//NONSGML v1.0//EN
CALSCALE:GREGORIAN
METHOD:PUBLISH
X-ORIGINAL-URL:https://healthandsafety.com.mt
X-WR-CALDESC:Events for St. Bernard&#039;s Health and Safety Institute
REFRESH-INTERVAL;VALUE=DURATION:PT1H
X-Robots-Tag:noindex
X-PUBLISHED-TTL:PT1H
BEGIN:VTIMEZONE
TZID:Europe/London
BEGIN:DAYLIGHT
TZOFFSETFROM:+0000
TZOFFSETTO:+0100
TZNAME:BST
DTSTART:20240331T010000
END:DAYLIGHT
BEGIN:STANDARD
TZOFFSETFROM:+0100
TZOFFSETTO:+0000
TZNAME:GMT
DTSTART:20241027T010000
END:STANDARD
BEGIN:DAYLIGHT
TZOFFSETFROM:+0000
TZOFFSETTO:+0100
TZNAME:BST
DTSTART:20250330T010000
END:DAYLIGHT
BEGIN:STANDARD
TZOFFSETFROM:+0100
TZOFFSETTO:+0000
TZNAME:GMT
DTSTART:20251026T010000
END:STANDARD
BEGIN:DAYLIGHT
TZOFFSETFROM:+0000
TZOFFSETTO:+0100
TZNAME:BST
DTSTART:20260329T010000
END:DAYLIGHT
BEGIN:STANDARD
TZOFFSETFROM:+0100
TZOFFSETTO:+0000
TZNAME:GMT
DTSTART:20261025T010000
END:STANDARD
BEGIN:DAYLIGHT
TZOFFSETFROM:+0000
TZOFFSETTO:+0100
TZNAME:BST
DTSTART:20270328T010000
END:DAYLIGHT
BEGIN:STANDARD
TZOFFSETFROM:+0100
TZOFFSETTO:+0000
TZNAME:GMT
DTSTART:20271031T010000
END:STANDARD
END:VTIMEZONE
BEGIN:VTIMEZONE
TZID:Europe/Malta
BEGIN:DAYLIGHT
TZOFFSETFROM:+0100
TZOFFSETTO:+0200
TZNAME:CEST
DTSTART:20250330T010000
END:DAYLIGHT
BEGIN:STANDARD
TZOFFSETFROM:+0200
TZOFFSETTO:+0100
TZNAME:CET
DTSTART:20251026T010000
END:STANDARD
BEGIN:DAYLIGHT
TZOFFSETFROM:+0100
TZOFFSETTO:+0200
TZNAME:CEST
DTSTART:20260329T010000
END:DAYLIGHT
BEGIN:STANDARD
TZOFFSETFROM:+0200
TZOFFSETTO:+0100
TZNAME:CET
DTSTART:20261025T010000
END:STANDARD
BEGIN:DAYLIGHT
TZOFFSETFROM:+0100
TZOFFSETTO:+0200
TZNAME:CEST
DTSTART:20270328T010000
END:DAYLIGHT
BEGIN:STANDARD
TZOFFSETFROM:+0200
TZOFFSETTO:+0100
TZNAME:CET
DTSTART:20271031T010000
END:STANDARD
END:VTIMEZONE
BEGIN:VEVENT
DTSTART;TZID=Europe/London:20250923T143000
DTEND;TZID=Europe/London:20250923T173000
DTSTAMP:20260423T235025
CREATED:20250827T172121Z
LAST-MODIFIED:20250827T172121Z
UID:59297-1758637800-1758648600@healthandsafety.com.mt
SUMMARY:Award in Health and Safety in the Construction Industry
DESCRIPTION:
URL:https://healthandsafety.com.mt/schedule/award-in-health-and-safety-in-the-construction-industry/
LOCATION:St Bernard’s Safety Training Centre\, St. Bernard's Health and Safety Centre\, No 11\, Left Entrance\, Triq tal-Hriereb. Msida\, Malta\, Msida\, Malta
CATEGORIES:Health & Safety
ATTACH;FMTTYPE=image/jpeg:https://healthandsafety.com.mt/wp-content/uploads/2025/02/Health-and-Safety-Consultancy-scaled.jpg
ORGANIZER;CN="St Bernard's Safety Training Centre":MAILTO:safetytrainingmalta@gmail.com
END:VEVENT
BEGIN:VEVENT
DTSTART;TZID=Europe/London:20251024T160000
DTEND;TZID=Europe/London:20251024T200000
DTSTAMP:20260423T235025
CREATED:20251012T183816Z
LAST-MODIFIED:20251012T183816Z
UID:63173-1761321600-1761336000@healthandsafety.com.mt
SUMMARY:Health and Safety for Skill Card
DESCRIPTION:
URL:https://healthandsafety.com.mt/schedule/health-and-safety-for-skill-card/
LOCATION:St Bernard’s Safety Training Centre\, St. Bernard's Health and Safety Centre\, No 11\, Left Entrance\, Triq tal-Hriereb. Msida\, Malta\, Msida\, Malta
CATEGORIES:Health & Safety
ATTACH;FMTTYPE=image/jpeg:https://healthandsafety.com.mt/wp-content/uploads/2025/02/Young-Person-risk-Assessment-scaled.jpg
ORGANIZER;CN="St Bernard's Safety Training Centre":MAILTO:safetytrainingmalta@gmail.com
END:VEVENT
BEGIN:VEVENT
DTSTART;TZID=Europe/London:20251027T093000
DTEND;TZID=Europe/London:20251027T130000
DTSTAMP:20260423T235025
CREATED:20250806T144716Z
LAST-MODIFIED:20250806T144716Z
UID:57919-1761557400-1761570000@healthandsafety.com.mt
SUMMARY:Basic Fire inc Warden
DESCRIPTION:
URL:https://healthandsafety.com.mt/schedule/basic-fire-inc-warden-2/
LOCATION:St Bernard’s Safety Training Centre\, St. Bernard's Health and Safety Centre\, No 11\, Left Entrance\, Triq tal-Hriereb. Msida\, Malta\, Msida\, Malta
CATEGORIES:Fire Safety
ATTACH;FMTTYPE=image/jpeg:https://healthandsafety.com.mt/wp-content/uploads/2025/02/Fire-Drill-scaled.jpg
ORGANIZER;CN="St Bernard's Safety Training Centre":MAILTO:safetytrainingmalta@gmail.com
END:VEVENT
BEGIN:VEVENT
DTSTART;TZID=Europe/London:20251030T093000
DTEND;TZID=Europe/London:20251030T133000
DTSTAMP:20260423T235025
CREATED:20250806T145126Z
LAST-MODIFIED:20250806T145126Z
UID:57922-1761816600-1761831000@healthandsafety.com.mt
SUMMARY:Basic First Aid
DESCRIPTION:
URL:https://healthandsafety.com.mt/schedule/basic-first-aid-11/
LOCATION:St Bernard’s Safety Training Centre\, St. Bernard's Health and Safety Centre\, No 11\, Left Entrance\, Triq tal-Hriereb. Msida\, Malta\, Msida\, Malta
CATEGORIES:First Aid
ATTACH;FMTTYPE=image/png:https://healthandsafety.com.mt/wp-content/uploads/2025/01/IMG_5109.png
ORGANIZER;CN="St Bernard's Safety Training Centre":MAILTO:safetytrainingmalta@gmail.com
END:VEVENT
BEGIN:VEVENT
DTSTART;TZID=Europe/London:20251031T160000
DTEND;TZID=Europe/London:20251031T193000
DTSTAMP:20260423T235025
CREATED:20251027T221133Z
LAST-MODIFIED:20251027T221133Z
UID:64670-1761926400-1761939000@healthandsafety.com.mt
SUMMARY:Health & Safety for the Construction Industry - Maltese
DESCRIPTION:
URL:https://healthandsafety.com.mt/schedule/health-safety-for-the-construction-industry-maltese/
LOCATION:St Bernard’s Safety Training Centre\, St. Bernard's Health and Safety Centre\, No 11\, Left Entrance\, Triq tal-Hriereb. Msida\, Malta\, Msida\, Malta
CATEGORIES:Health & Safety
ATTACH;FMTTYPE=image/png:https://healthandsafety.com.mt/wp-content/uploads/2025/10/Skill-Card.png
ORGANIZER;CN="St Bernard's Safety Training Centre":MAILTO:safetytrainingmalta@gmail.com
END:VEVENT
BEGIN:VEVENT
DTSTART;TZID=Europe/London:20251120T093000
DTEND;TZID=Europe/London:20251120T133000
DTSTAMP:20260423T235025
CREATED:20250917T135052Z
LAST-MODIFIED:20250917T135204Z
UID:61244-1763631000-1763645400@healthandsafety.com.mt
SUMMARY:Basic First Aid
DESCRIPTION:
URL:https://healthandsafety.com.mt/schedule/basic-first-aid-13/
LOCATION:St Bernard’s Safety Training Centre\, St. Bernard's Health and Safety Centre\, No 11\, Left Entrance\, Triq tal-Hriereb. Msida\, Malta\, Msida\, Malta
CATEGORIES:First Aid
ATTACH;FMTTYPE=image/png:https://healthandsafety.com.mt/wp-content/uploads/2025/03/first-aid4.png
ORGANIZER;CN="St Bernard's Safety Training Centre":MAILTO:safetytrainingmalta@gmail.com
END:VEVENT
BEGIN:VEVENT
DTSTART;TZID=Europe/London:20251201T163000
DTEND;TZID=Europe/London:20251201T193000
DTSTAMP:20260423T235025
CREATED:20251128T150323Z
LAST-MODIFIED:20251128T150323Z
UID:67564-1764606600-1764617400@healthandsafety.com.mt
SUMMARY:Health and Safety for Skills Card
DESCRIPTION:
URL:https://healthandsafety.com.mt/schedule/health-and-safety-for-skills-card-2/
LOCATION:St Bernard’s Safety Training Centre\, St. Bernard's Health and Safety Centre\, No 11\, Left Entrance\, Triq tal-Hriereb. Msida\, Malta\, Msida\, Malta
CATEGORIES:Health & Safety
ATTACH;FMTTYPE=image/png:https://healthandsafety.com.mt/wp-content/uploads/2025/10/Skill-Card.png
ORGANIZER;CN="St Bernard's Safety Training Centre":MAILTO:safetytrainingmalta@gmail.com
END:VEVENT
BEGIN:VEVENT
DTSTART;TZID=Europe/London:20251206T093000
DTEND;TZID=Europe/London:20251206T133000
DTSTAMP:20260423T235025
CREATED:20251121T133744Z
LAST-MODIFIED:20251121T133833Z
UID:66965-1765013400-1765027800@healthandsafety.com.mt
SUMMARY:Basic and Paediatric First Aid
DESCRIPTION:
URL:https://healthandsafety.com.mt/schedule/basic-and-paediatric-first-aid-2/
LOCATION:St Bernard’s Safety Training Centre\, St. Bernard's Health and Safety Centre\, No 11\, Left Entrance\, Triq tal-Hriereb. Msida\, Malta\, Msida\, Malta
CATEGORIES:First Aid
ATTACH;FMTTYPE=image/png:https://healthandsafety.com.mt/wp-content/uploads/2025/03/first-aid4.png
ORGANIZER;CN="St Bernard's Safety Training Centre":MAILTO:safetytrainingmalta@gmail.com
END:VEVENT
BEGIN:VEVENT
DTSTART;TZID=Europe/London:20251206T093000
DTEND;TZID=Europe/London:20251206T133000
DTSTAMP:20260423T235025
CREATED:20251121T134116Z
LAST-MODIFIED:20251121T134116Z
UID:66968-1765013400-1765027800@healthandsafety.com.mt
SUMMARY:Paediatric First Aid
DESCRIPTION:
URL:https://healthandsafety.com.mt/schedule/paediatric-first-aid-4/
LOCATION:St Bernard’s Safety Training Centre\, St. Bernard's Health and Safety Centre\, No 11\, Left Entrance\, Triq tal-Hriereb. Msida\, Malta\, Msida\, Malta
CATEGORIES:First Aid
ATTACH;FMTTYPE=image/png:https://healthandsafety.com.mt/wp-content/uploads/2025/01/IMG_5109.png
ORGANIZER;CN="St Bernard's Safety Training Centre":MAILTO:safetytrainingmalta@gmail.com
END:VEVENT
BEGIN:VEVENT
DTSTART;TZID=Europe/London:20251211T100000
DTEND;TZID=Europe/London:20251211T130000
DTSTAMP:20260423T235025
CREATED:20251128T144147Z
LAST-MODIFIED:20251128T150856Z
UID:67553-1765447200-1765458000@healthandsafety.com.mt
SUMMARY:Health and Safety for Skills Card
DESCRIPTION:
URL:https://healthandsafety.com.mt/schedule/health-and-safety-for-skills-card/
LOCATION:St Bernard’s Safety Training Centre\, St. Bernard's Health and Safety Centre\, No 11\, Left Entrance\, Triq tal-Hriereb. Msida\, Malta\, Msida\, Malta
CATEGORIES:Health & Safety
ATTACH;FMTTYPE=image/png:https://healthandsafety.com.mt/wp-content/uploads/2025/10/Skill-Card.png
ORGANIZER;CN="St Bernard's Safety Training Centre":MAILTO:safetytrainingmalta@gmail.com
END:VEVENT
BEGIN:VEVENT
DTSTART;TZID=Europe/London:20251211T150000
DTEND;TZID=Europe/London:20251211T190000
DTSTAMP:20260423T235025
CREATED:20251202T144353Z
LAST-MODIFIED:20251202T144638Z
UID:67791-1765465200-1765479600@healthandsafety.com.mt
SUMMARY:Basic First Aid & Basic Fire Safety Online
DESCRIPTION:
URL:https://healthandsafety.com.mt/schedule/basic-first-aid-basic-fire-safety-online/
LOCATION:online\, Online
CATEGORIES:Fire Safety,First Aid
ATTACH;FMTTYPE=image/png:https://healthandsafety.com.mt/wp-content/uploads/2025/01/IMG_5098.png
ORGANIZER;CN="St Bernard's Safety Training Centre":MAILTO:safetytrainingmalta@gmail.com
END:VEVENT
BEGIN:VEVENT
DTSTART;TZID=Europe/London:20251212T090000
DTEND;TZID=Europe/London:20251212T120000
DTSTAMP:20260423T235025
CREATED:20251105T161651Z
LAST-MODIFIED:20251109T174540Z
UID:65595-1765530000-1765540800@healthandsafety.com.mt
SUMMARY:Basic Fire Fighting and Prevention
DESCRIPTION:Basic Fire Fighting & Prevention – Online Version
URL:https://healthandsafety.com.mt/schedule/basic-fire-fighting-and-prevention-2/
LOCATION:St Bernard’s Safety Training Centre\, St. Bernard's Health and Safety Centre\, No 11\, Left Entrance\, Triq tal-Hriereb. Msida\, Malta\, Msida\, Malta
CATEGORIES:Fire Safety
ATTACH;FMTTYPE=image/jpeg:https://healthandsafety.com.mt/wp-content/uploads/2025/02/Fire-Drill-scaled.jpg
ORGANIZER;CN="St Bernard's Safety Training Centre":MAILTO:safetytrainingmalta@gmail.com
END:VEVENT
BEGIN:VEVENT
DTSTART;TZID=Europe/London:20251212T090000
DTEND;TZID=Europe/London:20251212T120000
DTSTAMP:20260423T235025
CREATED:20251109T174000Z
LAST-MODIFIED:20251109T174343Z
UID:65964-1765530000-1765540800@healthandsafety.com.mt
SUMMARY:Basic Fire Fighting & Prevention inc Fire Warden
DESCRIPTION:Basic Fire Fighting & Prevention including Fire Warden – Online Version
URL:https://healthandsafety.com.mt/schedule/basic-fire-fighting-prevention-inc-fire-warden-2/
LOCATION:St Bernard’s Safety Training Centre\, St. Bernard's Health and Safety Centre\, No 11\, Left Entrance\, Triq tal-Hriereb. Msida\, Malta\, Msida\, Malta
CATEGORIES:Fire Safety
ATTACH;FMTTYPE=image/jpeg:https://healthandsafety.com.mt/wp-content/uploads/2025/01/Fire-Drills-scaled.jpg
ORGANIZER;CN="St Bernard's Safety Training Centre":MAILTO:safetytrainingmalta@gmail.com
END:VEVENT
BEGIN:VEVENT
DTSTART;TZID=Europe/London:20260103T093000
DTEND;TZID=Europe/London:20260103T133000
DTSTAMP:20260423T235025
CREATED:20251128T145848Z
LAST-MODIFIED:20251208T104235Z
UID:67559-1767432600-1767447000@healthandsafety.com.mt
SUMMARY:Basic & Paediatric First Aid
DESCRIPTION:
URL:https://healthandsafety.com.mt/schedule/basic-paediatric-first-aid-5/
LOCATION:Ghajnsielem
CATEGORIES:First Aid
ATTACH;FMTTYPE=image/png:https://healthandsafety.com.mt/wp-content/uploads/2025/03/first-aid4.png
ORGANIZER;CN="St Bernard's Safety Training Centre":MAILTO:safetytrainingmalta@gmail.com
END:VEVENT
BEGIN:VEVENT
DTSTART;TZID=Europe/London:20260123T093000
DTEND;TZID=Europe/London:20260123T133000
DTSTAMP:20260423T235025
CREATED:20251202T145145Z
LAST-MODIFIED:20260114T150907Z
UID:67820-1769160600-1769175000@healthandsafety.com.mt
SUMMARY:Mental Health First Aid
DESCRIPTION:
URL:https://healthandsafety.com.mt/schedule/mental-health-first-aid/
LOCATION:Little Sisters Of The Poor Hamrun\, Hamrun\, Malta
CATEGORIES:First Aid
ATTACH;FMTTYPE=image/webp:https://healthandsafety.com.mt/wp-content/uploads/2025/01/DALL·E-2025-01-31-12.08.34-A-young-worker-at-an-office-workstation-undergoing-a-risk-assessment.-The-scene-includes-an-ergonomic-desk-setup-with-a-computer-an-adjustable-chair.webp
ORGANIZER;CN="St Bernard's Safety Training Centre":MAILTO:safetytrainingmalta@gmail.com
END:VEVENT
BEGIN:VEVENT
DTSTART;TZID=Europe/London:20260126T093000
DTEND;TZID=Europe/London:20260126T130000
DTSTAMP:20260423T235025
CREATED:20251204T120137Z
LAST-MODIFIED:20260118T102407Z
UID:67998-1769419800-1769432400@healthandsafety.com.mt
SUMMARY:Basic Fire Fighting and Prevention inc Fire Warden
DESCRIPTION:
URL:https://healthandsafety.com.mt/schedule/basic-fire-fighting-and-prevention-inc-fire-warden/
LOCATION:St Bernard’s Safety Training Centre\, St. Bernard's Health and Safety Centre\, No 11\, Left Entrance\, Triq tal-Hriereb. Msida\, Malta\, Msida\, Malta
CATEGORIES:Fire Safety
ATTACH;FMTTYPE=image/jpeg:https://healthandsafety.com.mt/wp-content/uploads/2025/02/Fire-Drill-scaled.jpg
ORGANIZER;CN="St Bernard's Safety Training Centre":MAILTO:safetytrainingmalta@gmail.com
END:VEVENT
BEGIN:VEVENT
DTSTART;TZID=Europe/London:20260130T093000
DTEND;TZID=Europe/London:20260130T093000
DTSTAMP:20260423T235025
CREATED:20251023T172917Z
LAST-MODIFIED:20260107T142400Z
UID:64177-1769765400-1769765400@healthandsafety.com.mt
SUMMARY:Basic First Aid
DESCRIPTION:
URL:https://healthandsafety.com.mt/schedule/basic-first-aid-14/
LOCATION:St Bernard’s Safety Training Centre\, St. Bernard's Health and Safety Centre\, No 11\, Left Entrance\, Triq tal-Hriereb. Msida\, Malta\, Msida\, Malta
CATEGORIES:First Aid
ATTACH;FMTTYPE=image/png:https://healthandsafety.com.mt/wp-content/uploads/2025/03/first-aid4.png
ORGANIZER;CN="St Bernard's Safety Training Centre":MAILTO:safetytrainingmalta@gmail.com
END:VEVENT
BEGIN:VEVENT
DTSTART;TZID=Europe/London:20260131T093000
DTEND;TZID=Europe/London:20260131T123000
DTSTAMP:20260423T235025
CREATED:20251231T081155Z
LAST-MODIFIED:20251231T081348Z
UID:69339-1769851800-1769862600@healthandsafety.com.mt
SUMMARY:Paediatric First Aid Course
DESCRIPTION:
URL:https://healthandsafety.com.mt/schedule/paediatric-first-aid-course-10/
LOCATION:St Bernard’s Safety Training Centre\, St. Bernard's Health and Safety Centre\, No 11\, Left Entrance\, Triq tal-Hriereb. Msida\, Malta\, Msida\, Malta
CATEGORIES:First Aid
ATTACH;FMTTYPE=image/png:https://healthandsafety.com.mt/wp-content/uploads/2025/01/IMG_5109.png
ORGANIZER;CN="St Bernard's Safety Training Centre":MAILTO:safetytrainingmalta@gmail.com
END:VEVENT
BEGIN:VEVENT
DTSTART;TZID=Europe/London:20260220T093000
DTEND;TZID=Europe/London:20260220T133000
DTSTAMP:20260423T235025
CREATED:20251202T145704Z
LAST-MODIFIED:20260203T170436Z
UID:67825-1771579800-1771594200@healthandsafety.com.mt
SUMMARY:Basic First Aid
DESCRIPTION:
URL:https://healthandsafety.com.mt/schedule/basic-first-aid-15/
LOCATION:St Bernard’s Safety Training Centre\, St. Bernard's Health and Safety Centre\, No 11\, Left Entrance\, Triq tal-Hriereb. Msida\, Malta\, Msida\, Malta
CATEGORIES:First Aid
ATTACH;FMTTYPE=image/png:https://healthandsafety.com.mt/wp-content/uploads/2025/03/first-aid4.png
ORGANIZER;CN="St Bernard's Safety Training Centre":MAILTO:safetytrainingmalta@gmail.com
END:VEVENT
BEGIN:VEVENT
DTSTART;TZID=Europe/London:20260226T093000
DTEND;TZID=Europe/London:20260226T123000
DTSTAMP:20260423T235025
CREATED:20260118T191534Z
LAST-MODIFIED:20260118T192522Z
UID:70602-1772098200-1772109000@healthandsafety.com.mt
SUMMARY:Basic Fire Fighting & Prevention
DESCRIPTION:
URL:https://healthandsafety.com.mt/schedule/basic-fire-fighting-prevention-3/
LOCATION:St Bernard’s Safety Training Centre\, St. Bernard's Health and Safety Centre\, No 11\, Left Entrance\, Triq tal-Hriereb. Msida\, Malta\, Msida\, Malta
CATEGORIES:Fire Safety
ATTACH;FMTTYPE=image/jpeg:https://healthandsafety.com.mt/wp-content/uploads/2025/02/Fire-Risk-Assessment-scaled.jpg
ORGANIZER;CN="St Bernard's Safety Training Centre":MAILTO:safetytrainingmalta@gmail.com
END:VEVENT
BEGIN:VEVENT
DTSTART;TZID=Europe/London:20260226T093000
DTEND;TZID=Europe/London:20260226T133000
DTSTAMP:20260423T235025
CREATED:20260118T192851Z
LAST-MODIFIED:20260118T192954Z
UID:70609-1772098200-1772112600@healthandsafety.com.mt
SUMMARY:Basic Fire Fighting & Prevention including Fire Warden
DESCRIPTION:
URL:https://healthandsafety.com.mt/schedule/basic-fire-fighting-prevention-including-fire-warden-3/
LOCATION:St Bernard’s Safety Training Centre\, St. Bernard's Health and Safety Centre\, No 11\, Left Entrance\, Triq tal-Hriereb. Msida\, Malta\, Msida\, Malta
CATEGORIES:Fire Safety
END:VEVENT
BEGIN:VEVENT
DTSTART;TZID=Europe/London:20260227T160000
DTEND;TZID=Europe/London:20260227T200000
DTSTAMP:20260423T235025
CREATED:20260213T133520Z
LAST-MODIFIED:20260213T133743Z
UID:72818-1772208000-1772222400@healthandsafety.com.mt
SUMMARY:Health and Safety for Skills Card
DESCRIPTION:
URL:https://healthandsafety.com.mt/schedule/health-and-safety-for-skills-card-3/
LOCATION:St Bernard’s Safety Training Centre\, St. Bernard's Health and Safety Centre\, No 11\, Left Entrance\, Triq tal-Hriereb. Msida\, Malta\, Msida\, Malta
CATEGORIES:Health & Safety
ATTACH;FMTTYPE=image/png:https://healthandsafety.com.mt/wp-content/uploads/2025/10/Skill-card-course.png
ORGANIZER;CN="St Bernard's Safety Training Centre":MAILTO:safetytrainingmalta@gmail.com
END:VEVENT
BEGIN:VEVENT
DTSTART;TZID=Europe/London:20260318T093000
DTEND;TZID=Europe/London:20260318T133000
DTSTAMP:20260423T235025
CREATED:20260318T090532Z
LAST-MODIFIED:20260318T090532Z
UID:76873-1773826200-1773840600@healthandsafety.com.mt
SUMMARY:Health & Safety for Skills Card
DESCRIPTION:The course is accredited at MQF Level 1 by the Malta Further and Higher Education Authority (MFHEA) and is recognised by the Building and Construction Authority (BCA) as part of the Skills Card application process.
URL:https://healthandsafety.com.mt/schedule/health-safety-for-skills-card/
LOCATION:St Bernard’s Safety Training Centre\, St. Bernard's Health and Safety Centre\, No 11\, Left Entrance\, Triq tal-Hriereb. Msida\, Malta\, Msida\, Malta
CATEGORIES:Health & Safety
ATTACH;FMTTYPE=image/png:https://healthandsafety.com.mt/wp-content/uploads/2025/10/Skill-Card.png
ORGANIZER;CN="St Bernard's Safety Training Centre":MAILTO:safetytrainingmalta@gmail.com
END:VEVENT
BEGIN:VEVENT
DTSTART;TZID=Europe/London:20260320T093000
DTEND;TZID=Europe/London:20260320T133000
DTSTAMP:20260423T235025
CREATED:20260118T193525Z
LAST-MODIFIED:20260203T170808Z
UID:70612-1773999000-1774013400@healthandsafety.com.mt
SUMMARY:Basic First Aid
DESCRIPTION:
URL:https://healthandsafety.com.mt/schedule/basic-first-aid-16/
LOCATION:St Bernard’s Safety Training Centre\, St. Bernard's Health and Safety Centre\, No 11\, Left Entrance\, Triq tal-Hriereb. Msida\, Malta\, Msida\, Malta
CATEGORIES:First Aid
ATTACH;FMTTYPE=image/png:https://healthandsafety.com.mt/wp-content/uploads/2025/03/first-aid4.png
ORGANIZER;CN="St Bernard's Safety Training Centre":MAILTO:safetytrainingmalta@gmail.com
END:VEVENT
BEGIN:VEVENT
DTSTART;TZID=Europe/London:20260327T093000
DTEND;TZID=Europe/London:20260327T133000
DTSTAMP:20260423T235025
CREATED:20260202T095741Z
LAST-MODIFIED:20260202T142352Z
UID:71788-1774603800-1774618200@healthandsafety.com.mt
SUMMARY:Basic Fire Fighting & Prevention inc Fire Warden
DESCRIPTION:This course is suitable for individuals seeking Basic Fire Safety Awareness\, as well as those who require certification as a Fire Warden. It is ideal for restaurant owners\, office managers\, school staff\, warehouse supervisors\, retail employees\, and anyone responsible for workplace safety and emergency response planning.
URL:https://healthandsafety.com.mt/schedule/basic-fire-fighting-prevention-inc-fire-warden-3/
LOCATION:St Bernard’s Safety Training Centre\, St. Bernard's Health and Safety Centre\, No 11\, Left Entrance\, Triq tal-Hriereb. Msida\, Malta\, Msida\, Malta
CATEGORIES:Fire Safety
ATTACH;FMTTYPE=image/jpeg:https://healthandsafety.com.mt/wp-content/uploads/2025/02/Fire-Risk-Assessment-scaled.jpg
END:VEVENT
BEGIN:VEVENT
DTSTART;TZID=Europe/London:20260328T093000
DTEND;TZID=Europe/London:20260328T133000
DTSTAMP:20260423T235025
CREATED:20260308T101059Z
LAST-MODIFIED:20260308T101819Z
UID:75547-1774690200-1774704600@healthandsafety.com.mt
SUMMARY:Paediatric First Aid
DESCRIPTION:Paediatric Emergency First Aid Course \n 
URL:https://healthandsafety.com.mt/schedule/paediatric-first-aid-5/
LOCATION:St. Bernard’s Safety Training Institute\, 75\, Triq tal-Hriereb\,\, Msida\, Malta
CATEGORIES:First Aid
ATTACH;FMTTYPE=image/jpeg:https://healthandsafety.com.mt/wp-content/uploads/2026/02/IMG_0448.jpeg
END:VEVENT
BEGIN:VEVENT
DTSTART;TZID=Europe/London:20260423T093000
DTEND;TZID=Europe/London:20260423T133000
DTSTAMP:20260423T235025
CREATED:20260202T100417Z
LAST-MODIFIED:20260414T140439Z
UID:71791-1776936600-1776951000@healthandsafety.com.mt
SUMMARY:Basic Fire Fighting & Prevention inc Fire Warden
DESCRIPTION:This course is suitable for individuals seeking Basic Fire Safety Awareness\, as well as those who require certification as a Fire Warden. It is ideal for restaurant owners\, office managers\, school staff\, warehouse supervisors\, retail employees\, and anyone responsible for workplace safety and emergency response planning.
URL:https://healthandsafety.com.mt/schedule/basic-fire-fighting-prevention-inc-fire-warden-4/
LOCATION:St Bernard’s Safety Training Centre\, St. Bernard's Health and Safety Centre\, No 11\, Left Entrance\, Triq tal-Hriereb. Msida\, Malta\, Msida\, Malta
CATEGORIES:Fire Safety
ATTACH;FMTTYPE=image/jpeg:https://healthandsafety.com.mt/wp-content/uploads/2025/02/Fire-Drill-scaled.jpg
ORGANIZER;CN="St Bernard's Safety Training Centre":MAILTO:safetytrainingmalta@gmail.com
END:VEVENT
BEGIN:VEVENT
DTSTART;TZID=Europe/Malta:20260424T093000
DTEND;TZID=Europe/Malta:20260424T133000
DTSTAMP:20260423T235025
CREATED:20260202T101321Z
LAST-MODIFIED:20260416T081936Z
UID:71794-1777023000-1777037400@healthandsafety.com.mt
SUMMARY:Basic First Aid
DESCRIPTION:
URL:https://healthandsafety.com.mt/schedule/basic-first-aid-17/
LOCATION:St Bernard’s Safety Training Centre\, St. Bernard's Health and Safety Centre\, No 11\, Left Entrance\, Triq tal-Hriereb. Msida\, Malta\, Msida\, Malta
CATEGORIES:First Aid
ATTACH;FMTTYPE=image/png:https://healthandsafety.com.mt/wp-content/uploads/2025/03/first-aid4.png
ORGANIZER;CN="St Bernard's Safety Training Centre":MAILTO:safetytrainingmalta@gmail.com
END:VEVENT
BEGIN:VEVENT
DTSTART;TZID=Europe/Malta:20260522T093000
DTEND;TZID=Europe/Malta:20260522T133000
DTSTAMP:20260423T235025
CREATED:20260410T173936Z
LAST-MODIFIED:20260416T082129Z
UID:79895-1779442200-1779456600@healthandsafety.com.mt
SUMMARY:Basic First Aid
DESCRIPTION:
URL:https://healthandsafety.com.mt/schedule/basic-first-aid-18/
LOCATION:St. Bernard’s Safety Training Institute\, 75\, Triq tal-Hriereb\,\, Msida\, Malta
CATEGORIES:First Aid
ATTACH;FMTTYPE=image/png:https://healthandsafety.com.mt/wp-content/uploads/2025/03/first-aid4.png
END:VEVENT
END:VCALENDAR