BEGIN:VCALENDAR
VERSION:2.0
PRODID:-//St. Bernard&#039;s Health and Safety Institute - ECPv6.15.17.1//NONSGML v1.0//EN
CALSCALE:GREGORIAN
METHOD:PUBLISH
X-WR-CALNAME:St. Bernard&#039;s Health and Safety Institute
X-ORIGINAL-URL:https://healthandsafety.com.mt
X-WR-CALDESC:Events for St. Bernard&#039;s Health and Safety Institute
REFRESH-INTERVAL;VALUE=DURATION:PT1H
X-Robots-Tag:noindex
X-PUBLISHED-TTL:PT1H
BEGIN:VTIMEZONE
TZID:Europe/London
BEGIN:DAYLIGHT
TZOFFSETFROM:+0000
TZOFFSETTO:+0100
TZNAME:BST
DTSTART:20210328T010000
END:DAYLIGHT
BEGIN:STANDARD
TZOFFSETFROM:+0100
TZOFFSETTO:+0000
TZNAME:GMT
DTSTART:20211031T010000
END:STANDARD
BEGIN:DAYLIGHT
TZOFFSETFROM:+0000
TZOFFSETTO:+0100
TZNAME:BST
DTSTART:20220327T010000
END:DAYLIGHT
BEGIN:STANDARD
TZOFFSETFROM:+0100
TZOFFSETTO:+0000
TZNAME:GMT
DTSTART:20221030T010000
END:STANDARD
BEGIN:DAYLIGHT
TZOFFSETFROM:+0000
TZOFFSETTO:+0100
TZNAME:BST
DTSTART:20230326T010000
END:DAYLIGHT
BEGIN:STANDARD
TZOFFSETFROM:+0100
TZOFFSETTO:+0000
TZNAME:GMT
DTSTART:20231029T010000
END:STANDARD
BEGIN:DAYLIGHT
TZOFFSETFROM:+0000
TZOFFSETTO:+0100
TZNAME:BST
DTSTART:20240331T010000
END:DAYLIGHT
BEGIN:STANDARD
TZOFFSETFROM:+0100
TZOFFSETTO:+0000
TZNAME:GMT
DTSTART:20241027T010000
END:STANDARD
BEGIN:DAYLIGHT
TZOFFSETFROM:+0000
TZOFFSETTO:+0100
TZNAME:BST
DTSTART:20250330T010000
END:DAYLIGHT
BEGIN:STANDARD
TZOFFSETFROM:+0100
TZOFFSETTO:+0000
TZNAME:GMT
DTSTART:20251026T010000
END:STANDARD
END:VTIMEZONE
BEGIN:VEVENT
DTSTART;TZID=Europe/London:20240318T160000
DTEND;TZID=Europe/London:20240318T190000
DTSTAMP:20260424T104127
CREATED:20240229T104356Z
LAST-MODIFIED:20240229T104356Z
UID:18300-1710777600-1710788400@healthandsafety.com.mt
SUMMARY:Food Handling Course
DESCRIPTION:For Bookings and further information\n\n 99248968\n\n info@healthandsafety.com.mt\n\nTraining can also be held at client’s Premises on request
URL:https://healthandsafety.com.mt/schedule/food-handling-course-52/
LOCATION:St Bernard’s Safety Training Centre\, St. Bernard's Health and Safety Centre\, No 11\, Left Entrance\, Triq tal-Hriereb. Msida\, Malta\, Msida\, Malta
ORGANIZER;CN="St Bernard's Safety Training Centre":MAILTO:safetytrainingmalta@gmail.com
END:VEVENT
BEGIN:VEVENT
DTSTART;TZID=Europe/London:20240315T130000
DTEND;TZID=Europe/London:20240315T163000
DTSTAMP:20260424T104127
CREATED:20240305T154038Z
LAST-MODIFIED:20240319T113142Z
UID:18387-1710507600-1710520200@healthandsafety.com.mt
SUMMARY:Fire Warden Course
DESCRIPTION:For Bookings and further information \nKindly call 99248968 or email us at info@healthandsafety.com.mt. \nTraining can also be held privately at clients requested premises.
URL:https://healthandsafety.com.mt/schedule/fire-warden-course/
LOCATION:St Bernard’s Safety Training Centre\, St. Bernard's Health and Safety Centre\, No 11\, Left Entrance\, Triq tal-Hriereb. Msida\, Malta\, Msida\, Malta
ORGANIZER;CN="St Bernard's Safety Training Centre":MAILTO:safetytrainingmalta@gmail.com
END:VEVENT
BEGIN:VEVENT
DTSTART;TZID=Europe/London:20240315T081838
DTEND;TZID=Europe/London:20240315T081838
DTSTAMP:20260424T104127
CREATED:20240126T132046Z
LAST-MODIFIED:20240126T132046Z
UID:17864-1710490718-1710490718@healthandsafety.com.mt
SUMMARY:Basic First Aid
DESCRIPTION:
URL:https://healthandsafety.com.mt/schedule/basic-first-aid-5/
END:VEVENT
BEGIN:VEVENT
DTSTART;TZID=Europe/London:20240313T080000
DTEND;TZID=Europe/London:20240313T080000
DTSTAMP:20260424T104127
CREATED:20240130T124347Z
LAST-MODIFIED:20240130T125500Z
UID:17935-1710316800-1710316800@healthandsafety.com.mt
SUMMARY:Basic First Aid Course
DESCRIPTION:For Bookings and further information \nKindly call 99248968 or email us at info@healthandsafety.com.mt. \nTraining can also be held privately at clients requested premises.
URL:https://healthandsafety.com.mt/schedule/basic-first-aid-course/
LOCATION:St Bernard’s Safety Training Centre\, St. Bernard's Health and Safety Centre\, No 11\, Left Entrance\, Triq tal-Hriereb. Msida\, Malta\, Msida\, Malta
ORGANIZER;CN="St Bernard's Safety Training Centre":MAILTO:safetytrainingmalta@gmail.com
END:VEVENT
BEGIN:VEVENT
DTSTART;TZID=Europe/London:20240223T150000
DTEND;TZID=Europe/London:20240223T180000
DTSTAMP:20260424T104127
CREATED:20240111T140348Z
LAST-MODIFIED:20240111T140348Z
UID:17683-1708700400-1708711200@healthandsafety.com.mt
SUMMARY:Food Handling Course
DESCRIPTION:
URL:https://healthandsafety.com.mt/schedule/food-handling-course-48/
LOCATION:St Bernard’s Safety Training Centre\, St. Bernard's Health and Safety Centre\, No 11\, Left Entrance\, Triq tal-Hriereb. Msida\, Malta\, Msida\, Malta
END:VEVENT
BEGIN:VEVENT
DTSTART;TZID=Europe/London:20240216T153000
DTEND;TZID=Europe/London:20240216T183000
DTSTAMP:20260424T104127
CREATED:20240205T142707Z
LAST-MODIFIED:20240205T142707Z
UID:18020-1708097400-1708108200@healthandsafety.com.mt
SUMMARY:Food Handling Course
DESCRIPTION:For Bookings and further information call us at  99248968 or email us at info@healthandsafety.com.mt.\n\nTraining can also be held at client’s Premises on request
URL:https://healthandsafety.com.mt/schedule/food-handling-course-49/
LOCATION:St Bernard’s Safety Training Centre\, St. Bernard's Health and Safety Centre\, No 11\, Left Entrance\, Triq tal-Hriereb. Msida\, Malta\, Msida\, Malta
ORGANIZER;CN="St Bernard's Safety Training Centre":MAILTO:safetytrainingmalta@gmail.com
END:VEVENT
BEGIN:VEVENT
DTSTART;TZID=Europe/London:20240127T093000
DTEND;TZID=Europe/London:20240127T133000
DTSTAMP:20260424T104127
CREATED:20240111T140225Z
LAST-MODIFIED:20240111T140225Z
UID:17681-1706347800-1706362200@healthandsafety.com.mt
SUMMARY:Food Handling
DESCRIPTION:
URL:https://healthandsafety.com.mt/schedule/food-handling-3/
LOCATION:St Bernard’s Safety Training Centre\, St. Bernard's Health and Safety Centre\, No 11\, Left Entrance\, Triq tal-Hriereb. Msida\, Malta\, Msida\, Malta
END:VEVENT
BEGIN:VEVENT
DTSTART;TZID=Europe/London:20240120T093000
DTEND;TZID=Europe/London:20240120T143000
DTSTAMP:20260424T104127
CREATED:20240111T140548Z
LAST-MODIFIED:20240111T140548Z
UID:17685-1705743000-1705761000@healthandsafety.com.mt
SUMMARY:Basic\, Paediatric & AED Course
DESCRIPTION:
URL:https://healthandsafety.com.mt/schedule/basic-paediatric-aed-course/
LOCATION:St Bernard’s Safety Training Centre\, St. Bernard's Health and Safety Centre\, No 11\, Left Entrance\, Triq tal-Hriereb. Msida\, Malta\, Msida\, Malta
END:VEVENT
BEGIN:VEVENT
DTSTART;TZID=Europe/London:20230708T093000
DTEND;TZID=Europe/London:20230708T133000
DTSTAMP:20260424T104127
CREATED:20230520T123656Z
LAST-MODIFIED:20230520T123657Z
UID:15058-1688808600-1688823000@healthandsafety.com.mt
SUMMARY:Basic First Aid inc Paediatric
DESCRIPTION:Call: 99248968 \nEmail: info@healthandsafety.com.mt for bookings and further information \nDiscounts apply for group bookings \nTraining can be held privately in-house
URL:https://healthandsafety.com.mt/schedule/basic-first-aid-inc-paediatric/
LOCATION:St Bernard’s Safety Training Centre\, St. Bernard's Health and Safety Centre\, No 11\, Left Entrance\, Triq tal-Hriereb. Msida\, Malta\, Msida\, Malta
ORGANIZER;CN="St Bernard's Safety Training Centre":MAILTO:safetytrainingmalta@gmail.com
END:VEVENT
BEGIN:VEVENT
DTSTART;TZID=Europe/London:20230701T130000
DTEND;TZID=Europe/London:20230701T160000
DTSTAMP:20260424T104127
CREATED:20230520T123927Z
LAST-MODIFIED:20230520T124128Z
UID:15060-1688216400-1688227200@healthandsafety.com.mt
SUMMARY:Paediatric First Aid
DESCRIPTION:Call: 99248968 \nEmail: info@healthandsafety.com.mt for bookings and further information \nDiscounts apply for group bookings \nTraining can be held privately in-house
URL:https://healthandsafety.com.mt/schedule/paediatric-first-aid-3/
END:VEVENT
BEGIN:VEVENT
DTSTART;VALUE=DATE:20230606
DTEND;VALUE=DATE:20230607
DTSTAMP:20260424T104127
CREATED:20230520T123403Z
LAST-MODIFIED:20230520T123407Z
UID:15056-1686009600-1686095999@healthandsafety.com.mt
SUMMARY:Basic First Aid\, Basic Fire & Health and Safety at Work
DESCRIPTION:Call; 99248968 \nEmail: info@healthandsafety.com.mt for bookings and further information
URL:https://healthandsafety.com.mt/schedule/basic-first-aid-basic-fire-health-and-safety-at-work/
LOCATION:St Bernard’s Safety Training Centre\, St. Bernard's Health and Safety Centre\, No 11\, Left Entrance\, Triq tal-Hriereb. Msida\, Malta\, Msida\, Malta
ORGANIZER;CN="St Bernard's Safety Training Centre":MAILTO:safetytrainingmalta@gmail.com
END:VEVENT
BEGIN:VEVENT
DTSTART;TZID=Europe/London:20230524T093000
DTEND;TZID=Europe/London:20230524T140000
DTSTAMP:20260424T104127
CREATED:20230520T122937Z
LAST-MODIFIED:20230520T123107Z
UID:15052-1684920600-1684936800@healthandsafety.com.mt
SUMMARY:Basic First Aid - Class Based
DESCRIPTION:Call: 99248968 \nEmail: info@healthandsafety.com.mt \nCourses also available privately at clients requested premises \nDiscounts apply for group bookings
URL:https://healthandsafety.com.mt/schedule/basic-first-aid-class-based/
LOCATION:St Bernard’s Safety Training Centre\, St. Bernard's Health and Safety Centre\, No 11\, Left Entrance\, Triq tal-Hriereb. Msida\, Malta\, Msida\, Malta
ORGANIZER;CN="St Bernard's Safety Training Centre":MAILTO:safetytrainingmalta@gmail.com
END:VEVENT
BEGIN:VEVENT
DTSTART;TZID=Europe/London:20230324T100000
DTEND;TZID=Europe/London:20230324T140000
DTSTAMP:20260424T104127
CREATED:20230208T163432Z
LAST-MODIFIED:20230221T134811Z
UID:14041-1679652000-1679666400@healthandsafety.com.mt
SUMMARY:Basic First Aid
DESCRIPTION:
URL:https://healthandsafety.com.mt/schedule/emergency-first-aid/
LOCATION:St Bernard’s Safety Training Centre\, St. Bernard's Health and Safety Centre\, No 11\, Left Entrance\, Triq tal-Hriereb. Msida\, Malta\, Msida\, Malta
END:VEVENT
BEGIN:VEVENT
DTSTART;TZID=Europe/London:20230318T093000
DTEND;TZID=Europe/London:20230318T140000
DTSTAMP:20260424T104127
CREATED:20230131T100218Z
LAST-MODIFIED:20230131T100218Z
UID:13973-1679131800-1679148000@healthandsafety.com.mt
SUMMARY:Basic and Paediatric First Aid
DESCRIPTION:For bookings and further information call us on 99248968 or email: info@healthandsafety.com.mt \nTraining can be held privately at clients premises.
URL:https://healthandsafety.com.mt/schedule/basic-and-paediatric-first-aid/
END:VEVENT
BEGIN:VEVENT
DTSTART;TZID=Europe/London:20230316T103000
DTEND;TZID=Europe/London:20230316T133000
DTSTAMP:20260424T104127
CREATED:20230221T134421Z
LAST-MODIFIED:20230221T134623Z
UID:14132-1678962600-1678973400@healthandsafety.com.mt
SUMMARY:Basic Fire Safety / Warden Course
DESCRIPTION:
URL:https://healthandsafety.com.mt/schedule/basic-fire-safety-warden-course/
LOCATION:St Bernard’s Safety Training Centre\, St. Bernard's Health and Safety Centre\, No 11\, Left Entrance\, Triq tal-Hriereb. Msida\, Malta\, Msida\, Malta
END:VEVENT
BEGIN:VEVENT
DTSTART;TZID=Europe/London:20230222T093000
DTEND;TZID=Europe/London:20230222T133000
DTSTAMP:20260424T104127
CREATED:20230131T095634Z
LAST-MODIFIED:20230131T095635Z
UID:13969-1677058200-1677072600@healthandsafety.com.mt
SUMMARY:Basic First Aid
DESCRIPTION:For bookings and further information call us on 99248968 or email: info@healthandsafety.com.mt \nTraining can be held privately at clients premises.
URL:https://healthandsafety.com.mt/schedule/basic-first-aid-4/
LOCATION:St Bernard’s Safety Training Centre\, St. Bernard's Health and Safety Centre\, No 11\, Left Entrance\, Triq tal-Hriereb. Msida\, Malta\, Msida\, Malta
ORGANIZER;CN="St Bernard's Safety Training Centre":MAILTO:safetytrainingmalta@gmail.com
END:VEVENT
BEGIN:VEVENT
DTSTART;TZID=Europe/London:20230217T093000
DTEND;TZID=Europe/London:20230217T133000
DTSTAMP:20260424T104127
CREATED:20230131T095535Z
LAST-MODIFIED:20230131T095536Z
UID:13967-1676626200-1676640600@healthandsafety.com.mt
SUMMARY:Basic First Aid
DESCRIPTION:For bookings and further information call us on 99248968 or email: info@healthandsafety.com.mt \nTraining can be held privately at clients premises.
URL:https://healthandsafety.com.mt/schedule/basic-first-aid-3/
LOCATION:St Bernard’s Safety Training Centre\, St. Bernard's Health and Safety Centre\, No 11\, Left Entrance\, Triq tal-Hriereb. Msida\, Malta\, Msida\, Malta
ORGANIZER;CN="St Bernard's Safety Training Centre":MAILTO:safetytrainingmalta@gmail.com
END:VEVENT
BEGIN:VEVENT
DTSTART;TZID=Europe/London:20230207T133000
DTEND;TZID=Europe/London:20230207T170000
DTSTAMP:20260424T104127
CREATED:20230131T095934Z
LAST-MODIFIED:20230131T095934Z
UID:13971-1675776600-1675789200@healthandsafety.com.mt
SUMMARY:Basic Fire including Fire Warden
DESCRIPTION:
URL:https://healthandsafety.com.mt/schedule/basic-fire-including-fire-warden/
LOCATION:St Bernard’s Safety Training Centre\, St. Bernard's Health and Safety Centre\, No 11\, Left Entrance\, Triq tal-Hriereb. Msida\, Malta\, Msida\, Malta
ORGANIZER;CN="St Bernard's Safety Training Centre":MAILTO:safetytrainingmalta@gmail.com
END:VEVENT
BEGIN:VEVENT
DTSTART;TZID=Europe/London:20221020T080000
DTEND;TZID=Europe/London:20221020T133000
DTSTAMP:20260424T104127
CREATED:20220908T152428Z
LAST-MODIFIED:20220908T152428Z
UID:12555-1666252800-1666272600@healthandsafety.com.mt
SUMMARY:Basic First Aid Online/Virtual
DESCRIPTION:Call/Whatsapp: 99248968 Email:info@healthandsafety.com.mt for bookings and further information.
URL:https://healthandsafety.com.mt/schedule/basic-first-aid-online-virtual-4/
END:VEVENT
BEGIN:VEVENT
DTSTART;TZID=Europe/London:20221019T080000
DTEND;TZID=Europe/London:20221019T133000
DTSTAMP:20260424T104127
CREATED:20220908T152353Z
LAST-MODIFIED:20220908T152353Z
UID:12553-1666166400-1666186200@healthandsafety.com.mt
SUMMARY:Basic First Aid Online/Virtual
DESCRIPTION:Call/Whatsapp: 99248968 Email:info@healthandsafety.com.mt for bookings and further information.
URL:https://healthandsafety.com.mt/schedule/basic-first-aid-online-virtual-3/
END:VEVENT
BEGIN:VEVENT
DTSTART;TZID=Europe/London:20221018T080000
DTEND;TZID=Europe/London:20221018T133000
DTSTAMP:20260424T104127
CREATED:20220908T152225Z
LAST-MODIFIED:20220908T152243Z
UID:12551-1666080000-1666099800@healthandsafety.com.mt
SUMMARY:Basic First Aid Online/Virtual
DESCRIPTION:Call/Whatsapp: 99248968 Email:info@healthandsafety.com.mt for bookings and further information.
URL:https://healthandsafety.com.mt/schedule/basic-first-aid-online-virtual-2/
END:VEVENT
BEGIN:VEVENT
DTSTART;TZID=Europe/London:20221017T080000
DTEND;TZID=Europe/London:20221017T133000
DTSTAMP:20260424T104127
CREATED:20220908T152136Z
LAST-MODIFIED:20220908T152136Z
UID:12549-1665993600-1666013400@healthandsafety.com.mt
SUMMARY:Basic First Aid - Online/Virtual
DESCRIPTION:Call/Whatsapp: 99248968 Email:info@healthandsafety.com.mt for bookings and further information.
URL:https://healthandsafety.com.mt/schedule/basic-first-aid-online-virtual/
ORGANIZER;CN="St Bernard's Safety Training Centre":MAILTO:safetytrainingmalta@gmail.com
END:VEVENT
BEGIN:VEVENT
DTSTART;TZID=Europe/London:20221015T093000
DTEND;TZID=Europe/London:20221015T140000
DTSTAMP:20260424T104127
CREATED:20220908T151958Z
LAST-MODIFIED:20220908T151958Z
UID:12547-1665826200-1665842400@healthandsafety.com.mt
SUMMARY:Basic & Paediatric First Aid
DESCRIPTION:Call/Whatsapp: 99248968\nEmail:info@healthandsafety.com.mt for bookings and further information.
URL:https://healthandsafety.com.mt/schedule/basic-paediatric-first-aid/
LOCATION:St Bernard’s Safety Training Centre\, St. Bernard's Health and Safety Centre\, No 11\, Left Entrance\, Triq tal-Hriereb. Msida\, Malta\, Msida\, Malta
ORGANIZER;CN="St Bernard's Safety Training Centre":MAILTO:safetytrainingmalta@gmail.com
END:VEVENT
BEGIN:VEVENT
DTSTART;TZID=Europe/London:20220914T133000
DTEND;TZID=Europe/London:20220914T170000
DTSTAMP:20260424T104127
CREATED:20220908T152504Z
LAST-MODIFIED:20220908T152504Z
UID:12557-1663162200-1663174800@healthandsafety.com.mt
SUMMARY:Basic Fire inc Warden
DESCRIPTION:Call/Whatsapp: 99248968 Email:info@healthandsafety.com.mt for bookings and further information.
URL:https://healthandsafety.com.mt/schedule/basic-fire-inc-warden/
END:VEVENT
BEGIN:VEVENT
DTSTART;TZID=Europe/London:20220509T173000
DTEND;TZID=Europe/London:20220509T203000
DTSTAMP:20260424T104127
CREATED:20220414T115054Z
LAST-MODIFIED:20220414T115701Z
UID:10769-1652117400-1652128200@healthandsafety.com.mt
SUMMARY:Fire Warden Course - Online
DESCRIPTION:This course is suitable for employees who are tasked with the responsibility to design\, implement and maintain fire safety procedures at the workplace. It also provides these employees with what they are required to do during a fire evacuation in order to ensure a safe evacuation for all people involved.\n\n\nFor bookings or more information contact us :\n info@healthandsafety.com.mt\n 9924 8968\n\n\n\nCannot attend on this date?\nYou can also self-study at your own pace from our website portal.\n\nVisit: www.healthandsafety.com.mt\n\nTraining can be also held privately at clients requested premises.
URL:https://healthandsafety.com.mt/schedule/fire-warden-course-online/
ATTACH;FMTTYPE=image/jpeg:https://healthandsafety.com.mt/wp-content/uploads/2022/04/Fire-Warden.jpg
END:VEVENT
BEGIN:VEVENT
DTSTART;TZID=Europe/London:20220505T133000
DTEND;TZID=Europe/London:20220505T153000
DTSTAMP:20260424T104127
CREATED:20220411T150313Z
LAST-MODIFIED:20220411T150313Z
UID:10739-1651757400-1651764600@healthandsafety.com.mt
SUMMARY:Emergency First Aid - (Online)
DESCRIPTION:The Emergency First Aid course is suitable for anyone who could come across any type of accident and injuries that might happen at home\, at the workplace or in any other environment. This course provides clear information of what has to be done until professional medical assistance takes over.\n\nThis course it will be held over 2 sessions\n28th April – 13:30 – 15:30\n05th May – 13:30 – 15:30\n\nTraining can be also held privately at clients requested premises.\n\n\nClick on the following link to view details and book your place!\nhttps://forms.gle/SyCzUsh5CFa2ho9E7\n\nBook your place !\n\n–> info@healthandsafety.com.mt\n–> 9924 8968
URL:https://healthandsafety.com.mt/schedule/emergency-first-aid-online-2/
ATTACH;FMTTYPE=image/jpeg:https://healthandsafety.com.mt/wp-content/uploads/2022/04/Black-and-White-Basic-Food-Truck-Business-Plan-Visual-Charts-Presentation-2.jpg
END:VEVENT
BEGIN:VEVENT
DTSTART;TZID=Europe/London:20220428T133000
DTEND;TZID=Europe/London:20220428T153000
DTSTAMP:20260424T104127
CREATED:20220411T150050Z
LAST-MODIFIED:20220411T150050Z
UID:10736-1651152600-1651159800@healthandsafety.com.mt
SUMMARY:Emergency First Aid - (Online)
DESCRIPTION:The Emergency First Aid course is suitable for anyone who could come across any type of accident and injuries that might happen at home\, at the workplace or in any other environment. This course provides clear information of what has to be done until professional medical assistance takes over.\n\nThis course it will be held over 2 sessions\n28th April – 13:30 – 15:30\n05th May – 13:30 – 15:30\n\nTraining can be also held privately at clients requested premises.\n\n\nClick on the following link to view details and book your place!\nhttps://forms.gle/SyCzUsh5CFa2ho9E7\n\nBook your place !\n–> info@healthandsafety.com.mt\n–> 9924 8968
URL:https://healthandsafety.com.mt/schedule/emergency-first-aid-online/
ATTACH;FMTTYPE=image/jpeg:https://healthandsafety.com.mt/wp-content/uploads/2022/04/Black-and-White-Basic-Food-Truck-Business-Plan-Visual-Charts-Presentation-1.jpg
END:VEVENT
BEGIN:VEVENT
DTSTART;TZID=Europe/London:20220428T130000
DTEND;TZID=Europe/London:20220428T173000
DTSTAMP:20260424T104127
CREATED:20220325T141044Z
LAST-MODIFIED:20220325T141122Z
UID:10636-1651150800-1651167000@healthandsafety.com.mt
SUMMARY:Basic First Aid - Msida - English Speaking
DESCRIPTION:The purpose of this course is to help participants identify and eliminate potentially hazardous conditions in their environment\, recognize emergencies\, and make appropriate decisions for first aid care. It teaches skills that participants need to know in order to provide immediate care for a suddenly ill or injured person until more advanced medical care arrives to take over. \nWho can take this course?\n➡️ Parents\, Childcares\, the General Public \n➡️ Cannot attend? Suggest a time preference by sending us an email or private message! \nClick on the following link to view details and book your place! \nhttps://forms.gle/MGTh3jeKxWW2E5UQ7 \n📧 info@healthandsafety.com.mt\n☎️ 9924 8968 to book your place
URL:https://healthandsafety.com.mt/schedule/basic-first-aid-msida-english-speaking/
ATTACH;FMTTYPE=image/jpeg:https://healthandsafety.com.mt/wp-content/uploads/2022/03/basic-first-aid-28.04.2022-e1652862306596.jpg
END:VEVENT
BEGIN:VEVENT
DTSTART;TZID=Europe/London:20220423T080000
DTEND;TZID=Europe/London:20220423T110000
DTSTAMP:20260424T104127
CREATED:20220414T150513Z
LAST-MODIFIED:20220414T150513Z
UID:10776-1650700800-1650711600@healthandsafety.com.mt
SUMMARY:Fire Warden Course - Online
DESCRIPTION:This course is suitable for employees who are tasked with the responsibility to design\, implement and maintain fire safety procedures at the workplace. It also provides these employees with what they are required to do during a fire evacuation in order to ensure a safe evacuation for all people involved.\n\nFor bookings or more information contact us :\n info@healthandsafety.com.mt\n 9924 8968\n\n\n\nCannot attend on this date?\nYou can also self-study at your own pace from our website portal.\n\nVisit: www.healthandsafety.com.mt\n\nTraining can be also held privately at clients requested premises.
URL:https://healthandsafety.com.mt/schedule/fire-warden-course-online-2/
ATTACH;FMTTYPE=image/jpeg:https://healthandsafety.com.mt/wp-content/uploads/2022/04/Black-and-White-Basic-Food-Truck-Business-Plan-Visual-Charts-Presentation-3.jpg
END:VEVENT
BEGIN:VEVENT
DTSTART;TZID=Europe/London:20220324T130000
DTEND;TZID=Europe/London:20220324T173000
DTSTAMP:20260424T104127
CREATED:20220119T105259Z
LAST-MODIFIED:20220119T105859Z
UID:9974-1648126800-1648143000@healthandsafety.com.mt
SUMMARY:First Aid - Msida - English Speaking
DESCRIPTION:The purpose of this course is to help participants identify and eliminate potentially hazardous conditions in their environment\, recognize emergencies\, and make appropriate decisions for first aid care. It teaches skills that participants need to know in order to provide immediate care for a suddenly ill or injured person until more advanced medical care arrives to take over.\nWho can take this course? \n Parents\, Childcarers\, the General Public\n Cannot attend? Suggest a time preference by sending us an email or private message! \nClick on the following link to view details and book your place!\nhttps://docs.google.com/…/1plL7ZXf_vsuPdkuj…/edit \n info@healthandsafety.com.mt\n 9924 8968 to book your place
URL:https://healthandsafety.com.mt/schedule/first-aid-msida-english-speaking/
END:VEVENT
END:VCALENDAR