BEGIN:VCALENDAR
VERSION:2.0
PRODID:-//St. Bernard&#039;s Health and Safety Institute - ECPv6.15.17.1//NONSGML v1.0//EN
CALSCALE:GREGORIAN
METHOD:PUBLISH
X-WR-CALNAME:St. Bernard&#039;s Health and Safety Institute
X-ORIGINAL-URL:https://healthandsafety.com.mt
X-WR-CALDESC:Events for St. Bernard&#039;s Health and Safety Institute
REFRESH-INTERVAL;VALUE=DURATION:PT1H
X-Robots-Tag:noindex
X-PUBLISHED-TTL:PT1H
BEGIN:VTIMEZONE
TZID:Europe/London
BEGIN:DAYLIGHT
TZOFFSETFROM:+0000
TZOFFSETTO:+0100
TZNAME:BST
DTSTART:20230326T010000
END:DAYLIGHT
BEGIN:STANDARD
TZOFFSETFROM:+0100
TZOFFSETTO:+0000
TZNAME:GMT
DTSTART:20231029T010000
END:STANDARD
BEGIN:DAYLIGHT
TZOFFSETFROM:+0000
TZOFFSETTO:+0100
TZNAME:BST
DTSTART:20240331T010000
END:DAYLIGHT
BEGIN:STANDARD
TZOFFSETFROM:+0100
TZOFFSETTO:+0000
TZNAME:GMT
DTSTART:20241027T010000
END:STANDARD
BEGIN:DAYLIGHT
TZOFFSETFROM:+0000
TZOFFSETTO:+0100
TZNAME:BST
DTSTART:20250330T010000
END:DAYLIGHT
BEGIN:STANDARD
TZOFFSETFROM:+0100
TZOFFSETTO:+0000
TZNAME:GMT
DTSTART:20251026T010000
END:STANDARD
END:VTIMEZONE
BEGIN:VTIMEZONE
TZID:Europe/Malta
BEGIN:DAYLIGHT
TZOFFSETFROM:+0100
TZOFFSETTO:+0200
TZNAME:CEST
DTSTART:20230326T010000
END:DAYLIGHT
BEGIN:STANDARD
TZOFFSETFROM:+0200
TZOFFSETTO:+0100
TZNAME:CET
DTSTART:20231029T010000
END:STANDARD
BEGIN:DAYLIGHT
TZOFFSETFROM:+0100
TZOFFSETTO:+0200
TZNAME:CEST
DTSTART:20240331T010000
END:DAYLIGHT
BEGIN:STANDARD
TZOFFSETFROM:+0200
TZOFFSETTO:+0100
TZNAME:CET
DTSTART:20241027T010000
END:STANDARD
BEGIN:DAYLIGHT
TZOFFSETFROM:+0100
TZOFFSETTO:+0200
TZNAME:CEST
DTSTART:20250330T010000
END:DAYLIGHT
BEGIN:STANDARD
TZOFFSETFROM:+0200
TZOFFSETTO:+0100
TZNAME:CET
DTSTART:20251026T010000
END:STANDARD
END:VTIMEZONE
BEGIN:VEVENT
DTSTART;TZID=Europe/London:20241113T093000
DTEND;TZID=Europe/London:20241113T133000
DTSTAMP:20260423T222948
CREATED:20240806T143817Z
LAST-MODIFIED:20241005T163709Z
UID:20539-1731490200-1731504600@healthandsafety.com.mt
SUMMARY:Basic & Paediatric First Aid Course
DESCRIPTION:For Bookings and further information \n📞 99248968 \n📧 info@healthandsafety.com.mt \nTraining can also be held at client’s Premises on request
URL:https://healthandsafety.com.mt/schedule/basic-fire-inlcuding-warden/
LOCATION:St Bernard’s Safety Training Centre\, St. Bernard's Health and Safety Centre\, No 11\, Left Entrance\, Triq tal-Hriereb. Msida\, Malta\, Msida\, Malta
ORGANIZER;CN="St Bernard's Safety Training Centre":MAILTO:safetytrainingmalta@gmail.com
END:VEVENT
BEGIN:VEVENT
DTSTART;TZID=Europe/London:20241029T143000
DTEND;TZID=Europe/London:20241029T170000
DTSTAMP:20260423T222948
CREATED:20241005T162440Z
LAST-MODIFIED:20241005T162440Z
UID:21403-1730212200-1730221200@healthandsafety.com.mt
SUMMARY:Basic Fire Fighting including Warden
DESCRIPTION:For Bookings and further information\n\n 99248968\n\n info@healthandsafety.com.mt\n\nTraining can also be held at client’s Premises on request
URL:https://healthandsafety.com.mt/schedule/basic-fire-fighting-including-warden/
LOCATION:St Bernard’s Safety Training Centre\, St. Bernard's Health and Safety Centre\, No 11\, Left Entrance\, Triq tal-Hriereb. Msida\, Malta\, Msida\, Malta
ORGANIZER;CN="St Bernard's Safety Training Centre":MAILTO:safetytrainingmalta@gmail.com
END:VEVENT
BEGIN:VEVENT
DTSTART;TZID=Europe/London:20241017T093000
DTEND;TZID=Europe/London:20241017T133000
DTSTAMP:20260423T222948
CREATED:20240925T123619Z
LAST-MODIFIED:20240925T123619Z
UID:21287-1729157400-1729171800@healthandsafety.com.mt
SUMMARY:Basic First Aid Course
DESCRIPTION:For Bookings and further information \n📞 99248968 📧 info@healthandsafety.com.mt \nTraining can also be held privately at clients requested premises
URL:https://healthandsafety.com.mt/schedule/basic-first-aid-course-11/
LOCATION:St Bernard’s Safety Training Centre\, St. Bernard's Health and Safety Centre\, No 11\, Left Entrance\, Triq tal-Hriereb. Msida\, Malta\, Msida\, Malta
ORGANIZER;CN="St Bernard's Safety Training Centre":MAILTO:safetytrainingmalta@gmail.com
END:VEVENT
BEGIN:VEVENT
DTSTART;TZID=Europe/London:20241015T163000
DTEND;TZID=Europe/London:20241015T190000
DTSTAMP:20260423T222948
CREATED:20241001T102704Z
LAST-MODIFIED:20241001T102704Z
UID:21349-1729009800-1729018800@healthandsafety.com.mt
SUMMARY:Food Handling Course
DESCRIPTION:For Bookings and further information\n\n 99248968  info@healthandsafety.com.mt\n\nTraining can also be held privately at clients requested premises
URL:https://healthandsafety.com.mt/schedule/food-handling-course-59/
LOCATION:St Bernard’s Safety Training Centre\, St. Bernard's Health and Safety Centre\, No 11\, Left Entrance\, Triq tal-Hriereb. Msida\, Malta\, Msida\, Malta
ORGANIZER;CN="St Bernard's Safety Training Centre":MAILTO:safetytrainingmalta@gmail.com
END:VEVENT
BEGIN:VEVENT
DTSTART;TZID=Europe/London:20241009T090000
DTEND;TZID=Europe/London:20241009T120000
DTSTAMP:20260423T222948
CREATED:20241005T161400Z
LAST-MODIFIED:20241005T161400Z
UID:21400-1728464400-1728475200@healthandsafety.com.mt
SUMMARY:Basic Life Support & Aed Course
DESCRIPTION:For Bookings and further information\n\n 99248968\n\n info@healthandsafety.com.mt\n\nTraining can also be held at client’s Premises on request
URL:https://healthandsafety.com.mt/schedule/basic-life-support-aed-course/
LOCATION:St Bernard’s Safety Training Centre\, St. Bernard's Health and Safety Centre\, No 11\, Left Entrance\, Triq tal-Hriereb. Msida\, Malta\, Msida\, Malta
ORGANIZER;CN="St Bernard's Safety Training Centre":MAILTO:safetytrainingmalta@gmail.com
END:VEVENT
BEGIN:VEVENT
DTSTART;TZID=Europe/London:20241005T093000
DTEND;TZID=Europe/London:20241005T133000
DTSTAMP:20260423T222948
CREATED:20240802T082136Z
LAST-MODIFIED:20240802T082136Z
UID:20479-1728120600-1728135000@healthandsafety.com.mt
SUMMARY:Paediatric First Aid Course
DESCRIPTION:For Bookings and further information \n📞 99248968 \n📧 info@healthandsafety.com.mt \nTraining can also be held at client’s Premises on request
URL:https://healthandsafety.com.mt/schedule/paediatric-first-aid-course-7/
LOCATION:St Bernard’s Safety Training Centre\, St. Bernard's Health and Safety Centre\, No 11\, Left Entrance\, Triq tal-Hriereb. Msida\, Malta\, Msida\, Malta
ORGANIZER;CN="St Bernard's Safety Training Centre":MAILTO:safetytrainingmalta@gmail.com
END:VEVENT
BEGIN:VEVENT
DTSTART;TZID=Europe/London:20240926T090000
DTEND;TZID=Europe/London:20240926T130000
DTSTAMP:20260423T222948
CREATED:20240902T110712Z
LAST-MODIFIED:20240918T075011Z
UID:20914-1727341200-1727355600@healthandsafety.com.mt
SUMMARY:Basic First Aid Course
DESCRIPTION:For Bookings and further information\n\n 99248968  info@healthandsafety.com.mt\n\nTraining can also be held privately at clients requested premises
URL:https://healthandsafety.com.mt/schedule/basic-first-aid-course-9/
LOCATION:St Bernard’s Safety Training Centre\, St. Bernard's Health and Safety Centre\, No 11\, Left Entrance\, Triq tal-Hriereb. Msida\, Malta\, Msida\, Malta
ORGANIZER;CN="St Bernard's Safety Training Centre":MAILTO:safetytrainingmalta@gmail.com
END:VEVENT
BEGIN:VEVENT
DTSTART;TZID=Europe/London:20240920T093000
DTEND;TZID=Europe/London:20240920T130000
DTSTAMP:20260423T222948
CREATED:20240725T133225Z
LAST-MODIFIED:20240918T074847Z
UID:20334-1726824600-1726837200@healthandsafety.com.mt
SUMMARY:Basic Fire Fighting Including Fire Warden Course
DESCRIPTION:For Bookings and further information\n\n 📞 99248968\n\n📧 info@healthandsafety.com.mt\n\nTraining can also be held at client’s Premises on request
URL:https://healthandsafety.com.mt/schedule/basic-fire-fighting-including-fire-warden/
LOCATION:St Bernard’s Safety Training Centre\, St. Bernard's Health and Safety Centre\, No 11\, Left Entrance\, Triq tal-Hriereb. Msida\, Malta\, Msida\, Malta
ORGANIZER;CN="St Bernard's Safety Training Centre":MAILTO:safetytrainingmalta@gmail.com
END:VEVENT
BEGIN:VEVENT
DTSTART;TZID=Europe/London:20240918T093000
DTEND;TZID=Europe/London:20240918T133000
DTSTAMP:20260423T222948
CREATED:20240802T081431Z
LAST-MODIFIED:20240918T074410Z
UID:20471-1726651800-1726666200@healthandsafety.com.mt
SUMMARY:Basic First Aid Course
DESCRIPTION:For Bookings and further information \n📞 99248968 \n📧 info@healthandsafety.com.mt \nTraining can also be held at client’s Premises on request
URL:https://healthandsafety.com.mt/schedule/basic-first-aid-course-10/
LOCATION:St Bernard’s Safety Training Centre\, St. Bernard's Health and Safety Centre\, No 11\, Left Entrance\, Triq tal-Hriereb. Msida\, Malta\, Msida\, Malta
ATTACH;FMTTYPE=image/png:https://healthandsafety.com.mt/wp-content/uploads/2022/05/picture-Fire-Warden.png
ORGANIZER;CN="St Bernard's Safety Training Centre":MAILTO:safetytrainingmalta@gmail.com
END:VEVENT
BEGIN:VEVENT
DTSTART;TZID=Europe/London:20240904T160000
DTEND;TZID=Europe/London:20240904T190000
DTSTAMP:20260423T222948
CREATED:20240807T142429Z
LAST-MODIFIED:20240828T123317Z
UID:20561-1725465600-1725476400@healthandsafety.com.mt
SUMMARY:Basic First Aid Course
DESCRIPTION:For Bookings and further information \n📞 99248968 \n📧 info@healthandsafety.com.mt \nTraining can also be held at client’s Premises on request
URL:https://healthandsafety.com.mt/schedule/pediatric-first-aid-course/
LOCATION:23\, triq Ta Cordina\, Malta
ORGANIZER;CN="St Bernard's Safety Training Centre":MAILTO:safetytrainingmalta@gmail.com
END:VEVENT
BEGIN:VEVENT
DTSTART;TZID=Europe/London:20240904T140000
DTEND;TZID=Europe/London:20240904T160000
DTSTAMP:20260423T222948
CREATED:20240807T142237Z
LAST-MODIFIED:20240829T074719Z
UID:20559-1725458400-1725465600@healthandsafety.com.mt
SUMMARY:Basic Fire Including Warden Course
DESCRIPTION:For Bookings and further information \n📞 99248968 \n📧 info@healthandsafety.com.mt \nTraining can also be held at client’s Premises on request
URL:https://healthandsafety.com.mt/schedule/basic-fire-including-warden-course/
LOCATION:23\, triq Ta Cordina\, Malta
ORGANIZER;CN="St Bernard's Safety Training Centre":MAILTO:safetytrainingmalta@gmail.com
END:VEVENT
BEGIN:VEVENT
DTSTART;TZID=Europe/London:20240726T093000
DTEND;TZID=Europe/London:20240726T133000
DTSTAMP:20260423T222948
CREATED:20240716T074931Z
LAST-MODIFIED:20240716T074931Z
UID:20193-1721986200-1722000600@healthandsafety.com.mt
SUMMARY:Basic First Aid Course
DESCRIPTION:For Bookings and further information\n\n 99248968\n\n info@healthandsafety.com.mt\n\nUpon request training can also be held at clients requested premises.
URL:https://healthandsafety.com.mt/schedule/basic-first-aid-course-8/
LOCATION:St Bernard’s Safety Training Centre\, St. Bernard's Health and Safety Centre\, No 11\, Left Entrance\, Triq tal-Hriereb. Msida\, Malta\, Msida\, Malta
ORGANIZER;CN="St Bernard's Safety Training Centre":MAILTO:safetytrainingmalta@gmail.com
END:VEVENT
BEGIN:VEVENT
DTSTART;TZID=Europe/London:20240719T093000
DTEND;TZID=Europe/London:20240719T133000
DTSTAMP:20260423T222948
CREATED:20240327T084935Z
LAST-MODIFIED:20240327T084935Z
UID:18638-1721381400-1721395800@healthandsafety.com.mt
SUMMARY:Basic First Aid - Msida
DESCRIPTION:For Bookings and further information\n\n 99248968\n\n info@healthandsafety.com.mt\n\nUpon request training can also be held at clients requested premises.
URL:https://healthandsafety.com.mt/schedule/basic-first-aid-msida-2/
LOCATION:St Bernard’s Safety Training Centre\, St. Bernard's Health and Safety Centre\, No 11\, Left Entrance\, Triq tal-Hriereb. Msida\, Malta\, Msida\, Malta
ORGANIZER;CN="St Bernard's Safety Training Centre":MAILTO:safetytrainingmalta@gmail.com
END:VEVENT
BEGIN:VEVENT
DTSTART;TZID=Europe/London:20240718T130000
DTEND;TZID=Europe/London:20240718T163000
DTSTAMP:20260423T222948
CREATED:20240327T085355Z
LAST-MODIFIED:20240327T085355Z
UID:18643-1721307600-1721320200@healthandsafety.com.mt
SUMMARY:Basic Fire Fighting including Fire Warden
DESCRIPTION:For Bookings and further information\n\n 99248968\n\n info@healthandsafety.com.mt\n\nUpon request training can also be held at clients requested premises.
URL:https://healthandsafety.com.mt/schedule/basic-fire-fighting-including-fire-warden-2/
LOCATION:St Bernard’s Safety Training Centre\, St. Bernard's Health and Safety Centre\, No 11\, Left Entrance\, Triq tal-Hriereb. Msida\, Malta\, Msida\, Malta
ORGANIZER;CN="St Bernard's Safety Training Centre":MAILTO:safetytrainingmalta@gmail.com
END:VEVENT
BEGIN:VEVENT
DTSTART;TZID=Europe/London:20240710T163000
DTEND;TZID=Europe/London:20240710T193000
DTSTAMP:20260423T222948
CREATED:20240622T132334Z
LAST-MODIFIED:20240622T132334Z
UID:19827-1720629000-1720639800@healthandsafety.com.mt
SUMMARY:Paediatric First Aid Course
DESCRIPTION:For Bookings and further information \n📞 99248968 \n📧 info@healthandsafety.com.mt \nTraining can also be held at client’s Premises on request
URL:https://healthandsafety.com.mt/schedule/paediatric-first-aid-course-5/
LOCATION:23\, triq Ta Cordina\, Malta
ORGANIZER;CN="St Bernard's Safety Training Centre":MAILTO:safetytrainingmalta@gmail.com
END:VEVENT
BEGIN:VEVENT
DTSTART;TZID=Europe/London:20240618T093000
DTEND;TZID=Europe/London:20240618T140000
DTSTAMP:20260423T222948
CREATED:20240509T100003Z
LAST-MODIFIED:20240509T101221Z
UID:19197-1718703000-1718719200@healthandsafety.com.mt
SUMMARY:Basic First Aid including AED Course
DESCRIPTION:For Bookings and further information \n📞 99248968 \n📧 info@healthandsafety.com.mt \nTraining can also be held at client’s Premises on request
URL:https://healthandsafety.com.mt/schedule/basic-first-aid-course-including-aed/
LOCATION:St Bernard’s Safety Training Centre\, St. Bernard's Health and Safety Centre\, No 11\, Left Entrance\, Triq tal-Hriereb. Msida\, Malta\, Msida\, Malta
ORGANIZER;CN="St Bernard's Safety Training Centre":MAILTO:safetytrainingmalta@gmail.com
END:VEVENT
BEGIN:VEVENT
DTSTART;TZID=Europe/London:20240615T100000
DTEND;TZID=Europe/London:20240615T140000
DTSTAMP:20260423T222948
CREATED:20240603T141701Z
LAST-MODIFIED:20240603T141701Z
UID:19568-1718445600-1718460000@healthandsafety.com.mt
SUMMARY:Paediatric First Aid Course
DESCRIPTION:For Bookings and further information\n📞 99248968\n📧 info@healthandsafety.com.mt\nTraining can also be held at client’s Premises on request
URL:https://healthandsafety.com.mt/schedule/paediatric-first-aid-course-3/
LOCATION:St Bernard’s Safety Training Centre\, St. Bernard's Health and Safety Centre\, No 11\, Left Entrance\, Triq tal-Hriereb. Msida\, Malta\, Msida\, Malta
ORGANIZER;CN="St Bernard's Safety Training Centre":MAILTO:safetytrainingmalta@gmail.com
END:VEVENT
BEGIN:VEVENT
DTSTART;TZID=Europe/London:20240614T093000
DTEND;TZID=Europe/London:20240614T133000
DTSTAMP:20260423T222948
CREATED:20240327T084607Z
LAST-MODIFIED:20240327T084607Z
UID:18634-1718357400-1718371800@healthandsafety.com.mt
SUMMARY:Basic First Aid - Msida
DESCRIPTION:For Bookings and further information\n\n 99248968\n\n info@healthandsafety.com.mt\n\nUpon request training can also be held at clients requested premises.
URL:https://healthandsafety.com.mt/schedule/basic-first-aid-msida/
LOCATION:St Bernard’s Safety Training Centre\, St. Bernard's Health and Safety Centre\, No 11\, Left Entrance\, Triq tal-Hriereb. Msida\, Malta\, Msida\, Malta
ORGANIZER;CN="St Bernard's Safety Training Centre":MAILTO:safetytrainingmalta@gmail.com
END:VEVENT
BEGIN:VEVENT
DTSTART;TZID=Europe/London:20240608T133000
DTEND;TZID=Europe/London:20240608T163000
DTSTAMP:20260423T222948
CREATED:20240604T164837Z
LAST-MODIFIED:20240604T164837Z
UID:19586-1717853400-1717864200@healthandsafety.com.mt
SUMMARY:Food Handling Course
DESCRIPTION:For Bookings and further information \n📞 99248968 \n📧 info@healthandsafety.com.mt \nTraining can also be held at client’s Premises on request
URL:https://healthandsafety.com.mt/schedule/food-handling-course-58/
LOCATION:St Bernard’s Safety Training Centre\, St. Bernard's Health and Safety Centre\, No 11\, Left Entrance\, Triq tal-Hriereb. Msida\, Malta\, Msida\, Malta
ORGANIZER;CN="St Bernard's Safety Training Centre":MAILTO:safetytrainingmalta@gmail.com
END:VEVENT
BEGIN:VEVENT
DTSTART;TZID=Europe/London:20240605T130000
DTEND;TZID=Europe/London:20240605T160000
DTSTAMP:20260423T222948
CREATED:20240509T111338Z
LAST-MODIFIED:20240509T111338Z
UID:19208-1717592400-1717603200@healthandsafety.com.mt
SUMMARY:Basic Fire Fighting/ Fire Warden Course
DESCRIPTION:For Bookings and further information \n📞 99248968 \n📧 info@healthandsafety.com.mt \nTraining can also be held at client’s Premises on request
URL:https://healthandsafety.com.mt/schedule/basic-fire-fighting-fire-warden-course-3/
LOCATION:St Bernard’s Safety Training Centre\, St. Bernard's Health and Safety Centre\, No 11\, Left Entrance\, Triq tal-Hriereb. Msida\, Malta\, Msida\, Malta
ORGANIZER;CN="St Bernard's Safety Training Centre":MAILTO:safetytrainingmalta@gmail.com
END:VEVENT
BEGIN:VEVENT
DTSTART;TZID=Europe/London:20240605T083000
DTEND;TZID=Europe/London:20240605T140000
DTSTAMP:20260423T222948
CREATED:20240509T111649Z
LAST-MODIFIED:20240509T111649Z
UID:19211-1717576200-1717596000@healthandsafety.com.mt
SUMMARY:Basic First Aid including AED course
DESCRIPTION:For Bookings and further information\n\n 99248968\n\n info@healthandsafety.com.mt\n\nTraining can also be held at client’s Premises on request
URL:https://healthandsafety.com.mt/schedule/basic-first-aid-including-aed-course/
LOCATION:St Bernard’s Safety Training Centre\, St. Bernard's Health and Safety Centre\, No 11\, Left Entrance\, Triq tal-Hriereb. Msida\, Malta\, Msida\, Malta
ORGANIZER;CN="St Bernard's Safety Training Centre":MAILTO:safetytrainingmalta@gmail.com
END:VEVENT
BEGIN:VEVENT
DTSTART;TZID=Europe/London:20240604T130000
DTEND;TZID=Europe/London:20240604T160000
DTSTAMP:20260423T222948
CREATED:20240509T111243Z
LAST-MODIFIED:20240509T111243Z
UID:19206-1717506000-1717516800@healthandsafety.com.mt
SUMMARY:Basic Fire Fighting/Fire Warden Course
DESCRIPTION:For Bookings and further information\n\n 99248968\n\n info@healthandsafety.com.mt\n\nTraining can also be held at client’s Premises on request
URL:https://healthandsafety.com.mt/schedule/basic-fire-fighting-fire-warden-course-2/
LOCATION:St Bernard’s Safety Training Centre\, St. Bernard's Health and Safety Centre\, No 11\, Left Entrance\, Triq tal-Hriereb. Msida\, Malta\, Msida\, Malta
ORGANIZER;CN="St Bernard's Safety Training Centre":MAILTO:safetytrainingmalta@gmail.com
END:VEVENT
BEGIN:VEVENT
DTSTART;TZID=Europe/London:20240601T143000
DTEND;TZID=Europe/London:20240601T173000
DTSTAMP:20260423T222948
CREATED:20240525T154022Z
LAST-MODIFIED:20240525T154022Z
UID:19437-1717252200-1717263000@healthandsafety.com.mt
SUMMARY:Food Handling Course
DESCRIPTION:For Bookings and further information\n\n 99248968\n\n info@healthandsafety.com.mt\n\nTraining can also be held at client’s Premises on request
URL:https://healthandsafety.com.mt/schedule/food-handling-course-57/
LOCATION:St Bernard’s Safety Training Centre\, St. Bernard's Health and Safety Centre\, No 11\, Left Entrance\, Triq tal-Hriereb. Msida\, Malta\, Msida\, Malta
ORGANIZER;CN="St Bernard's Safety Training Centre":MAILTO:safetytrainingmalta@gmail.com
END:VEVENT
BEGIN:VEVENT
DTSTART;TZID=Europe/London:20240601T093000
DTEND;TZID=Europe/London:20240601T140000
DTSTAMP:20260423T222948
CREATED:20240503T131305Z
LAST-MODIFIED:20240503T131305Z
UID:19116-1717234200-1717250400@healthandsafety.com.mt
SUMMARY:Paediatric First Aid Course
DESCRIPTION:For Bookings and further information\n\n 99248968\n\n info@healthandsafety.com.mt\n\nTraining can also be held at client’s Premises on request
URL:https://healthandsafety.com.mt/schedule/paediatric-first-aid-course-2/
LOCATION:St Bernard’s Safety Training Centre\, St. Bernard's Health and Safety Centre\, No 11\, Left Entrance\, Triq tal-Hriereb. Msida\, Malta\, Msida\, Malta
ORGANIZER;CN="St Bernard's Safety Training Centre":MAILTO:safetytrainingmalta@gmail.com
END:VEVENT
BEGIN:VEVENT
DTSTART;TZID=Europe/London:20240531T130000
DTEND;TZID=Europe/London:20240531T160000
DTSTAMP:20260423T222948
CREATED:20240509T111142Z
LAST-MODIFIED:20240509T111142Z
UID:19203-1717160400-1717171200@healthandsafety.com.mt
SUMMARY:Basic Fire Fighting / Fire Warden Course
DESCRIPTION:For Bookings and further information\n\n 99248968\n\n info@healthandsafety.com.mt\n\nTraining can also be held at client’s Premises on request
URL:https://healthandsafety.com.mt/schedule/basic-fire-fighting-fire-warden-course/
LOCATION:St Bernard’s Safety Training Centre\, St. Bernard's Health and Safety Centre\, No 11\, Left Entrance\, Triq tal-Hriereb. Msida\, Malta\, Msida\, Malta
ORGANIZER;CN="St Bernard's Safety Training Centre":MAILTO:safetytrainingmalta@gmail.com
END:VEVENT
BEGIN:VEVENT
DTSTART;TZID=Europe/London:20240520T100000
DTEND;TZID=Europe/London:20240520T140000
DTSTAMP:20260423T222948
CREATED:20240423T073258Z
LAST-MODIFIED:20240423T073258Z
UID:18988-1716199200-1716213600@healthandsafety.com.mt
SUMMARY:Basic First Aid Course
DESCRIPTION:For Bookings and further information\n\n 99248968\n\n info@healthandsafety.com.mt\n\nTraining can also be held at client’s Premises on request
URL:https://healthandsafety.com.mt/schedule/basic-first-aid-course-7/
LOCATION:St Bernard’s Safety Training Centre\, St. Bernard's Health and Safety Centre\, No 11\, Left Entrance\, Triq tal-Hriereb. Msida\, Malta\, Msida\, Malta
ORGANIZER;CN="St Bernard's Safety Training Centre":MAILTO:safetytrainingmalta@gmail.com
END:VEVENT
BEGIN:VEVENT
DTSTART;TZID=Europe/Malta:20240514T130000
DTEND;TZID=Europe/Malta:20240514T163000
DTSTAMP:20260423T222948
CREATED:20240327T084229Z
LAST-MODIFIED:20240327T084255Z
UID:18631-1715691600-1715704200@healthandsafety.com.mt
SUMMARY:Basic Fire Fighting including Fire Warden Course
DESCRIPTION:For Bookings and further information\n\n 99248968\n\n info@healthandsafety.com.mt\n\nUpon request training can also be held at clients requested premises.
URL:https://healthandsafety.com.mt/schedule/basic-fire-fighting-including-fire-warden-course/
LOCATION:St Bernard’s Safety Training Centre\, St. Bernard's Health and Safety Centre\, No 11\, Left Entrance\, Triq tal-Hriereb. Msida\, Malta\, Msida\, Malta
ORGANIZER;CN="St Bernard's Safety Training Centre":MAILTO:safetytrainingmalta@gmail.com
END:VEVENT
BEGIN:VEVENT
DTSTART;TZID=Europe/London:20240513T150000
DTEND;TZID=Europe/London:20240513T180000
DTSTAMP:20260423T222948
CREATED:20240319T114657Z
LAST-MODIFIED:20240319T114728Z
UID:18544-1715612400-1715623200@healthandsafety.com.mt
SUMMARY:Basic Fire Fighting and Prevention Course
DESCRIPTION:For Bookings and further information\n\n 99248968  info@healthandsafety.com.mt\n\nTraining can also be held privately at clients requested premises
URL:https://healthandsafety.com.mt/schedule/basic-fire-fighting-and-prevention-course/
LOCATION:23\, triq Ta Cordina\, Malta
ORGANIZER;CN="St Bernard's Safety Training Centre":MAILTO:safetytrainingmalta@gmail.com
END:VEVENT
BEGIN:VEVENT
DTSTART;TZID=Europe/London:20240511T140000
DTEND;TZID=Europe/London:20240511T180000
DTSTAMP:20260423T222948
CREATED:20240425T075848Z
LAST-MODIFIED:20240425T075848Z
UID:19016-1715436000-1715450400@healthandsafety.com.mt
SUMMARY:Food Handling Course B
DESCRIPTION:NEXT CLASS BASED FOOD HANDLING COURSE IN MSIDA \nSaturday…… \nCannot attend? \nFOOD HANDLING CERTIFICATION OFFICE \n‼️Open Monday to Friday at our premises in Central Msida. \n👉Study do exam at our office. Same day certification! \n👉 Study online with no fixed time schedules\nhttps://healthandsafety.com.mt/…/online-food-handling…/ \n👉 Private on-site training also available. \n📞 ⁨9924 8968⁩ to book your appointment. \n📧 info@healthandsafety.com.mt
URL:https://healthandsafety.com.mt/schedule/food-handling-course-b/
LOCATION:St Bernard’s Safety Training Centre\, St. Bernard's Health and Safety Centre\, No 11\, Left Entrance\, Triq tal-Hriereb. Msida\, Malta\, Msida\, Malta
ORGANIZER;CN="St Bernard's Safety Training Centre":MAILTO:safetytrainingmalta@gmail.com
END:VEVENT
BEGIN:VEVENT
DTSTART;TZID=Europe/London:20240504T093000
DTEND;TZID=Europe/London:20240504T123000
DTSTAMP:20260423T222948
CREATED:20240425T072105Z
LAST-MODIFIED:20240425T072105Z
UID:19014-1714815000-1714825800@healthandsafety.com.mt
SUMMARY:Paediatric First Aid Course
DESCRIPTION:For Bookings and further information\n\n 99248968\n\n info@healthandsafety.com.mt\n\nTraining can also be held at client’s Premises on request
URL:https://healthandsafety.com.mt/schedule/paediatric-first-aid-course/
LOCATION:St Bernard’s Safety Training Centre\, St. Bernard's Health and Safety Centre\, No 11\, Left Entrance\, Triq tal-Hriereb. Msida\, Malta\, Msida\, Malta
ORGANIZER;CN="St Bernard's Safety Training Centre":MAILTO:safetytrainingmalta@gmail.com
END:VEVENT
END:VCALENDAR