BEGIN:VCALENDAR
VERSION:2.0
PRODID:-//St. Bernard&#039;s Health and Safety Institute - ECPv6.15.17.1//NONSGML v1.0//EN
CALSCALE:GREGORIAN
METHOD:PUBLISH
X-WR-CALNAME:St. Bernard&#039;s Health and Safety Institute
X-ORIGINAL-URL:https://healthandsafety.com.mt
X-WR-CALDESC:Events for St. Bernard&#039;s Health and Safety Institute
REFRESH-INTERVAL;VALUE=DURATION:PT1H
X-Robots-Tag:noindex
X-PUBLISHED-TTL:PT1H
BEGIN:VTIMEZONE
TZID:Europe/London
BEGIN:DAYLIGHT
TZOFFSETFROM:+0000
TZOFFSETTO:+0100
TZNAME:BST
DTSTART:20190331T010000
END:DAYLIGHT
BEGIN:STANDARD
TZOFFSETFROM:+0100
TZOFFSETTO:+0000
TZNAME:GMT
DTSTART:20191027T010000
END:STANDARD
BEGIN:DAYLIGHT
TZOFFSETFROM:+0000
TZOFFSETTO:+0100
TZNAME:BST
DTSTART:20200329T010000
END:DAYLIGHT
BEGIN:STANDARD
TZOFFSETFROM:+0100
TZOFFSETTO:+0000
TZNAME:GMT
DTSTART:20201025T010000
END:STANDARD
BEGIN:DAYLIGHT
TZOFFSETFROM:+0000
TZOFFSETTO:+0100
TZNAME:BST
DTSTART:20210328T010000
END:DAYLIGHT
BEGIN:STANDARD
TZOFFSETFROM:+0100
TZOFFSETTO:+0000
TZNAME:GMT
DTSTART:20211031T010000
END:STANDARD
BEGIN:DAYLIGHT
TZOFFSETFROM:+0000
TZOFFSETTO:+0100
TZNAME:BST
DTSTART:20220327T010000
END:DAYLIGHT
BEGIN:STANDARD
TZOFFSETFROM:+0100
TZOFFSETTO:+0000
TZNAME:GMT
DTSTART:20221030T010000
END:STANDARD
BEGIN:DAYLIGHT
TZOFFSETFROM:+0000
TZOFFSETTO:+0100
TZNAME:BST
DTSTART:20230326T010000
END:DAYLIGHT
BEGIN:STANDARD
TZOFFSETFROM:+0100
TZOFFSETTO:+0000
TZNAME:GMT
DTSTART:20231029T010000
END:STANDARD
END:VTIMEZONE
BEGIN:VTIMEZONE
TZID:Europe/Malta
BEGIN:DAYLIGHT
TZOFFSETFROM:+0100
TZOFFSETTO:+0200
TZNAME:CEST
DTSTART:20200329T010000
END:DAYLIGHT
BEGIN:STANDARD
TZOFFSETFROM:+0200
TZOFFSETTO:+0100
TZNAME:CET
DTSTART:20201025T010000
END:STANDARD
BEGIN:DAYLIGHT
TZOFFSETFROM:+0100
TZOFFSETTO:+0200
TZNAME:CEST
DTSTART:20210328T010000
END:DAYLIGHT
BEGIN:STANDARD
TZOFFSETFROM:+0200
TZOFFSETTO:+0100
TZNAME:CET
DTSTART:20211031T010000
END:STANDARD
BEGIN:DAYLIGHT
TZOFFSETFROM:+0100
TZOFFSETTO:+0200
TZNAME:CEST
DTSTART:20220327T010000
END:DAYLIGHT
BEGIN:STANDARD
TZOFFSETFROM:+0200
TZOFFSETTO:+0100
TZNAME:CET
DTSTART:20221030T010000
END:STANDARD
END:VTIMEZONE
BEGIN:VEVENT
DTSTART;TZID=Europe/London:20220428T133000
DTEND;TZID=Europe/London:20220428T153000
DTSTAMP:20260424T150201
CREATED:20220411T150050Z
LAST-MODIFIED:20220411T150050Z
UID:10736-1651152600-1651159800@healthandsafety.com.mt
SUMMARY:Emergency First Aid - (Online)
DESCRIPTION:The Emergency First Aid course is suitable for anyone who could come across any type of accident and injuries that might happen at home\, at the workplace or in any other environment. This course provides clear information of what has to be done until professional medical assistance takes over.\n\nThis course it will be held over 2 sessions\n28th April – 13:30 – 15:30\n05th May – 13:30 – 15:30\n\nTraining can be also held privately at clients requested premises.\n\n\nClick on the following link to view details and book your place!\nhttps://forms.gle/SyCzUsh5CFa2ho9E7\n\nBook your place !\n–> info@healthandsafety.com.mt\n–> 9924 8968
URL:https://healthandsafety.com.mt/schedule/emergency-first-aid-online/
ATTACH;FMTTYPE=image/jpeg:https://healthandsafety.com.mt/wp-content/uploads/2022/04/Black-and-White-Basic-Food-Truck-Business-Plan-Visual-Charts-Presentation-1.jpg
END:VEVENT
BEGIN:VEVENT
DTSTART;TZID=Europe/London:20220428T130000
DTEND;TZID=Europe/London:20220428T173000
DTSTAMP:20260424T150201
CREATED:20220325T141044Z
LAST-MODIFIED:20220325T141122Z
UID:10636-1651150800-1651167000@healthandsafety.com.mt
SUMMARY:Basic First Aid - Msida - English Speaking
DESCRIPTION:The purpose of this course is to help participants identify and eliminate potentially hazardous conditions in their environment\, recognize emergencies\, and make appropriate decisions for first aid care. It teaches skills that participants need to know in order to provide immediate care for a suddenly ill or injured person until more advanced medical care arrives to take over. \nWho can take this course?\n➡️ Parents\, Childcares\, the General Public \n➡️ Cannot attend? Suggest a time preference by sending us an email or private message! \nClick on the following link to view details and book your place! \nhttps://forms.gle/MGTh3jeKxWW2E5UQ7 \n📧 info@healthandsafety.com.mt\n☎️ 9924 8968 to book your place
URL:https://healthandsafety.com.mt/schedule/basic-first-aid-msida-english-speaking/
ATTACH;FMTTYPE=image/jpeg:https://healthandsafety.com.mt/wp-content/uploads/2022/03/basic-first-aid-28.04.2022-e1652862306596.jpg
END:VEVENT
BEGIN:VEVENT
DTSTART;TZID=Europe/London:20220423T080000
DTEND;TZID=Europe/London:20220423T110000
DTSTAMP:20260424T150201
CREATED:20220414T150513Z
LAST-MODIFIED:20220414T150513Z
UID:10776-1650700800-1650711600@healthandsafety.com.mt
SUMMARY:Fire Warden Course - Online
DESCRIPTION:This course is suitable for employees who are tasked with the responsibility to design\, implement and maintain fire safety procedures at the workplace. It also provides these employees with what they are required to do during a fire evacuation in order to ensure a safe evacuation for all people involved.\n\nFor bookings or more information contact us :\n info@healthandsafety.com.mt\n 9924 8968\n\n\n\nCannot attend on this date?\nYou can also self-study at your own pace from our website portal.\n\nVisit: www.healthandsafety.com.mt\n\nTraining can be also held privately at clients requested premises.
URL:https://healthandsafety.com.mt/schedule/fire-warden-course-online-2/
ATTACH;FMTTYPE=image/jpeg:https://healthandsafety.com.mt/wp-content/uploads/2022/04/Black-and-White-Basic-Food-Truck-Business-Plan-Visual-Charts-Presentation-3.jpg
END:VEVENT
BEGIN:VEVENT
DTSTART;TZID=Europe/London:20220324T130000
DTEND;TZID=Europe/London:20220324T173000
DTSTAMP:20260424T150201
CREATED:20220119T105259Z
LAST-MODIFIED:20220119T105859Z
UID:9974-1648126800-1648143000@healthandsafety.com.mt
SUMMARY:First Aid - Msida - English Speaking
DESCRIPTION:The purpose of this course is to help participants identify and eliminate potentially hazardous conditions in their environment\, recognize emergencies\, and make appropriate decisions for first aid care. It teaches skills that participants need to know in order to provide immediate care for a suddenly ill or injured person until more advanced medical care arrives to take over.\nWho can take this course? \n Parents\, Childcarers\, the General Public\n Cannot attend? Suggest a time preference by sending us an email or private message! \nClick on the following link to view details and book your place!\nhttps://docs.google.com/…/1plL7ZXf_vsuPdkuj…/edit \n info@healthandsafety.com.mt\n 9924 8968 to book your place
URL:https://healthandsafety.com.mt/schedule/first-aid-msida-english-speaking/
END:VEVENT
BEGIN:VEVENT
DTSTART;TZID=Europe/London:20220322T090000
DTEND;TZID=Europe/London:20220322T140000
DTSTAMP:20260424T150201
CREATED:20220314T112243Z
LAST-MODIFIED:20220314T112420Z
UID:10541-1647939600-1647957600@healthandsafety.com.mt
SUMMARY:Basic First Aid & AED - Online
DESCRIPTION:This course is suitable for anyone who could come across any type of\naccident and injuries that might happen at home\, at the workplace or in any other\nenvironment. This course provides clear information of what has to be done until\nprofessional medical assistance takes over. This course is also suitable to renew an\nexisting qualification in the subject.\n\nClick on the following link to view details and book your place!\nhttps://forms.gle/XpG4rAL5VhfFqJjy9\n\nYou can book here:\n info@healthandsafety.com.mt\n9924 8968 to book your place
URL:https://healthandsafety.com.mt/schedule/basic-first-aid-aed-online-2/
ATTACH;FMTTYPE=image/jpeg:https://healthandsafety.com.mt/wp-content/uploads/2022/03/Basic-First-Aid-AED.jpg
END:VEVENT
BEGIN:VEVENT
DTSTART;TZID=Europe/London:20220319T100000
DTEND;TZID=Europe/London:20220319T120000
DTSTAMP:20260424T150201
CREATED:20220314T104822Z
LAST-MODIFIED:20220314T104822Z
UID:10536-1647684000-1647691200@healthandsafety.com.mt
SUMMARY:Food Handling - Online
DESCRIPTION:Suitability:\n\nFor people who are directly involved in the preparation and\nproduction of food such as chefs\, pastry chefs\, butchers\, bakers etc. It is also\nsuitable for people who are indirectly involved in the preparation and production of\nfood such as waiting and bar staff\, cleaners and cashiers. It is also suitable for\npeople who would like to broaden their knowledge about food safety.\n\nClick on the following link to view details and book your place!\nhttps://forms.gle/ATRqpeoy8wL7pPCeA\n\n info@healthandsafety.com.mt\n9924 8968 to book your place
URL:https://healthandsafety.com.mt/schedule/food-handling-online/
ATTACH;FMTTYPE=image/jpeg:https://healthandsafety.com.mt/wp-content/uploads/2022/03/Black-and-White-Basic-Food-Truck-Business-Plan-Visual-Charts-Presentation-2.jpg
END:VEVENT
BEGIN:VEVENT
DTSTART;TZID=Europe/London:20220311T150000
DTEND;TZID=Europe/London:20220318T170000
DTSTAMP:20260424T150201
CREATED:20220215T145115Z
LAST-MODIFIED:20220215T145115Z
UID:10278-1647010800-1647622800@healthandsafety.com.mt
SUMMARY:First Aid - (online bil-Malti)
DESCRIPTION:Training can be also held privately at clients requested premises. \nThis course it will be held over 2 sessions \n11th March – 15:00 – 17:00 \n18th March – 15:00 – 17:00 \nClick on the following link to view details and book your place!\nhttps://forms.gle/Z6e7pqsoswd3MAtu7 \n info@healthandsafety.com.mt\n 9924 8968 to book your place \n 
URL:https://healthandsafety.com.mt/schedule/first-aid-online-bil-malti-4/
ATTACH;FMTTYPE=image/png:https://healthandsafety.com.mt/wp-content/uploads/2022/02/ssdsdas.png
END:VEVENT
BEGIN:VEVENT
DTSTART;TZID=Europe/London:20220309T150000
DTEND;TZID=Europe/London:20220317T170000
DTSTAMP:20260424T150201
CREATED:20220214T155457Z
LAST-MODIFIED:20220214T155457Z
UID:10264-1646838000-1647536400@healthandsafety.com.mt
SUMMARY:First Aid (online bil-Malti)
DESCRIPTION:  \nTraining can be also held privately at clients requested premises. \nThis course it will be held over 2 sessions \n9th March – 15:00 – 17:00 \n17th March – 15:00 – 17:00 \nClick on the following link to view details and book your place!\nhttps://forms.gle/Z6e7pqsoswd3MAtu7 \n info@healthandsafety.com.mt\n 9924 8968 to book your place
URL:https://healthandsafety.com.mt/schedule/first-aid-online-bil-malti-2/
ATTACH;FMTTYPE=image/jpeg:https://healthandsafety.com.mt/wp-content/uploads/2022/02/Black-and-White-Basic-Food-Truck-Business-Plan-Visual-Charts-Presentation.jpg
END:VEVENT
BEGIN:VEVENT
DTSTART;TZID=Europe/London:20220307T150000
DTEND;TZID=Europe/London:20220314T170000
DTSTAMP:20260424T150201
CREATED:20220214T151859Z
LAST-MODIFIED:20220214T155726Z
UID:10259-1646665200-1647277200@healthandsafety.com.mt
SUMMARY:First Aid (online bil-Malti)
DESCRIPTION:As the name suggests\, first aid is the first response or treatment given to someone who has been injured. It is administered before they are transferred to proper medical care. First aid does not constitute a full medical treatment. Rather\, it is meant to stabilize the injured person so they can be moved to a hospital or other medical facility. \n  \nTraining can be also held privately at clients requested premises. \n  \nThis course it will be held over 2 sessions \n7th March  – 15:00 – 17:00 \n14th  March  – 15:00 – 17:00 \n  \nWho can take this course? \n Parents\, Childcarers\, the General Public\n Cannot attend? Suggest a time preference by sending us an email or private message! \nClick on the following link to view details and book your place!\nhttps://forms.gle/EiDTrZ81ByWvKtEu6 \n info@healthandsafety.com.mt\n 9924 8968 to book your place \n 
URL:https://healthandsafety.com.mt/schedule/first-aid-online-bil-malti/
ATTACH;FMTTYPE=image/jpeg:https://healthandsafety.com.mt/wp-content/uploads/2022/02/Black-and-White-Basic-Food-Truck-Business-Plan-Visual-Charts-Presentation-3-page-002-scaled.jpg
END:VEVENT
BEGIN:VEVENT
DTSTART;TZID=Europe/London:20220302T090000
DTEND;TZID=Europe/London:20220302T140000
DTSTAMP:20260424T150201
CREATED:20220214T145357Z
LAST-MODIFIED:20220214T145357Z
UID:10256-1646211600-1646229600@healthandsafety.com.mt
SUMMARY:Basic First Aid & AED - ONLINE
DESCRIPTION:The Basic First Aid + AED  Course enables participants to learn how to determine unresponsiveness\, activate emergency medical services as well as perform chest compressions-only CPR and use of AED on adult unconscious casualties. \nTraining can be also held privately at clients requested premises. \n  \nClick on the following link to view details and book your place!\nhttps://forms.gle/Z6e7pqsoswd3MAtu7 \n info@healthandsafety.com.mt\n 9924 8968 to book your place
URL:https://healthandsafety.com.mt/schedule/basic-first-aid-aed-online/
ATTACH;FMTTYPE=image/png:https://healthandsafety.com.mt/wp-content/uploads/2022/01/First-Aid-CPR-Training-Flyer.png
END:VEVENT
BEGIN:VEVENT
DTSTART;TZID=Europe/London:20220214T080000
DTEND;TZID=Europe/London:20220214T170000
DTSTAMP:20260424T150201
CREATED:20220214T160042Z
LAST-MODIFIED:20220214T160042Z
UID:10269-1644825600-1644858000@healthandsafety.com.mt
SUMMARY:First Aid:  - (online bil-Malti)
DESCRIPTION:Training can be also held privately at clients requested premises. \n  \nThis course it will be held over 2 sessions \n11th March  – 15:00 – 17:00 \n18th  March  – 15:00 – 17:00 \n  \nWho can take this course? \n Parents\, Childcarers\, the General Public\n Cannot attend? Suggest a time preference by sending us an email or private message! \nClick on the following link to view details and book your place!\nhttps://forms.gle/EiDTrZ81ByWvKtEu6 \n info@healthandsafety.com.mt\n 9924 8968 to book your place \n  \n  \n 
URL:https://healthandsafety.com.mt/schedule/first-aid-online-bil-malti-3/
ATTACH;FMTTYPE=image/png:https://healthandsafety.com.mt/wp-content/uploads/2021/05/Untitled-design-5.png
END:VEVENT
BEGIN:VEVENT
DTSTART;TZID=Europe/London:20220118T133000
DTEND;TZID=Europe/London:20220118T163000
DTSTAMP:20260424T150201
CREATED:20220114T101147Z
LAST-MODIFIED:20220116T211047Z
UID:9939-1642512600-1642523400@healthandsafety.com.mt
SUMMARY:Basic Fire Fighting and Prevention - Online
DESCRIPTION:For bookings and further information call 99248968 or email info@healthandsafety.com.mt
URL:https://healthandsafety.com.mt/schedule/basic-fire-fighting-and-prevention-online/
ATTACH;FMTTYPE=image/jpeg:https://healthandsafety.com.mt/wp-content/uploads/2022/01/firesafety.jpg
END:VEVENT
BEGIN:VEVENT
DTSTART;TZID=Europe/London:20211027T140000
DTEND;TZID=Europe/London:20211027T180000
DTSTAMP:20260424T150201
CREATED:20210820T095140Z
LAST-MODIFIED:20210820T095140Z
UID:8866-1635343200-1635357600@healthandsafety.com.mt
SUMMARY:Food Handling Course Virtual
DESCRIPTION:
URL:https://healthandsafety.com.mt/schedule/food-handling-course-virtual-4/
END:VEVENT
BEGIN:VEVENT
DTSTART;TZID=Europe/London:20211020T140000
DTEND;TZID=Europe/London:20211020T180000
DTSTAMP:20260424T150201
CREATED:20210904T114154Z
LAST-MODIFIED:20210904T114154Z
UID:8984-1634738400-1634752800@healthandsafety.com.mt
SUMMARY:Food Handling Course Virtual
DESCRIPTION:
URL:https://healthandsafety.com.mt/schedule/food-handling-course-virtual-5/
END:VEVENT
BEGIN:VEVENT
DTSTART;TZID=Europe/London:20210928T140000
DTEND;TZID=Europe/London:20210928T180000
DTSTAMP:20260424T150201
CREATED:20210820T095052Z
LAST-MODIFIED:20210820T095052Z
UID:8864-1632837600-1632852000@healthandsafety.com.mt
SUMMARY:Food Handling Course Virtual
DESCRIPTION:
URL:https://healthandsafety.com.mt/schedule/food-handling-course-virtual-3/
END:VEVENT
BEGIN:VEVENT
DTSTART;TZID=Europe/London:20210910T093000
DTEND;TZID=Europe/London:20210910T143000
DTSTAMP:20260424T150201
CREATED:20210820T095330Z
LAST-MODIFIED:20210820T095330Z
UID:8868-1631266200-1631284200@healthandsafety.com.mt
SUMMARY:Basic First Aid Course-Online
DESCRIPTION:
URL:https://healthandsafety.com.mt/schedule/basic-first-aid-course-online/
END:VEVENT
BEGIN:VEVENT
DTSTART;TZID=Europe/London:20210903T160000
DTEND;TZID=Europe/London:20210903T193000
DTSTAMP:20260424T150201
CREATED:20210820T100712Z
LAST-MODIFIED:20210820T102709Z
UID:8870-1630684800-1630697400@healthandsafety.com.mt
SUMMARY:Pediatric First Aid- Covering Ages 0-14
DESCRIPTION:
URL:https://healthandsafety.com.mt/schedule/paediatric-first-aid-covering-ages-0-14/
END:VEVENT
BEGIN:VEVENT
DTSTART;TZID=Europe/London:20210901T140000
DTEND;TZID=Europe/London:20210901T180000
DTSTAMP:20260424T150201
CREATED:20210820T094832Z
LAST-MODIFIED:20210820T094832Z
UID:8862-1630504800-1630519200@healthandsafety.com.mt
SUMMARY:Food Handling Course Virtual
DESCRIPTION:
URL:https://healthandsafety.com.mt/schedule/food-handling-course-virtual-2/
END:VEVENT
BEGIN:VEVENT
DTSTART;TZID=Europe/Malta:20210825T140000
DTEND;TZID=Europe/Malta:20210825T180000
DTSTAMP:20260424T150201
CREATED:20210820T094619Z
LAST-MODIFIED:20210820T094619Z
UID:8860-1629900000-1629914400@healthandsafety.com.mt
SUMMARY:Food Handling Course Virtual
DESCRIPTION:
URL:https://healthandsafety.com.mt/schedule/food-handling-course-virtual/
END:VEVENT
BEGIN:VEVENT
DTSTART;TZID=Europe/London:20210730T080000
DTEND;TZID=Europe/London:20210730T170000
DTSTAMP:20260424T150201
CREATED:20210730T134014Z
LAST-MODIFIED:20210730T134418Z
UID:8722-1627632000-1627664400@healthandsafety.com.mt
SUMMARY:Food Handling Course
DESCRIPTION:All those who work in the catering industry require a valid Food Handling Certification.\n\nCannot attend today? You can also self-study at your own pace from our website portal.\nVisit: www.healthandsafety.com.mt\n\ninfo@healthandsafety.com.mt\n99248968 to book your place
URL:https://healthandsafety.com.mt/schedule/food-handling-course-47/
END:VEVENT
BEGIN:VEVENT
DTSTART;TZID=Europe/London:20210730T080000
DTEND;TZID=Europe/London:20210730T170000
DTSTAMP:20260424T150201
CREATED:20210730T133437Z
LAST-MODIFIED:20210730T133437Z
UID:8720-1627632000-1627664400@healthandsafety.com.mt
SUMMARY:Security/Private Guard Course
DESCRIPTION:Do you require to renew or obtain a Security Guard License?\nOur courses are also available online.\n 99248968 to book your place\n info@healthandsafety.com.mt
URL:https://healthandsafety.com.mt/schedule/security-private-guard-course/
END:VEVENT
BEGIN:VEVENT
DTSTART;TZID=Europe/London:20210730T080000
DTEND;TZID=Europe/London:20210730T170000
DTSTAMP:20260424T150201
CREATED:20210730T132507Z
LAST-MODIFIED:20210730T133345Z
UID:8715-1627632000-1627664400@healthandsafety.com.mt
SUMMARY:Basic First Aid - Paediatric Included
DESCRIPTION:http://docs.google.com/forms/d/e/1FAIpQLSeqaInoBK0OckA2sDI8ZpLb7EYs9ZeXABVxO89d_MZDPkEuEg/viewform \nTo book your place click the link above which also includes booking prices\, dates and information. \nCourses can also be held online.
URL:https://healthandsafety.com.mt/schedule/basic-first-aid-paediatric-included-3/
END:VEVENT
BEGIN:VEVENT
DTSTART;TZID=Europe/London:20210326T090000
DTEND;TZID=Europe/London:20210326T140000
DTSTAMP:20260424T150201
CREATED:20210123T143604Z
LAST-MODIFIED:20210123T143605Z
UID:7365-1616749200-1616767200@healthandsafety.com.mt
SUMMARY:First Aid Course
DESCRIPTION:Contact us on info@healthandsafety.com.mt for bookings and further information.
URL:https://healthandsafety.com.mt/schedule/first-aid-course/
LOCATION:St Bernard’s Safety Training Centre\, St. Bernard's Health and Safety Centre\, No 11\, Left Entrance\, Triq tal-Hriereb. Msida\, Malta\, Msida\, Malta
ORGANIZER;CN="St Bernard's Safety Training Centre":MAILTO:safetytrainingmalta@gmail.com
END:VEVENT
BEGIN:VEVENT
DTSTART;TZID=Europe/London:20200528T133000
DTEND;TZID=Europe/London:20200528T183000
DTSTAMP:20260424T150201
CREATED:20191217T095756Z
LAST-MODIFIED:20191217T095756Z
UID:3339-1590672600-1590690600@healthandsafety.com.mt
SUMMARY:Food Handling Course
DESCRIPTION:Register your place here: https://forms.gle/L3Q3PeF4PXWrEk2D6 \nFull course information and schedule included. \nCannot attend? Do it Online. Go to the following link to purchase https://healthandsafety.com.mt/product/online-food-handling-course-b/
URL:https://healthandsafety.com.mt/schedule/food-handling-course-46/
LOCATION:St Bernard’s Safety Training Centre\, St. Bernard's Health and Safety Centre\, No 11\, Left Entrance\, Triq tal-Hriereb. Msida\, Malta\, Msida\, Malta
END:VEVENT
BEGIN:VEVENT
DTSTART;TZID=Europe/London:20200523T080000
DTEND;TZID=Europe/London:20200523T170000
DTSTAMP:20260424T150201
CREATED:20191217T095509Z
LAST-MODIFIED:20191217T095509Z
UID:3337-1590220800-1590253200@healthandsafety.com.mt
SUMMARY:Food Handling Course
DESCRIPTION:Register your place here: https://forms.gle/L3Q3PeF4PXWrEk2D6 \nFull course information and schedule included. \nCannot attend? Do it Online. Go to the following link to purchase https://healthandsafety.com.mt/product/online-food-handling-course-b/
URL:https://healthandsafety.com.mt/schedule/food-handling-course-45/
LOCATION:St Bernard’s Safety Training Centre\, St. Bernard's Health and Safety Centre\, No 11\, Left Entrance\, Triq tal-Hriereb. Msida\, Malta\, Msida\, Malta
ORGANIZER;CN="St Bernard's Safety Training Centre":MAILTO:safetytrainingmalta@gmail.com
END:VEVENT
BEGIN:VEVENT
DTSTART;VALUE=DATE:20200516
DTEND;VALUE=DATE:20200517
DTSTAMP:20260424T150201
CREATED:20191217T095326Z
LAST-MODIFIED:20191217T095326Z
UID:3335-1589587200-1589673599@healthandsafety.com.mt
SUMMARY:Food Handling Course
DESCRIPTION:Register your place here: https://forms.gle/L3Q3PeF4PXWrEk2D6 \nFull course information and schedule included. \nCannot attend? Do it Online. Go to the following link to purchase https://healthandsafety.com.mt/product/online-food-handling-course-b/
URL:https://healthandsafety.com.mt/schedule/food-handling-course-44/
LOCATION:St Bernard’s Safety Training Centre\, St. Bernard's Health and Safety Centre\, No 11\, Left Entrance\, Triq tal-Hriereb. Msida\, Malta\, Msida\, Malta
ORGANIZER;CN="St Bernard's Safety Training Centre":MAILTO:safetytrainingmalta@gmail.com
END:VEVENT
BEGIN:VEVENT
DTSTART;VALUE=DATE:20200509
DTEND;VALUE=DATE:20200510
DTSTAMP:20260424T150201
CREATED:20191217T094921Z
LAST-MODIFIED:20191217T094921Z
UID:3333-1588982400-1589068799@healthandsafety.com.mt
SUMMARY:Food Handling Course
DESCRIPTION:Register your place here: https://forms.gle/L3Q3PeF4PXWrEk2D6 \nFull course information and schedule included. \nCannot attend? Do it Online. Go to the following link to purchase https://healthandsafety.com.mt/product/online-food-handling-course-b/
URL:https://healthandsafety.com.mt/schedule/food-handling-course-43/
LOCATION:St Bernard’s Safety Training Centre\, St. Bernard's Health and Safety Centre\, No 11\, Left Entrance\, Triq tal-Hriereb. Msida\, Malta\, Msida\, Malta
ORGANIZER;CN="St Bernard's Safety Training Centre":MAILTO:safetytrainingmalta@gmail.com
END:VEVENT
BEGIN:VEVENT
DTSTART;TZID=Europe/London:20200505T133000
DTEND;TZID=Europe/London:20200505T170000
DTSTAMP:20260424T150201
CREATED:20200303T065813Z
LAST-MODIFIED:20200303T065813Z
UID:4552-1588685400-1588698000@healthandsafety.com.mt
SUMMARY:Basic Fire Fighting / Fire Warden
DESCRIPTION:
URL:https://healthandsafety.com.mt/schedule/basic-fire-fighting-fire-warden/
LOCATION:St Bernard’s Safety Training Centre\, St. Bernard's Health and Safety Centre\, No 11\, Left Entrance\, Triq tal-Hriereb. Msida\, Malta\, Msida\, Malta
END:VEVENT
BEGIN:VEVENT
DTSTART;TZID=Europe/London:20200502T093000
DTEND;TZID=Europe/London:20200502T140000
DTSTAMP:20260424T150201
CREATED:20200303T065533Z
LAST-MODIFIED:20200303T065533Z
UID:4550-1588411800-1588428000@healthandsafety.com.mt
SUMMARY:First Aid Course - Paediatric Included
DESCRIPTION:https://forms.gle/dkk99sZfq2iif8Ne7\n\nFirst Aid Booking Form
URL:https://healthandsafety.com.mt/schedule/first-aid-course-paediatric-included-5/
LOCATION:St Bernard’s Safety Training Centre\, St. Bernard's Health and Safety Centre\, No 11\, Left Entrance\, Triq tal-Hriereb. Msida\, Malta\, Msida\, Malta
END:VEVENT
BEGIN:VEVENT
DTSTART;VALUE=DATE:20200425
DTEND;VALUE=DATE:20200426
DTSTAMP:20260424T150201
CREATED:20191217T094650Z
LAST-MODIFIED:20191217T094650Z
UID:3331-1587772800-1587859199@healthandsafety.com.mt
SUMMARY:Food Handling Course
DESCRIPTION:Register your place here: https://forms.gle/L3Q3PeF4PXWrEk2D6 \nFull course information and schedule included. \nCannot attend? Do it Online. Go to the following link to purchase https://healthandsafety.com.mt/product/online-food-handling-course-b/
URL:https://healthandsafety.com.mt/schedule/food-handling-course-42/
LOCATION:St Bernard’s Safety Training Centre\, St. Bernard's Health and Safety Centre\, No 11\, Left Entrance\, Triq tal-Hriereb. Msida\, Malta\, Msida\, Malta
ORGANIZER;CN="St Bernard's Safety Training Centre":MAILTO:safetytrainingmalta@gmail.com
END:VEVENT
END:VCALENDAR