BEGIN:VCALENDAR
VERSION:2.0
PRODID:-//St. Bernard&#039;s Health and Safety Institute - ECPv6.15.17.1//NONSGML v1.0//EN
CALSCALE:GREGORIAN
METHOD:PUBLISH
X-ORIGINAL-URL:https://healthandsafety.com.mt
X-WR-CALDESC:Events for St. Bernard&#039;s Health and Safety Institute
REFRESH-INTERVAL;VALUE=DURATION:PT1H
X-Robots-Tag:noindex
X-PUBLISHED-TTL:PT1H
BEGIN:VTIMEZONE
TZID:Europe/London
BEGIN:DAYLIGHT
TZOFFSETFROM:+0000
TZOFFSETTO:+0100
TZNAME:BST
DTSTART:20240331T010000
END:DAYLIGHT
BEGIN:STANDARD
TZOFFSETFROM:+0100
TZOFFSETTO:+0000
TZNAME:GMT
DTSTART:20241027T010000
END:STANDARD
BEGIN:DAYLIGHT
TZOFFSETFROM:+0000
TZOFFSETTO:+0100
TZNAME:BST
DTSTART:20250330T010000
END:DAYLIGHT
BEGIN:STANDARD
TZOFFSETFROM:+0100
TZOFFSETTO:+0000
TZNAME:GMT
DTSTART:20251026T010000
END:STANDARD
BEGIN:DAYLIGHT
TZOFFSETFROM:+0000
TZOFFSETTO:+0100
TZNAME:BST
DTSTART:20260329T010000
END:DAYLIGHT
BEGIN:STANDARD
TZOFFSETFROM:+0100
TZOFFSETTO:+0000
TZNAME:GMT
DTSTART:20261025T010000
END:STANDARD
END:VTIMEZONE
BEGIN:VEVENT
DTSTART;TZID=Europe/London:20250301T093000
DTEND;TZID=Europe/London:20250301T133000
DTSTAMP:20260424T021328
CREATED:20250221T104528Z
LAST-MODIFIED:20250221T104528Z
UID:41589-1740821400-1740835800@healthandsafety.com.mt
SUMMARY:Basic & Paediatric First Aid Course
DESCRIPTION:Suitability: This course is suitable for anyone who could come across any type of accident and injuries that might happen at home\, at the workplace or in any other environment where there are adults\, children and babies. This course provides clear information of what has to be done until professional medical assistance takes over. This course is also suitable to renew an existing qualification in the subject \nValidity of Certificate: 3 years \nCourse Assessment: During the Basic & Paediatric First Aid course\, participants are practically assessed on the various practical aspects (mentioned below). At the end of the course\, participants are assessed by a theory assessment sheet to assess understanding of main topics \nCertification: Upon completing the course\, each participant will be issued with a Basic & Paediatric First Aid certificate \nThe Basic & Paediatric First Aid course includes practice of Primary Survey concluded by CPR on adult\, child and baby manikin\, Secondary Survey concluded by the recovery position\, practice of various wound dressing and sling-making
URL:https://healthandsafety.com.mt/schedule/basic-paediatric-first-aid-course-11/
LOCATION:St Bernard’s Safety Training Centre\, St. Bernard's Health and Safety Centre\, No 11\, Left Entrance\, Triq tal-Hriereb. Msida\, Malta\, Msida\, Malta
CATEGORIES:First Aid
ATTACH;FMTTYPE=image/jpeg:https://healthandsafety.com.mt/wp-content/uploads/2019/04/Paediatric-First-Aid-scaled.jpg
ORGANIZER;CN="St Bernard's Safety Training Centre":MAILTO:safetytrainingmalta@gmail.com
END:VEVENT
BEGIN:VEVENT
DTSTART;TZID=Europe/London:20250307T093000
DTEND;TZID=Europe/London:20250307T133000
DTSTAMP:20260424T021328
CREATED:20250115T113704Z
LAST-MODIFIED:20250115T120325Z
UID:39346-1741339800-1741354200@healthandsafety.com.mt
SUMMARY:Basic First Aid Course
DESCRIPTION:Basic First Aid Course\n\n\nSuitability: This course is suitable for anyone who would like to learn some basic first aid techniques in handling accidents or illnesses. It provides clear awareness of what has to be done until professional medical assistance takes over. This course is also suitable to renew an existing qualification in the subject \nValidity of Certificate: 3 years \nCourse Assessment: During the Basic First course\, participants are practically assessed on the various practical aspects (mentioned below). At the end of the course\, participants are assessed by a theory assessment sheet to assess understanding of main topics \nCertification: Upon completing the course\, each participant will be issued with a Basic First Aid certificate \nThe Basic First Aid course includes practice of Primary Survey concluded by CPR on adult manikin\, Secondary Survey concluded by the recovery position\, practice of various wound dressing and sling-making
URL:https://healthandsafety.com.mt/schedule/basic-first-aid-course-16/
LOCATION:St Bernard’s Safety Training Centre\, St. Bernard's Health and Safety Centre\, No 11\, Left Entrance\, Triq tal-Hriereb. Msida\, Malta\, Msida\, Malta
CATEGORIES:First Aid
ATTACH;FMTTYPE=image/jpeg:https://healthandsafety.com.mt/wp-content/uploads/2024/10/basic-first-aid.jpg
ORGANIZER;CN="St Bernard's Safety Training Centre":MAILTO:safetytrainingmalta@gmail.com
END:VEVENT
BEGIN:VEVENT
DTSTART;TZID=Europe/London:20250313T150000
DTEND;TZID=Europe/London:20250313T180000
DTSTAMP:20260424T021328
CREATED:20250311T074634Z
LAST-MODIFIED:20250311T074634Z
UID:45275-1741878000-1741888800@healthandsafety.com.mt
SUMMARY:Basic Fire Safety including Fire Warden Course
DESCRIPTION:Suitability: This course is designed for individuals who want to gain comprehensive knowledge in fire safety and for those responsible for acting as fire wardens in their workplace. It provides participants with the necessary skills to implement proactive fire prevention measures\, ensure occupant safety during a fire\, and manage building evacuation procedures. The course is also suitable for individuals renewing an existing qualification in fire safety or fire warden duties. \nCourse Content:\nParticipants will cover essential fire safety topics\, including: \n\nUnderstanding fire risks and prevention measures at home and in the workplace\nIdentifying potential fire hazards and implementing safety precautions\nUsing fire safety equipment such as fire extinguishers\nResponding to a fire outbreak and taking appropriate actions\nManaging evacuations and ensuring occupant safety during emergencies\nFire warden responsibilities\, including the maintenance of fire safety procedures and assisting in fire drills\n\nValidity: The certification is valid for 3 years. \nCourse Assessment: At the end of the course\, participants will complete a multiple-choice assessment to ensure their understanding of the course material. The tutor will provide feedback to address any gaps in knowledge. \nCertification: Upon successful completion of the course\, participants will receive a Fire Safety & Fire Warden Certificate\, valid for 3 years.
URL:https://healthandsafety.com.mt/schedule/basic-fire-safety-including-fire-warden-course-5/
LOCATION:St Bernard’s Safety Training Centre\, St. Bernard's Health and Safety Centre\, No 11\, Left Entrance\, Triq tal-Hriereb. Msida\, Malta\, Msida\, Malta
CATEGORIES:Fire Safety
ATTACH;FMTTYPE=image/png:https://healthandsafety.com.mt/wp-content/uploads/2025/03/fire-warden3.png
ORGANIZER;CN="St Bernard's Safety Training Centre":MAILTO:safetytrainingmalta@gmail.com
END:VEVENT
BEGIN:VEVENT
DTSTART;TZID=Europe/London:20250321T093000
DTEND;TZID=Europe/London:20250321T133000
DTSTAMP:20260424T021328
CREATED:20250306T132748Z
LAST-MODIFIED:20250306T132748Z
UID:44991-1742549400-1742563800@healthandsafety.com.mt
SUMMARY:Basic First Aid Course
DESCRIPTION:Basic First Aid Course\n\n\nSuitability: This course is suitable for anyone who would like to learn some basic first aid techniques in handling accidents or illnesses. It provides clear awareness of what has to be done until professional medical assistance takes over. This course is also suitable to renew an existing qualification in the subject \nValidity of Certificate: 3 years \nCourse Assessment: During the Basic First course\, participants are practically assessed on the various practical aspects (mentioned below). At the end of the course\, participants are assessed by a theory assessment sheet to assess understanding of main topics \nCertification: Upon completing the course\, each participant will be issued with a Basic First Aid certificate \nThe Basic First Aid course includes practice of Primary Survey concluded by CPR on adult manikin\, Secondary Survey concluded by the recovery position\, practice of various wound dressing and sling-making
URL:https://healthandsafety.com.mt/schedule/basic-first-aid-course-19/
LOCATION:St Bernard’s Safety Training Centre\, St. Bernard's Health and Safety Centre\, No 11\, Left Entrance\, Triq tal-Hriereb. Msida\, Malta\, Msida\, Malta
CATEGORIES:First Aid
ATTACH;FMTTYPE=image/png:https://healthandsafety.com.mt/wp-content/uploads/2025/03/first-aid4.png
ORGANIZER;CN="St Bernard's Safety Training Centre":MAILTO:safetytrainingmalta@gmail.com
END:VEVENT
BEGIN:VEVENT
DTSTART;TZID=Europe/London:20250329T093000
DTEND;TZID=Europe/London:20250329T133000
DTSTAMP:20260424T021328
CREATED:20241216T123139Z
LAST-MODIFIED:20250221T111802Z
UID:37895-1743240600-1743255000@healthandsafety.com.mt
SUMMARY:Basic & Paediatric First Aid Course
DESCRIPTION:Basic & Pediatric First Aid Course\n\n\nSuitability: This course is suitable for anyone who could come across any type of accident and injuries that might happen at home\, at the workplace or in any other environment where there are adults\, children and babies. This course provides clear information of what has to be done until professional medical assistance takes over. This course is also suitable to renew an existing qualification in the subject \nValidity of Certificate: 3 years \nCourse Assessment: During the Basic & Paediatric First Aid course\, participants are practically assessed on the various practical aspects (mentioned below). At the end of the course\, participants are assessed by a theory assessment sheet to assess understanding of main topics \nCertification: Upon completing the course\, each participant will be issued with a Basic & Paediatric First Aid certificate \nThe Basic & Paediatric First Aid course includes practice of Primary Survey concluded by CPR on adult\, child and baby manikin\, Secondary Survey concluded by the recovery position\, practice of various wound dressing and sling-making
URL:https://healthandsafety.com.mt/schedule/basic-paediatric-first-aid-4/
LOCATION:St Bernard’s Safety Training Centre\, St. Bernard's Health and Safety Centre\, No 11\, Left Entrance\, Triq tal-Hriereb. Msida\, Malta\, Msida\, Malta
CATEGORIES:First Aid
ATTACH;FMTTYPE=image/jpeg:https://healthandsafety.com.mt/wp-content/uploads/2024/12/people-are-practicing-medicine-1-scaled-1.jpg
ORGANIZER;CN="St Bernard's Safety Training Centre":MAILTO:safetytrainingmalta@gmail.com
END:VEVENT
END:VCALENDAR