BEGIN:VCALENDAR
VERSION:2.0
PRODID:-//St. Bernard&#039;s Health and Safety Institute - ECPv6.15.17.1//NONSGML v1.0//EN
CALSCALE:GREGORIAN
METHOD:PUBLISH
X-WR-CALNAME:St. Bernard&#039;s Health and Safety Institute
X-ORIGINAL-URL:https://healthandsafety.com.mt
X-WR-CALDESC:Events for St. Bernard&#039;s Health and Safety Institute
REFRESH-INTERVAL;VALUE=DURATION:PT1H
X-Robots-Tag:noindex
X-PUBLISHED-TTL:PT1H
BEGIN:VTIMEZONE
TZID:Europe/London
BEGIN:DAYLIGHT
TZOFFSETFROM:+0000
TZOFFSETTO:+0100
TZNAME:BST
DTSTART:20240331T010000
END:DAYLIGHT
BEGIN:STANDARD
TZOFFSETFROM:+0100
TZOFFSETTO:+0000
TZNAME:GMT
DTSTART:20241027T010000
END:STANDARD
BEGIN:DAYLIGHT
TZOFFSETFROM:+0000
TZOFFSETTO:+0100
TZNAME:BST
DTSTART:20250330T010000
END:DAYLIGHT
BEGIN:STANDARD
TZOFFSETFROM:+0100
TZOFFSETTO:+0000
TZNAME:GMT
DTSTART:20251026T010000
END:STANDARD
BEGIN:DAYLIGHT
TZOFFSETFROM:+0000
TZOFFSETTO:+0100
TZNAME:BST
DTSTART:20260329T010000
END:DAYLIGHT
BEGIN:STANDARD
TZOFFSETFROM:+0100
TZOFFSETTO:+0000
TZNAME:GMT
DTSTART:20261025T010000
END:STANDARD
END:VTIMEZONE
BEGIN:VEVENT
DTSTART;TZID=Europe/London:20250401T110000
DTEND;TZID=Europe/London:20250401T140000
DTSTAMP:20260424T005913
CREATED:20250220T124823Z
LAST-MODIFIED:20250327T123448Z
UID:41348-1743505200-1743516000@healthandsafety.com.mt
SUMMARY:Food Handling Course
DESCRIPTION:For Bookings and further information \n📞 99248968 \n📧 info@healthandsafety.com.mt \nTraining can also be held at client’s Premises on request
URL:https://healthandsafety.com.mt/schedule/food-handling-course-60/
LOCATION:St Bernard’s Safety Training Centre\, St. Bernard's Health and Safety Centre\, No 11\, Left Entrance\, Triq tal-Hriereb. Msida\, Malta\, Msida\, Malta
CATEGORIES:Food Handling
ATTACH;FMTTYPE=image/png:https://healthandsafety.com.mt/wp-content/uploads/2022/05/picture-Food-Handling-Course-b-e1736671353379.png
ORGANIZER;CN="St Bernard's Safety Training Centre":MAILTO:safetytrainingmalta@gmail.com
END:VEVENT
BEGIN:VEVENT
DTSTART;TZID=Europe/London:20250402T150000
DTEND;TZID=Europe/London:20250402T173000
DTSTAMP:20260424T005913
CREATED:20250321T111318Z
LAST-MODIFIED:20250321T111318Z
UID:46010-1743606000-1743615000@healthandsafety.com.mt
SUMMARY:Health & Safety at Work
DESCRIPTION:Course is also valid for those who need to obtain a BCA Skill Card\, price 75 euros.
URL:https://healthandsafety.com.mt/schedule/health-safety-at-work-2/
LOCATION:St Bernard’s Safety Training Centre\, St. Bernard's Health and Safety Centre\, No 11\, Left Entrance\, Triq tal-Hriereb. Msida\, Malta\, Msida\, Malta
CATEGORIES:Health & Safety
ATTACH;FMTTYPE=image/png:https://healthandsafety.com.mt/wp-content/uploads/2025/01/IMG_5106.png
ORGANIZER;CN="St Bernard's Safety Training Centre":MAILTO:safetytrainingmalta@gmail.com
END:VEVENT
BEGIN:VEVENT
DTSTART;TZID=Europe/London:20250404T093000
DTEND;TZID=Europe/London:20250404T133000
DTSTAMP:20260424T005913
CREATED:20250115T113808Z
LAST-MODIFIED:20250117T130504Z
UID:39348-1743759000-1743773400@healthandsafety.com.mt
SUMMARY:Basic First Aid Course
DESCRIPTION:Basic First Aid Course\n\n\nSuitability: This course is suitable for anyone who would like to learn some basic first aid techniques in handling accidents or illnesses. It provides clear awareness of what has to be done until professional medical assistance takes over. This course is also suitable to renew an existing qualification in the subject \nValidity of Certificate: 3 years \nCourse Assessment: During the Basic First course\, participants are practically assessed on the various practical aspects (mentioned below). At the end of the course\, participants are assessed by a theory assessment sheet to assess understanding of main topics \nCertification: Upon completing the course\, each participant will be issued with a Basic First Aid certificate \nThe Basic First Aid course includes practice of Primary Survey concluded by CPR on adult manikin\, Secondary Survey concluded by the recovery position\, practice of various wound dressing and sling-making
URL:https://healthandsafety.com.mt/schedule/basic-first-aid-course-17/
LOCATION:St Bernard’s Safety Training Centre\, St. Bernard's Health and Safety Centre\, No 11\, Left Entrance\, Triq tal-Hriereb. Msida\, Malta\, Msida\, Malta
CATEGORIES:First Aid
ATTACH;FMTTYPE=image/jpeg:https://healthandsafety.com.mt/wp-content/uploads/2017/06/Level-2-Emergency-First-Aid-at-Work-1-day-course.jpg
ORGANIZER;CN="St Bernard's Safety Training Centre":MAILTO:safetytrainingmalta@gmail.com
END:VEVENT
BEGIN:VEVENT
DTSTART;TZID=Europe/London:20250404T140000
DTEND;TZID=Europe/London:20250404T170000
DTSTAMP:20260424T005913
CREATED:20250207T122154Z
LAST-MODIFIED:20250327T145710Z
UID:40670-1743775200-1743786000@healthandsafety.com.mt
SUMMARY:Basic Fire Safety including Fire Warden Course
DESCRIPTION:Suitability: This course is designed for individuals who want to gain comprehensive knowledge in fire safety and for those responsible for acting as fire wardens in their workplace. It provides participants with the necessary skills to implement proactive fire prevention measures\, ensure occupant safety during a fire\, and manage building evacuation procedures. The course is also suitable for individuals renewing an existing qualification in fire safety or fire warden duties. \nCourse Content:\nParticipants will cover essential fire safety topics\, including: \n\nUnderstanding fire risks and prevention measures at home and in the workplace\nIdentifying potential fire hazards and implementing safety precautions\nUsing fire safety equipment such as fire extinguishers\nResponding to a fire outbreak and taking appropriate actions\nManaging evacuations and ensuring occupant safety during emergencies\nFire warden responsibilities\, including the maintenance of fire safety procedures and assisting in fire drills\n\nValidity: The certification is valid for 3 years. \nCourse Assessment: At the end of the course\, participants will complete a multiple-choice assessment to ensure their understanding of the course material. The tutor will provide feedback to address any gaps in knowledge. \nCertification: Upon successful completion of the course\, participants will receive a Fire Safety & Fire Warden Certificate\, valid for 3 years.
URL:https://healthandsafety.com.mt/schedule/basic-fire-safety-including-fire-warden-course-2/
LOCATION:St Bernard’s Safety Training Centre\, St. Bernard's Health and Safety Centre\, No 11\, Left Entrance\, Triq tal-Hriereb. Msida\, Malta\, Msida\, Malta
CATEGORIES:Fire Safety
ATTACH;FMTTYPE=image/jpeg:https://healthandsafety.com.mt/wp-content/uploads/2025/01/basic-fire-fighting-evacuation-fire-drill-simulation-training-safety-condominium-factory-scaled-1.jpg
ORGANIZER;CN="St Bernard's Safety Training Centre":MAILTO:safetytrainingmalta@gmail.com
END:VEVENT
BEGIN:VEVENT
DTSTART;TZID=Europe/London:20250411T100000
DTEND;TZID=Europe/London:20250411T130000
DTSTAMP:20260424T005913
CREATED:20250207T122555Z
LAST-MODIFIED:20250209T213429Z
UID:40674-1744365600-1744376400@healthandsafety.com.mt
SUMMARY:Basic Fire Safety including Fire Warden Course
DESCRIPTION:Suitability: This course is designed for individuals who want to gain comprehensive knowledge in fire safety and for those responsible for acting as fire wardens in their workplace. It provides participants with the necessary skills to implement proactive fire prevention measures\, ensure occupant safety during a fire\, and manage building evacuation procedures. The course is also suitable for individuals renewing an existing qualification in fire safety or fire warden duties. \nCourse Content:\nParticipants will cover essential fire safety topics\, including: \n\nUnderstanding fire risks and prevention measures at home and in the workplace\nIdentifying potential fire hazards and implementing safety precautions\nUsing fire safety equipment such as fire extinguishers\nResponding to a fire outbreak and taking appropriate actions\nManaging evacuations and ensuring occupant safety during emergencies\nFire warden responsibilities\, including the maintenance of fire safety procedures and assisting in fire drills\n\nValidity: The certification is valid for 3 years. \nCourse Assessment: At the end of the course\, participants will complete a multiple-choice assessment to ensure their understanding of the course material. The tutor will provide feedback to address any gaps in knowledge. \nCertification: Upon successful completion of the course\, participants will receive a Fire Safety & Fire Warden Certificate\, valid for 3 years.
URL:https://healthandsafety.com.mt/schedule/basic-fire-safety-including-fire-warden-course-3/
LOCATION:St Bernard’s Safety Training Centre\, St. Bernard's Health and Safety Centre\, No 11\, Left Entrance\, Triq tal-Hriereb. Msida\, Malta\, Msida\, Malta
CATEGORIES:Fire Safety
ATTACH;FMTTYPE=image/jpeg:https://healthandsafety.com.mt/wp-content/uploads/2024/09/fireman-fire-fighting-evacuation-fire-drill-simulation-training-safety-condominium-factory-scaled-1.jpg
ORGANIZER;CN="St Bernard's Safety Training Centre":MAILTO:safetytrainingmalta@gmail.com
END:VEVENT
BEGIN:VEVENT
DTSTART;TZID=Europe/London:20250425T093000
DTEND;TZID=Europe/London:20250425T130000
DTSTAMP:20260424T005913
CREATED:20250207T123519Z
LAST-MODIFIED:20250328T084605Z
UID:40682-1745573400-1745586000@healthandsafety.com.mt
SUMMARY:Basic Fire Safety including Fire Warden
DESCRIPTION:Suitability: This course is designed for individuals who want to gain comprehensive knowledge in fire safety and for those responsible for acting as fire wardens in their workplace. It provides participants with the necessary skills to implement proactive fire prevention measures\, ensure occupant safety during a fire\, and manage building evacuation procedures. The course is also suitable for individuals renewing an existing qualification in fire safety or fire warden duties. \nCourse Content:\nParticipants will cover essential fire safety topics\, including: \n\nUnderstanding fire risks and prevention measures at home and in the workplace\nIdentifying potential fire hazards and implementing safety precautions\nUsing fire safety equipment such as fire extinguishers\nResponding to a fire outbreak and taking appropriate actions\nManaging evacuations and ensuring occupant safety during emergencies\nFire warden responsibilities\, including the maintenance of fire safety procedures and assisting in fire drills\n\nValidity: The certification is valid for 3 years. \nCourse Assessment: At the end of the course\, participants will complete a multiple-choice assessment to ensure their understanding of the course material. The tutor will provide feedback to address any gaps in knowledge. \nCertification: Upon successful completion of the course\, participants will receive a Fire Safety & Fire Warden Certificate\, valid for 3 years.
URL:https://healthandsafety.com.mt/schedule/basic-fire-safety-including-fire-warden-3/
LOCATION:St Bernard’s Safety Training Centre\, St. Bernard's Health and Safety Centre\, No 11\, Left Entrance\, Triq tal-Hriereb. Msida\, Malta\, Msida\, Malta
CATEGORIES:Fire Safety
ATTACH;FMTTYPE=image/jpeg:https://healthandsafety.com.mt/wp-content/uploads/2022/01/firesafety.jpg
ORGANIZER;CN="St Bernard's Safety Training Centre":MAILTO:safetytrainingmalta@gmail.com
END:VEVENT
BEGIN:VEVENT
DTSTART;TZID=Europe/London:20250430T093000
DTEND;TZID=Europe/London:20250430T123000
DTSTAMP:20260424T005913
CREATED:20250409T080819Z
LAST-MODIFIED:20250409T085633Z
UID:47311-1746005400-1746016200@healthandsafety.com.mt
SUMMARY:Basic Fire Safety inc Fire Warden Course
DESCRIPTION:
URL:https://healthandsafety.com.mt/schedule/basic-fire-safety-inc-fire-warden-course/
LOCATION:St Bernard’s Safety Training Centre\, St. Bernard's Health and Safety Centre\, No 11\, Left Entrance\, Triq tal-Hriereb. Msida\, Malta\, Msida\, Malta
ORGANIZER;CN="St Bernard's Safety Training Centre":MAILTO:safetytrainingmalta@gmail.com
END:VEVENT
END:VCALENDAR