BEGIN:VCALENDAR
VERSION:2.0
PRODID:-//St. Bernard&#039;s Health and Safety Institute - ECPv6.15.17.1//NONSGML v1.0//EN
CALSCALE:GREGORIAN
METHOD:PUBLISH
X-WR-CALNAME:St. Bernard&#039;s Health and Safety Institute
X-ORIGINAL-URL:https://healthandsafety.com.mt
X-WR-CALDESC:Events for St. Bernard&#039;s Health and Safety Institute
REFRESH-INTERVAL;VALUE=DURATION:PT1H
X-Robots-Tag:noindex
X-PUBLISHED-TTL:PT1H
BEGIN:VTIMEZONE
TZID:Europe/London
BEGIN:DAYLIGHT
TZOFFSETFROM:+0000
TZOFFSETTO:+0100
TZNAME:BST
DTSTART:20210328T010000
END:DAYLIGHT
BEGIN:STANDARD
TZOFFSETFROM:+0100
TZOFFSETTO:+0000
TZNAME:GMT
DTSTART:20211031T010000
END:STANDARD
BEGIN:DAYLIGHT
TZOFFSETFROM:+0000
TZOFFSETTO:+0100
TZNAME:BST
DTSTART:20220327T010000
END:DAYLIGHT
BEGIN:STANDARD
TZOFFSETFROM:+0100
TZOFFSETTO:+0000
TZNAME:GMT
DTSTART:20221030T010000
END:STANDARD
BEGIN:DAYLIGHT
TZOFFSETFROM:+0000
TZOFFSETTO:+0100
TZNAME:BST
DTSTART:20230326T010000
END:DAYLIGHT
BEGIN:STANDARD
TZOFFSETFROM:+0100
TZOFFSETTO:+0000
TZNAME:GMT
DTSTART:20231029T010000
END:STANDARD
END:VTIMEZONE
BEGIN:VEVENT
DTSTART;TZID=Europe/London:20220324T130000
DTEND;TZID=Europe/London:20220324T173000
DTSTAMP:20260423T072127
CREATED:20220119T105259Z
LAST-MODIFIED:20220119T105859Z
UID:9974-1648126800-1648143000@healthandsafety.com.mt
SUMMARY:First Aid - Msida - English Speaking
DESCRIPTION:The purpose of this course is to help participants identify and eliminate potentially hazardous conditions in their environment\, recognize emergencies\, and make appropriate decisions for first aid care. It teaches skills that participants need to know in order to provide immediate care for a suddenly ill or injured person until more advanced medical care arrives to take over.\nWho can take this course? \n Parents\, Childcarers\, the General Public\n Cannot attend? Suggest a time preference by sending us an email or private message! \nClick on the following link to view details and book your place!\nhttps://docs.google.com/…/1plL7ZXf_vsuPdkuj…/edit \n info@healthandsafety.com.mt\n 9924 8968 to book your place
URL:https://healthandsafety.com.mt/schedule/first-aid-msida-english-speaking/
END:VEVENT
END:VCALENDAR