BEGIN:VCALENDAR
VERSION:2.0
PRODID:-//St. Bernard&#039;s Health and Safety Institute - ECPv6.15.17.1//NONSGML v1.0//EN
CALSCALE:GREGORIAN
METHOD:PUBLISH
X-ORIGINAL-URL:https://healthandsafety.com.mt
X-WR-CALDESC:Events for St. Bernard&#039;s Health and Safety Institute
REFRESH-INTERVAL;VALUE=DURATION:PT1H
X-Robots-Tag:noindex
X-PUBLISHED-TTL:PT1H
BEGIN:VTIMEZONE
TZID:Europe/London
BEGIN:DAYLIGHT
TZOFFSETFROM:+0000
TZOFFSETTO:+0100
TZNAME:BST
DTSTART:20220327T010000
END:DAYLIGHT
BEGIN:STANDARD
TZOFFSETFROM:+0100
TZOFFSETTO:+0000
TZNAME:GMT
DTSTART:20221030T010000
END:STANDARD
BEGIN:DAYLIGHT
TZOFFSETFROM:+0000
TZOFFSETTO:+0100
TZNAME:BST
DTSTART:20230326T010000
END:DAYLIGHT
BEGIN:STANDARD
TZOFFSETFROM:+0100
TZOFFSETTO:+0000
TZNAME:GMT
DTSTART:20231029T010000
END:STANDARD
BEGIN:DAYLIGHT
TZOFFSETFROM:+0000
TZOFFSETTO:+0100
TZNAME:BST
DTSTART:20240331T010000
END:DAYLIGHT
BEGIN:STANDARD
TZOFFSETFROM:+0100
TZOFFSETTO:+0000
TZNAME:GMT
DTSTART:20241027T010000
END:STANDARD
END:VTIMEZONE
BEGIN:VEVENT
DTSTART;TZID=Europe/London:20230318T093000
DTEND;TZID=Europe/London:20230318T140000
DTSTAMP:20260424T025110
CREATED:20230131T100218Z
LAST-MODIFIED:20230131T100218Z
UID:13973-1679131800-1679148000@healthandsafety.com.mt
SUMMARY:Basic and Paediatric First Aid
DESCRIPTION:For bookings and further information call us on 99248968 or email: info@healthandsafety.com.mt \nTraining can be held privately at clients premises.
URL:https://healthandsafety.com.mt/schedule/basic-and-paediatric-first-aid/
END:VEVENT
END:VCALENDAR