BEGIN:VCALENDAR
VERSION:2.0
PRODID:-//St. Bernard&#039;s Health and Safety Institute - ECPv6.15.17.1//NONSGML v1.0//EN
CALSCALE:GREGORIAN
METHOD:PUBLISH
X-WR-CALNAME:St. Bernard&#039;s Health and Safety Institute
X-ORIGINAL-URL:https://healthandsafety.com.mt
X-WR-CALDESC:Events for St. Bernard&#039;s Health and Safety Institute
REFRESH-INTERVAL;VALUE=DURATION:PT1H
X-Robots-Tag:noindex
X-PUBLISHED-TTL:PT1H
BEGIN:VTIMEZONE
TZID:Europe/London
BEGIN:DAYLIGHT
TZOFFSETFROM:+0000
TZOFFSETTO:+0100
TZNAME:BST
DTSTART:20220327T010000
END:DAYLIGHT
BEGIN:STANDARD
TZOFFSETFROM:+0100
TZOFFSETTO:+0000
TZNAME:GMT
DTSTART:20221030T010000
END:STANDARD
BEGIN:DAYLIGHT
TZOFFSETFROM:+0000
TZOFFSETTO:+0100
TZNAME:BST
DTSTART:20230326T010000
END:DAYLIGHT
BEGIN:STANDARD
TZOFFSETFROM:+0100
TZOFFSETTO:+0000
TZNAME:GMT
DTSTART:20231029T010000
END:STANDARD
BEGIN:DAYLIGHT
TZOFFSETFROM:+0000
TZOFFSETTO:+0100
TZNAME:BST
DTSTART:20240331T010000
END:DAYLIGHT
BEGIN:STANDARD
TZOFFSETFROM:+0100
TZOFFSETTO:+0000
TZNAME:GMT
DTSTART:20241027T010000
END:STANDARD
END:VTIMEZONE
BEGIN:VEVENT
DTSTART;TZID=Europe/London:20230701T130000
DTEND;TZID=Europe/London:20230701T160000
DTSTAMP:20260424T001712
CREATED:20230520T123927Z
LAST-MODIFIED:20230520T124128Z
UID:15060-1688216400-1688227200@healthandsafety.com.mt
SUMMARY:Paediatric First Aid
DESCRIPTION:Call: 99248968 \nEmail: info@healthandsafety.com.mt for bookings and further information \nDiscounts apply for group bookings \nTraining can be held privately in-house
URL:https://healthandsafety.com.mt/schedule/paediatric-first-aid-3/
END:VEVENT
END:VCALENDAR